BEGIN:VCALENDAR
VERSION:2.0
PRODID:-//Moviment Graffitti - ECPv6.15.20//NONSGML v1.0//EN
CALSCALE:GREGORIAN
METHOD:PUBLISH
X-ORIGINAL-URL:https://mail.movimentgraffitti.org
X-WR-CALDESC:Events for Moviment Graffitti
REFRESH-INTERVAL;VALUE=DURATION:PT1H
X-Robots-Tag:noindex
X-PUBLISHED-TTL:PT1H
BEGIN:VTIMEZONE
TZID:Europe/Malta
BEGIN:DAYLIGHT
TZOFFSETFROM:+0100
TZOFFSETTO:+0200
TZNAME:CEST
DTSTART:20250330T010000
END:DAYLIGHT
BEGIN:STANDARD
TZOFFSETFROM:+0200
TZOFFSETTO:+0100
TZNAME:CET
DTSTART:20251026T010000
END:STANDARD
BEGIN:DAYLIGHT
TZOFFSETFROM:+0100
TZOFFSETTO:+0200
TZNAME:CEST
DTSTART:20260329T010000
END:DAYLIGHT
BEGIN:STANDARD
TZOFFSETFROM:+0200
TZOFFSETTO:+0100
TZNAME:CET
DTSTART:20261025T010000
END:STANDARD
BEGIN:DAYLIGHT
TZOFFSETFROM:+0100
TZOFFSETTO:+0200
TZNAME:CEST
DTSTART:20270328T010000
END:DAYLIGHT
BEGIN:STANDARD
TZOFFSETFROM:+0200
TZOFFSETTO:+0100
TZNAME:CET
DTSTART:20271031T010000
END:STANDARD
END:VTIMEZONE
BEGIN:VEVENT
DTSTART;TZID=Europe/Malta:20260122T183000
DTEND;TZID=Europe/Malta:20260122T203000
DTSTAMP:20260423T215600
CREATED:20260123T095911Z
LAST-MODIFIED:20260123T095911Z
UID:8369-1769106600-1769113800@mail.movimentgraffitti.org
SUMMARY:Annual General Meeting - Moviment Graffitti
DESCRIPTION:This year’s Annual General Meeting will take place on Thursday 22nd January at 6:30pm\, at our premises at 67\, Strait Street\, Valletta. \nAll Moviment Graffitti members and the general public are invited to participate at the meeting\, where we will present an administrative review\, looking back on 2025 and sharing our plans for the upcoming year. \nThis is your opportunity to discuss ideas and present suggestions for the future\, while sharing input on our direction. \nThe meeting is expected to take one hour and a half and snacks will be available. \nSee you there!
URL:https://mail.movimentgraffitti.org/event/annual-general-meeting-moviment-graffitti/
LOCATION:Moviment Graffitti Premises\, 67\, Strait Street\, Valletta\, Malta
CATEGORIES:Discussion / Presentation
ATTACH;FMTTYPE=image/jpeg:https://mail.movimentgraffitti.org/wp-content/uploads/2026/01/mg-agm-2026.jpg
END:VEVENT
BEGIN:VEVENT
DTSTART;TZID=Europe/Malta:20260127T183000
DTEND;TZID=Europe/Malta:20260127T203000
DTSTAMP:20260423T215600
CREATED:20260123T095732Z
LAST-MODIFIED:20260213T141442Z
UID:8366-1769538600-1769545800@mail.movimentgraffitti.org
SUMMARY:Free Film Screening: Cloudburst
DESCRIPTION:For our first film screening of the year\, we’re watching the 2011 comedy-drama movie ‘Cloudburst’. \nA lesbian couple escape from their nursing home and head up to Canada to get married. Along the way\, they pick up a young\, male hitchhiker. \nScreening starts at 6:30pm\, and runtime is 93 minutes. \nThe film will be subtitled in English. \nAccessibility: The venue has a flight of stairs on entrance- need help coming up? Drop us a message/call on +356 99255559 and we’ll help you up (and down!) the stairs. \nFree screening\, no registration needed!
URL:https://mail.movimentgraffitti.org/event/free-film-screening-cloudburst/
LOCATION:Moviment Graffitti Premises\, 67\, Strait Street\, Valletta\, Malta
CATEGORIES:Discussion / Presentation,LGBTIQ+ / Pride
ATTACH;FMTTYPE=image/jpeg:https://mail.movimentgraffitti.org/wp-content/uploads/2026/01/film-screening-cloudburst.jpg
END:VEVENT
END:VCALENDAR