BEGIN:VCALENDAR
VERSION:2.0
PRODID:-//Moviment Graffitti - ECPv6.15.20//NONSGML v1.0//EN
CALSCALE:GREGORIAN
METHOD:PUBLISH
X-WR-CALNAME:Moviment Graffitti
X-ORIGINAL-URL:https://mail.movimentgraffitti.org
X-WR-CALDESC:Events for Moviment Graffitti
REFRESH-INTERVAL;VALUE=DURATION:PT1H
X-Robots-Tag:noindex
X-PUBLISHED-TTL:PT1H
BEGIN:VTIMEZONE
TZID:Europe/Malta
BEGIN:DAYLIGHT
TZOFFSETFROM:+0100
TZOFFSETTO:+0200
TZNAME:CEST
DTSTART:20240331T010000
END:DAYLIGHT
BEGIN:STANDARD
TZOFFSETFROM:+0200
TZOFFSETTO:+0100
TZNAME:CET
DTSTART:20241027T010000
END:STANDARD
BEGIN:DAYLIGHT
TZOFFSETFROM:+0100
TZOFFSETTO:+0200
TZNAME:CEST
DTSTART:20250330T010000
END:DAYLIGHT
BEGIN:STANDARD
TZOFFSETFROM:+0200
TZOFFSETTO:+0100
TZNAME:CET
DTSTART:20251026T010000
END:STANDARD
BEGIN:DAYLIGHT
TZOFFSETFROM:+0100
TZOFFSETTO:+0200
TZNAME:CEST
DTSTART:20260329T010000
END:DAYLIGHT
BEGIN:STANDARD
TZOFFSETFROM:+0200
TZOFFSETTO:+0100
TZNAME:CET
DTSTART:20261025T010000
END:STANDARD
END:VTIMEZONE
BEGIN:VEVENT
DTSTART;TZID=Europe/Malta:20251205T190000
DTEND;TZID=Europe/Malta:20251205T210000
DTSTAMP:20260423T231709
CREATED:20251124T153529Z
LAST-MODIFIED:20260331T090518Z
UID:8310-1764961200-1764968400@mail.movimentgraffitti.org
SUMMARY:Film Screening: No Other Land
DESCRIPTION:Film Screening: No Other Land \nIntroduced by the testimony of Suheir T. from the West Bank \nOn Friday 5 December\, we will meet at the Moviment Graffitti premises at 67 Strait Street\, Valletta\, for the screening of the film No Other Land. The film offers a direct testimony of the challenges faced by Palestinians living in Masafer Yatta in the South Hebron Hills of the occupied West Bank. \nThrough the lens of a unique filmmaking collective\, it documents the relentless struggle of Palestinian communities facing systematic harassment\, home demolitions\, and violent displacement by Israeli forces. More than just a chronicle of loss\, No Other Land is a profound story of sumud (steadfastness) and a testament to the human spirit’s resilience in the face of erasure\, capturing both the brutality of occupation and the bonds of solidarity that form in its shadow. \nThe event will be introduced by a testimony from Suheir T.\, who will share her account from Palestine. Suheir is the mental-health adviser for an organisation that provides mental-health and health services to Palestinians in the West Bank and Gaza Strip. \nWhile the world’s attention may drift with headlines about ceasefires in Gaza\, this film and the testimonies coming from Palestine compel us to confront a different\, ongoing reality. The violence of displacement is a daily\, grinding experience for Palestinians living under occupation\, particularly in Area C of the West Bank\, which is under full Israeli military control. Communities are forcibly displaced while facing daily settler and military harassment\, and their homes and schools are bulldozed\, scattering families into the desert. \nThese are not isolated events but part of a systematic pattern to ethnically cleanse the West Bank and Gaza of their Palestinian populations. In this context\, as an act of awareness\, by bearing witness to these stories we move beyond the headlines to understand the human cost of this conflict. \nIndeed\, it is through this understanding that meaningful advocacy can be built — advocacy that insists there can be no peace without justice\, and no justice without a Palestine free from the river to the sea.
URL:https://mail.movimentgraffitti.org/event/film-screening-no-other-land/
LOCATION:Moviment Graffitti Premises\, 67\, Strait Street\, Valletta\, Malta
CATEGORIES:Discussion / Presentation,International Solidarity
ATTACH;FMTTYPE=image/jpeg:https://mail.movimentgraffitti.org/wp-content/uploads/2025/11/film-screening-no-other-land-20251105.jpg
END:VEVENT
BEGIN:VEVENT
DTSTART;TZID=Europe/Malta:20251210T180000
DTEND;TZID=Europe/Malta:20251210T200000
DTSTAMP:20260423T231709
CREATED:20251201T090349Z
LAST-MODIFIED:20251201T090349Z
UID:8329-1765389600-1765396800@mail.movimentgraffitti.org
SUMMARY:Kitba għat-tfal u l-attiviżmu ma' David Aloisio
DESCRIPTION:Ingħaqdu magħna l-Erbgħa\, 10 ta’ Diċembru\, fis-6pm\, ġewwa l-premises tal-Moviment Graffitti għal diskussjoni dwar il-kotba tat-tfal u l-attiviżmu. \nDavid Aloisio se jkun qiegħed jaqsam xi fti ħsibijiet dwar dawn is-suġġetti\, anke permezz ta’ eżempji mill-ktieb ġdid tiegħu “Milied Aħdar f’Ħal-Miżwed” ippubblikat minn Horizons Malta. \nInħeġġukom tattendu għal din l-attivita’ letterarja.
URL:https://mail.movimentgraffitti.org/event/kitba-ghat-tfal-u-l-attivizmu-ma-david-aloisio/
LOCATION:Moviment Graffitti Premises\, 67\, Strait Street\, Valletta\, Malta
CATEGORIES:Discussion / Presentation
ATTACH;FMTTYPE=image/jpeg:https://mail.movimentgraffitti.org/wp-content/uploads/2025/12/david-aloisio-10dec.jpg
END:VEVENT
BEGIN:VEVENT
DTSTART;TZID=Europe/Malta:20251220T143000
DTEND;TZID=Europe/Malta:20251220T163000
DTSTAMP:20260423T231709
CREATED:20260123T095433Z
LAST-MODIFIED:20260123T095637Z
UID:8361-1766241000-1766248200@mail.movimentgraffitti.org
SUMMARY:March of Solidarity for Peace
DESCRIPTION:“The world must not be fooled. Israel’s genocide is not over\,” said Agnes Callamard\, secretary-general of Amnesty International. \nCome to stand in solidarity with the peoples of Palestine\, Lebanon\, and Syria — and to demand action:– An end to Israel’s illegal occupation and apartheid.\n– Full military embargo of Israel– Sanctions on Israel \n𝗝𝗼𝗶𝗻 𝘂𝘀 𝗼𝗻 𝟮𝟬𝘁𝗵 𝗗𝗲𝗰𝗲𝗺𝗯𝗲𝗿 𝟮𝟬𝟮𝟱 𝗮𝘁 𝟮.𝟯𝟬𝗽𝗺 𝗮𝘁 𝗣𝗮𝗿𝗹𝗶𝗮𝗺𝗲𝗻𝘁 𝗦𝗾𝘂𝗮𝗿𝗲\, 𝗩𝗮𝗹𝗹𝗲𝘁𝘁𝗮 to send a clear message\, that the people of Malta stand with international law\, human rights\, and justice. \n𝗕𝗿𝗶𝗻𝗴 𝘆𝗼𝘂𝗿 𝗳𝗹𝗮𝗴𝘀\, 𝘆𝗼𝘂𝗿 𝘃𝗼𝗶𝗰𝗲\, 𝗮𝗻𝗱 𝘆𝗼𝘂𝗿 𝗰𝗼𝗻𝘃𝗶𝗰𝘁𝗶𝗼𝗻. 𝗟𝗲𝘁’𝘀 𝘀𝗵𝗼𝘄 𝘁𝗵𝗲 𝘄𝗼𝗿𝗹𝗱 𝘁𝗵𝗮𝘁 𝗠𝗮𝗹𝘁𝗮 𝗰𝗵𝗼𝗼𝘀𝗲𝘀 𝗣𝗘𝗔𝗖𝗘. \nShare this. Tell your friends. Be there!
URL:https://mail.movimentgraffitti.org/event/march-of-solidarity-for-peace/
LOCATION:Parliament Square\, Valletta City Gate\, Valletta\, Malta
CATEGORIES:International Solidarity,Protest / March / Demonstration
ATTACH;FMTTYPE=image/jpeg:https://mail.movimentgraffitti.org/wp-content/uploads/2026/01/palestine-20-dec.jpg
END:VEVENT
END:VCALENDAR