BEGIN:VCALENDAR
VERSION:2.0
PRODID:-//Moviment Graffitti - ECPv6.15.20//NONSGML v1.0//EN
CALSCALE:GREGORIAN
METHOD:PUBLISH
X-WR-CALNAME:Moviment Graffitti
X-ORIGINAL-URL:https://mail.movimentgraffitti.org
X-WR-CALDESC:Events for Moviment Graffitti
REFRESH-INTERVAL;VALUE=DURATION:PT1H
X-Robots-Tag:noindex
X-PUBLISHED-TTL:PT1H
BEGIN:VTIMEZONE
TZID:Europe/Malta
BEGIN:DAYLIGHT
TZOFFSETFROM:+0100
TZOFFSETTO:+0200
TZNAME:CEST
DTSTART:20240331T010000
END:DAYLIGHT
BEGIN:STANDARD
TZOFFSETFROM:+0200
TZOFFSETTO:+0100
TZNAME:CET
DTSTART:20241027T010000
END:STANDARD
BEGIN:DAYLIGHT
TZOFFSETFROM:+0100
TZOFFSETTO:+0200
TZNAME:CEST
DTSTART:20250330T010000
END:DAYLIGHT
BEGIN:STANDARD
TZOFFSETFROM:+0200
TZOFFSETTO:+0100
TZNAME:CET
DTSTART:20251026T010000
END:STANDARD
BEGIN:DAYLIGHT
TZOFFSETFROM:+0100
TZOFFSETTO:+0200
TZNAME:CEST
DTSTART:20260329T010000
END:DAYLIGHT
BEGIN:STANDARD
TZOFFSETFROM:+0200
TZOFFSETTO:+0100
TZNAME:CET
DTSTART:20261025T010000
END:STANDARD
END:VTIMEZONE
BEGIN:VEVENT
DTSTART;TZID=Europe/Malta:20251106T183000
DTEND;TZID=Europe/Malta:20251106T210000
DTSTAMP:20260424T004950
CREATED:20251020T150343Z
LAST-MODIFIED:20251020T150343Z
UID:8240-1762453800-1762462800@mail.movimentgraffitti.org
SUMMARY:Film Screening: Women Talking
DESCRIPTION:Join us Thursday 6th November for the Film Screening: Women Talking \nThe 2022 film\, directed by Sarah Polley\, is a powerful adaptation of Miriam Toews’ novel inspired by true events. It tells the story of a group of women in an isolated religious colony as they grapple with the aftermath of sexual violence\, and come together to decide their future\, their faith\, and their freedom. \nWomen Talking is a moving reflection on gender-based violence\, solidarity\, and the collective courage it takes to resist oppression – themes that remain painfully relevant today. \nThis screening forms part of the lead-up to the International Day for the Elimination of Violence Against Women on 25th November\, a global day of action and awareness. \nThe screening will be followed by an open discussion\, and entrance is free. \nThursday 6th November at 6:30pm\, at Moviment Graffitti premises (67 Strait Street\, Valletta) \nAccessibility: Please note that the venue has stairs.
URL:https://mail.movimentgraffitti.org/event/film-screening-women-talking/
LOCATION:Moviment Graffitti Premises\, 67\, Strait Street\, Valletta\, Malta
CATEGORIES:Discussion / Presentation,Feminism / Women's Rights,Social Events
ATTACH;FMTTYPE=image/jpeg:https://mail.movimentgraffitti.org/wp-content/uploads/2025/10/women-talking.jpg
END:VEVENT
BEGIN:VEVENT
DTSTART;TZID=Europe/Malta:20251120T180000
DTEND;TZID=Europe/Malta:20251120T200000
DTSTAMP:20260424T004950
CREATED:20251107T112851Z
LAST-MODIFIED:20251120T154407Z
UID:8277-1763661600-1763668800@mail.movimentgraffitti.org
SUMMARY:Screening of C'è Ancora Domani
DESCRIPTION:Join us on Thursday 20th November for the screening of this beautiful 2023 film C’è Ancora Domani\, by Paola Cortellesi which is being co-organised by Moviment Graffitti in collaboration with the Department of Gender and Sexualities of the University of Malta. \nThe film will start at 6.00 p.m. at Moviment Graffitti’s premises (67 Strait Street\, Valletta). \nThe story takes place in post war Rome\, in May 1946. Italian families are struggling with the afterwar poverty\, the country is waiting to choose between remaining a monarchy or becoming a republic and to vote for the election of the Constituent Assembly. Women are voting for the very first time. In this movie\, we follow the everyday life of Delia\, a working-class woman\, mother of three children and wife of Ivano. Her life is not easy .Between many jobs to earn some money\, she faces the physical and verbal abuse of her husband and strives to give her daughter a better future. The movie shows a reality that seems far away from us\, but as we all know systemic violence against women is still present in many different shapes. \nThis activity is being organised to mark the International Day for the Elimination of Violence Against Women which falls on the 25th November. The Screening will be followed by an open discussion introduced by Professor Marceline Naudi. \nThe event is free of charge.
URL:https://mail.movimentgraffitti.org/event/screening-of-ce-ancora-domani/
LOCATION:Moviment Graffitti Premises\, 67\, Strait Street\, Valletta\, Malta
CATEGORIES:Discussion / Presentation,Feminism / Women's Rights
ATTACH;FMTTYPE=image/jpeg:https://mail.movimentgraffitti.org/wp-content/uploads/2025/11/ce-ancora-domani-screening.jpg
END:VEVENT
BEGIN:VEVENT
DTSTART;TZID=Europe/Malta:20251123T160000
DTEND;TZID=Europe/Malta:20251123T180000
DTSTAMP:20260424T004950
CREATED:20251107T112550Z
LAST-MODIFIED:20251107T112917Z
UID:8274-1763913600-1763920800@mail.movimentgraffitti.org
SUMMARY:One Voice Against Patriarchal Violence
DESCRIPTION:To mark the International Day for the Elimination of Violence against Women\, Moviment Graffitti invites the public to a demonstration on Sunday 23rd November at 4pm in front of Law Courts\, Valletta. \nWe want to underline the culture of verbal violence permeating our society on a daily basis\, from the hateful and sexist comments on social media to cat calling and disempowering insults. We want to give visibility to the violence\, physical and psychological\, happening inside houses\, behind closed doors\, in workplaces\, in schools\, and in other institutions. We want to remember the victims of all the femicides that happened in the past years in Malta\, and to say their names. \nWe invite the public to join us in the communal fight against patriarchal violence and to empower us to bring change. Join us with your placards and loud voices\, so that we will be one united strong voice against patriarchal violence! \n****** \nVuċi Waħda Kontra l-Vjolenza Patrijarkali\nBiex infakkru l-Jum Internazzjonali għall-Eliminazzjoni tal-Vjolenza kontra n-Nisa\, il-Moviment Graffitti qed jistieden lill-pubbliku għal dimostrazzjoni nhar il-Ħadd 23 ta’ Novembru fl-4.00 ta’ waranofsinhar quddiem il-Qorti fil-Belt Valletta. \nIrridu nenfasizzaw il-kultura tal-vjolenza verbali li tinxtered fis-soċjetà tagħna ta’ kuljum — mill-kummenti ta’ mibegħda u sessisti fuq il-midja soċjali\, sal-“cat calling” u l-insulti li jnaqqsu d-dinjità tan-nisa. Irridu nagħtu viżibilità lill-vjolenza\, kemm fiżika kif ukoll psikoloġika\, li qed isseħħ ġewwa d-djar\, wara bibien magħluqa\, fil-postijiet tax-xogħol\, fl-iskejjel u f’istituzzjonijiet oħra. Irridu nfakkru lill-vittmi tal-femmiċidji kollha li seħħew f’dawn l-aħħar snin f’Malta\, u ngħidu isimhom. \nNistednu lill-pubbliku biex jingħaqad magħna fil-ġlieda komuni kontra l-vjolenza patrijarkali u biex flimkien nissaħħu u nġibu l-bidla. Ejjew bil-kartelluni u b’leħinkom għoli\, biex inkunu leħen wieħed\, qawwi u magħqud kontra l-vjolenza patrijarkali!
URL:https://mail.movimentgraffitti.org/event/one-voice-against-patriarchal-violence/
LOCATION:Law Courts\, VGX6+9RQ\, Republic Street\, Valletta\, Malta
CATEGORIES:Feminism / Women's Rights,Protest / March / Demonstration
ATTACH;FMTTYPE=image/jpeg:https://mail.movimentgraffitti.org/wp-content/uploads/2025/11/vuci-wahda-vjolenza-patrijarkali.jpg
END:VEVENT
BEGIN:VEVENT
DTSTART;TZID=Europe/Malta:20251126T153000
DTEND;TZID=Europe/Malta:20251126T170000
DTSTAMP:20260424T004950
CREATED:20251124T153242Z
LAST-MODIFIED:20251124T153313Z
UID:8308-1764171000-1764176400@mail.movimentgraffitti.org
SUMMARY:An Introduction to Studenti Graffitti
DESCRIPTION:We’re excited to announce our next Studenti Graffitti event for the semester! \nWe’ll be having a get-together on the University campus on Wednesday 26th November at 3:30pm\, in the KSU-PwC Common Room (next to the canteen). \nThis is the space to get to know us\, learn about Studenti Graffitti\, and connect with others interested in student activism. If you spoke to us at Freshers already or are simply interested in student activism\, this is your chance! \nThere will be snacks\, some games and a casual vibe. Feel free to bring some snacks to share! \nSee you there!
URL:https://mail.movimentgraffitti.org/event/an-introduction-to-studenti-graffitti/
LOCATION:KSU Common Room\, University of Malta\, Msida\, Malta
CATEGORIES:Discussion / Presentation,Studenti Graffitti
ATTACH;FMTTYPE=image/jpeg:https://mail.movimentgraffitti.org/wp-content/uploads/2025/11/intro-studenti-graffitti.jpg
END:VEVENT
BEGIN:VEVENT
DTSTART;TZID=Europe/Malta:20251130T093000
DTEND;TZID=Europe/Malta:20251130T120000
DTSTAMP:20260424T004950
CREATED:20251124T153430Z
LAST-MODIFIED:20251124T153430Z
UID:8309-1764495000-1764504000@mail.movimentgraffitti.org
SUMMARY:Tour Ġustizzja għal Artna - Birżebbuġa
DESCRIPTION:L-ewwel waqfa tat-Tour Ġustizzja għal Artna ser tkun ġewwa l-pjazza ta’ Birżebbuġa\, nhar il-Ħadd 30 ta’ Novembru\, mid-9.30am sa nofsinhar. \nFlimkien mal-Għaqda Storja u Kultura Birżebbuġa\, ser ikollna stand b’informazzjoni dwar il-pakkett ta’ liġijiet fl-ippjanar li\, jekk jgħaddi mill-Parlament\, se jwassal għal ħerba ambjentali u soċjali bla preċedent. L-abbozzi ta’ liġi u l-avviżi legali ppreżentati mill-Gvern qed ifittxu li jżarmaw il-protezzjonijiet kollha li jeżistu sabiex jagħtu poter bla qies lill-iżviluppaturi. \nInħeġġukom iżżuru l-istand tagħna ħalli jkollna l-opportunità nitkellmu magħkom dwar l-impatt ta’ dawn il-liġijiet tal-biża’\, fuq Malta inġenerali u fuq il-lokalità ta’ Birżebbuġa b’mod partikolari\, kif ukoll sabiex tgħaddulna l-kummenti u s-suġġerimenti tagħkom. \nNarawkom! \n***** \nThe first stop of the Tour Ġustizzja għal Artna will be in the Birżebbuġa square\, on Sunday 30th November\, from 9:30am until noon. \nTogether with Għaqda Storja u Kultura Birżebbuġa\, we will have a stand with information about the planning laws which\, if enacted by Parliament\, will lead to unprecedented environmental and social destruction. The draft laws and legal notices presented by the Government seek to dismantle all existing protections in order to grant developers unlimited power. \nWe encourage you to visit our stand so that we may have the opportunity to speak with you about the impact of these alarming laws on Malta in general and on the locality of Birżebbuġa in particular\, as well as to receive your comments and suggestions. \nSee you there!
URL:https://mail.movimentgraffitti.org/event/tour-gustizzja-ghal-artna-birzebbuga/
LOCATION:Misraħ il-Knisja\, Birżebbuġa\, Birżebbuġa Parish Church\, Birżebbuġa\, Malta
CATEGORIES:Defending Public Spaces & The Environment,Discussion / Presentation
ATTACH;FMTTYPE=image/jpeg:https://mail.movimentgraffitti.org/wp-content/uploads/2025/11/tour-gustizzja-artna-bbuga.jpg
END:VEVENT
BEGIN:VEVENT
DTSTART;TZID=Europe/Malta:20251130T143000
DTEND;TZID=Europe/Malta:20251130T160000
DTSTAMP:20260424T004950
CREATED:20251124T181138Z
LAST-MODIFIED:20251124T181150Z
UID:8317-1764513000-1764518400@mail.movimentgraffitti.org
SUMMARY:World AIDS Day: Silence = Death
DESCRIPTION:This Sunday\, 30th November at 2.30 pm at Freedom Square in front of Parliament\, a coalition of organisations will be marking World AIDS day which falls on Monday with a silent protest. We will meet in front of parliament to protest against the indifference\, the silence\, the stigma and the misconceptions that still surround living with HIV. We will protest silently with red cloths/ribbons on our mouths\, eyes or ears to symbolise the silence surrounding HIV and the Government’s silence and inaction regarding the promise of free PrEP and PEP\, which are essential medications in stemming the tide of new HIV diagnoses\, continues to harm at risk communities. The silence is deafening. This needs to stop. \nJoin us on Sunday\, bring your placards and your red cloths and ribbons to raise awareness about HIV silence\, stigma and inaction. We ask people to wear red material around their mouths\, eyes and/or ears\, to show that just because one ignores HIV\, doesn’t mean it doesn’t exist. \nIn Malta\, HIV is now a chronic manageable condition and not the death sentence it once was\, however there are still issues that negatively impact the lives of people living with HIV and those around them. People living with HIV often carry the burden on their own because the huge stigma keeps them from sharing their status with others. Therefore\, they lack the necessary support structures that would help them cope better with HIV. There are still many misconceptions about HIV\, even though today\, HIV medication suppresses the virus to the point that it cannot be transmitted to others\, what we call U=U\, Undetectable = Untransmittable. \nHIV healthcare has improved greatly. However\, there is still much that needs to be done. HIV medication is not accessible to everyone\, due to issues with their residency status\, and the government has still to deliver on its promise to invest in free HIV prevention medication such as PrEP and PEP. This has now become urgent\, especially considering that Malta has one of the highest rates of HIV diagnoses in Europe. \nOrganisations endorsing the World AIDS Day rally:Checkpoint MaltaLGBTI+ GozoMGRMMoviment GraffittiARCaditus foundationDrachma LGBTIQ \n****** \nIl-Jum Dinji tal-AIDS: Silenzju = Mewt \nNhar il-Ħadd\, 30 ta’ Novembru fis-2.30 pm f’Misraħ il-Ħelsien quddiem il-Parlament\, koalizzjoni ta’ organizzazzjonijiet se tkun qed tfakkar il-Jum dinji tal-AIDS\, li jaħbat it-Tnejn\, bi protesta siekta. Se niltaqgħu quddiem il-Parlament biex nipprotestaw kontra l-indifferenza\, is-skiet\, l-istigma u l-ideat żbaljati li għadhom marbuta mal-HIV. Se nipprotestaw b’mod sieket b’biċċiet jew żigarelli ħomor jgħattulna ħalqna\, għajnejna jew widnejna bħala simbolu tas-skiet li jikkaratterizza l-HIV u s-silenzju u n-nuqqas ta’ azzjoni tal-Gvern dwar il-wegħda tiegħu li jipprovdi PrEP u PEP b’xejn—mediċini essenzjali biex jitwaqqaf it-tixrid ta’ każi ġodda tal-HIV—li l-assenza tagħhom tkompli tagħmel ħsara lill-komunitajiet li jinsabu f’riskju. Hawn skiet itarrax. Hemm bżonn li nwaqqfuh. \nIngħaqdu magħna nhar il-Ħadd waranofsinhar; ġibu magħkom il-kartelluni u l-biċċiet u l-faxex ħomor biex inżidu l-għarfien dwar is-skiet\, l-istigma u n-nuqqas ta’ azzjoni dwar l-HIV. Nitolbu lin-nies jilbsu faxex jew żigarelli ħomor fuq ħalqhom\, għajnejhom u/jew widnejhom biex nuru li għalkemm l-HIV qed tiġi njorata ma jfissirx li ma teżistix. \nF’Malta\, l-HIV illum hija kundizzjoni kronika li tista’ tiġi kkontrollata u mhux is-sentenza tal-mewt li kienet darba\, iżda għad hemm kwistjonijiet li jaffettwaw b’mod negattiv il-ħajja tan-nies li jgħixu bl-HIV u ta’ dawk ta’ madwarhom. Persuni li jgħixu bl-HIV spiss iġorru l-piż waħedhom minħabba l-istigma kbira li żżommhom milli jaqsmu l-istatus tagħhom ma’ ħaddieħor. Għaldaqstant\, ma jkollhomx l-appoġġ meħtieġ li jgħinhom jinnavigaw l-HIV aħjar. Għad hemm ħafna ideat żbaljati dwar l-HIV\, minkejja li llum il-mediċina tal-HIV tirrippressa l-virus sal-punt li ma jistax jiġi trażmess lil ħaddieħor—dak li nsejħulu U=U\, Undetectable = UntransmittableIl-kura tal-HIV tjiebet b’mod sinifikanti. Iżda għad hemm ħafna xi jsir. Il-mediċina tal-HIV mhijiex aċċessibbli għal kulħadd minħabba kwistjonijiet relatati mal-permess tar-residenza\, u l-Gvern għadu ma wettaqx il-wegħda tiegħu li jinvesti f’mediċini ta’ prevenzjoni tal-HIV b’xejn bħal PrEP u PEP. Dan issa sar urġenti\, speċjalment meta wieħed iqis li Malta għandha waħda mill-ogħla rati ta’ dijanjosi tal-HIV fl-Ewropa. \nOrganizzazzjonijiet li qegħdin jappoġġjaw din id-dimostrazzjoni:Checkpoint MaltaLGBTI+ GozoMGRMMoviment GraffittiARCaditus foundationDrachma LGBTIQ
URL:https://mail.movimentgraffitti.org/event/world-aids-day-silence-death/
LOCATION:Parliament Square\, Valletta City Gate\, Valletta\, Malta
CATEGORIES:LGBTIQ+ / Pride,Protest / March / Demonstration
ATTACH;FMTTYPE=image/jpeg:https://mail.movimentgraffitti.org/wp-content/uploads/2025/11/world-aids-day-2025.jpg
END:VEVENT
END:VCALENDAR