BEGIN:VCALENDAR
VERSION:2.0
PRODID:-//Moviment Graffitti - ECPv6.15.20//NONSGML v1.0//EN
CALSCALE:GREGORIAN
METHOD:PUBLISH
X-ORIGINAL-URL:https://mail.movimentgraffitti.org
X-WR-CALDESC:Events for Moviment Graffitti
REFRESH-INTERVAL;VALUE=DURATION:PT1H
X-Robots-Tag:noindex
X-PUBLISHED-TTL:PT1H
BEGIN:VTIMEZONE
TZID:Europe/Malta
BEGIN:DAYLIGHT
TZOFFSETFROM:+0100
TZOFFSETTO:+0200
TZNAME:CEST
DTSTART:20240331T010000
END:DAYLIGHT
BEGIN:STANDARD
TZOFFSETFROM:+0200
TZOFFSETTO:+0100
TZNAME:CET
DTSTART:20241027T010000
END:STANDARD
BEGIN:DAYLIGHT
TZOFFSETFROM:+0100
TZOFFSETTO:+0200
TZNAME:CEST
DTSTART:20250330T010000
END:DAYLIGHT
BEGIN:STANDARD
TZOFFSETFROM:+0200
TZOFFSETTO:+0100
TZNAME:CET
DTSTART:20251026T010000
END:STANDARD
BEGIN:DAYLIGHT
TZOFFSETFROM:+0100
TZOFFSETTO:+0200
TZNAME:CEST
DTSTART:20260329T010000
END:DAYLIGHT
BEGIN:STANDARD
TZOFFSETFROM:+0200
TZOFFSETTO:+0100
TZNAME:CET
DTSTART:20261025T010000
END:STANDARD
END:VTIMEZONE
BEGIN:VEVENT
DTSTART;TZID=Europe/Malta:20250929T080000
DTEND;TZID=Europe/Malta:20251002T150000
DTSTAMP:20260424T022121
CREATED:20250928T145046Z
LAST-MODIFIED:20250928T145046Z
UID:8102-1759132800-1759417200@mail.movimentgraffitti.org
SUMMARY:Studenti Graffitti at the KSU Freshers' Week 2025
DESCRIPTION:Studenti Graffitti\, the student wing of Moviment Graffitti\, will be present at The KSU Freshers’ Week 2025 from Monday 29th Sept till Thursday 2nd of October between 9am and 3:30pm. \n\nVisit our stand to join our organisation and learn about our work on feminism\, worker’s rights\, the environment\, immigration\, LGBTIQ+ rights and more.\nWe want to hear your ideas on the issues you find at University so that we can also be a platform for student campaigns.\n\nThere will also be some merchandise and stickers up for grabs so head over to our stand to learn more!
URL:https://mail.movimentgraffitti.org/event/studenti-graffitti-at-the-ksu-freshers-week-2025/
LOCATION:University of Malta\, L-Università ta' Malta\, Msida\, Malta
CATEGORIES:Discussion / Presentation,Studenti Graffitti
ATTACH;FMTTYPE=image/jpeg:https://mail.movimentgraffitti.org/wp-content/uploads/2025/09/ksu-freshers-week-2025-e1759071036602.jpg
END:VEVENT
BEGIN:VEVENT
DTSTART;TZID=Europe/Malta:20251004T100000
DTEND;TZID=Europe/Malta:20251004T130000
DTSTAMP:20260424T022121
CREATED:20250912T074440Z
LAST-MODIFIED:20250912T080728Z
UID:8062-1759572000-1759582800@mail.movimentgraffitti.org
SUMMARY:Ġustizzja għal Artna: Iritrawhom Issa! - PROTESTA NAZZJONALI
DESCRIPTION:A national protest\, Ġustizzja għal Artna: Irtirawhom Issa!\, is being called for Saturday 4th October at 10am in response to the total assault on our environment and quality of life being pushed through under the guise of a planning “reform”. \nThe need for action is urgent and dire. Government is intent on forcing through two planning bills and three legal notices that will dismantle existing safeguards\, place serious obstacles to effective public appeals\, and regularise all kinds of illegalities across the country. \nIf this legal package is approved\, Malta and Gozo will be ruled entirely by the wishes of developers\, while the common people will be left under siege from harmful development permitted without even today’s minimal regulatory controls and scrutiny. \nThis is a grave threat to our country\, and only the people’s resistance can fend it off. \nOur demands are: \n\nThe immediate withdrawal of the draft bills and legal notices. Consultation cannot take place on legislation that is fundamentally flawed\, malicious in intent\, and beyond repair.\nThe urgent introduction of a measure suspending works on developments approved by the Planning Authority while an appeal is ongoing\, through an amendment to existing law.\nThe publication of a White Paper to launch a genuine consultation on the broader planning reforms Malta truly needs.\n\nPeople will gather at the Law Courts at 10am and march to Castille\, where speeches will take place. \nThe national protest is the first action announced as part of the Ġustizzja għal Artna campaign launched last week. Groups across Malta and Gozo\, both formal and informal\, are invited to join the protest and the campaign by emailing info@gustizzjartna.org. \nMore information about the campaign and its demands can be found at www.gustizzjartna.org. \nBirdLife Malta | Din l-Art Ħelwa | Flimkien għal Ambjent Aħjar | Friends of the Earth Malta | Front Żgħażagħ għall-Ambjent | Għawdix | Moviment Graffitti | Nature Trust – FEE Malta | Ramblers Association | Wirt Għawdex \n****** \nSe ssir protesta nazzjonali\, Ġustizzja għal Artna: Irtirawhom Issa!\, nhar is-Sibt 4 ta’ Ottubru fl-10am bħala reazzjoni għall-attakk totali fuq l-ambjent u l-kwalità tal-ħajja tagħna\, li qed jiġi ppreżentat bħala taparsi “riforma” tal-ippjanar. \nIl-ħtieġa għall-azzjoni hija urġenti u serja. Il-Gvern jinsab determinat li jmexxi ’l quddiem żewġ abbozzi ta’ liġi dwar l-ippjanar\, u tliet avviżi legali\, li se jeqirdu l-protezzjonijiet eżistenti\, joħolqu ostakli serji għall-appelli effettivi mill-pubbliku\, u jirregolarizzaw kull tip ta’ illegalitajiet madwar il-pajjiż. \nJekk dan il-pakkett legali jiġi approvat\, Malta u Għawdex se jkunu mmexxija kompletament mir-rieda tal-iżviluppaturi\, filwaqt li n-nies komuni jispiċċaw taħt assedju minn żvilupp ta’ ħsara li se jkun permess saħansitra mingħajr il-kontroll u l-iskrutinju minimu li jeżisti llum. \nDin hija theddida gravi għal pajjiżna\, u hija biss ir-reżistenza tal-poplu li tista’ twaqqafha. \nIt-talbiet tagħna huma: \n\nL-irtirar immedjat tal-abbozzi ta’ liġi u l-avviżi legali. Ma tistax issir konsultazzjoni dwar leġiżlazzjoni li hija fundamentalment difettuża\, malizzjuża fl-intenzjoni tagħha\, u li ma tistax tissewwa.\nL-introduzzjoni urġenti ta’ miżura li tissospendi x-xogħlijiet ta’ żviluppi approvati mill-Awtorità tal-Ippjanar waqt li jkun għaddej appell\, permezz ta’ emenda għal-liġi eżistenti.\nIl-pubblikazzjoni ta’ White Paper biex titnieda konsultazzjoni ġenwina dwar ir-riformi usa’ tal-ippjanar li Malta verament teħtieġ.\n\nIn-nies se jinġabru quddiem il-Qorti fl-10am u jimxu lejn Kastilja\, fejn se jsiru xi diskorsi. \nIl-protesta nazzjonali hija l-ewwel azzjoni mħabbra bħala parti mill-kampanja Ġustizzja għal Artna li ġiet imnedija l-ġimgħa li għaddiet. Gruppi madwar Malta u Għawdex\, kemm formali kif ukoll informali\, huma mistiedna jissieħbu fil-protesta u fil-kampanja billi jibagħtu email fuq info@gustizzjartna.org. \nAktar tagħrif dwar il-kampanja u t-talbiet tagħha jinsab fuq www.gustizzjartna.org. \nBirdLife Malta | Din l-Art Ħelwa | Flimkien għal Ambjent Aħjar | Friends of the Earth Malta | Front Żgħażagħ għall-Ambjent | Għawdix | Moviment Graffitti | Nature Trust – FEE Malta | Ramblers Association | Wirt Għawdex
URL:https://mail.movimentgraffitti.org/event/gustizzja-ghal-artna-iritrawhom-issa-protesta-nazzjonali/
LOCATION:Law Courts\, VGX6+9RQ\, Republic Street\, Valletta\, Malta
CATEGORIES:Defending Public Spaces & The Environment,Protest / March / Demonstration
ATTACH;FMTTYPE=image/jpeg:https://mail.movimentgraffitti.org/wp-content/uploads/2025/09/gustizzja-ghal-artna-protesta.jpg
END:VEVENT
BEGIN:VEVENT
DTSTART;TZID=Europe/Malta:20251007T083000
DTEND;TZID=Europe/Malta:20251008T140000
DTSTAMP:20260424T022121
CREATED:20251006T155849Z
LAST-MODIFIED:20251006T160049Z
UID:8137-1759825800-1759932000@mail.movimentgraffitti.org
SUMMARY:Studenti Graffitti at the MCAST Freshers’ Week 2025
DESCRIPTION:Studenti Graffitti\, the student wing of Moviment Graffitti\, will be present at the MCAST Freshers’ Week 2025. We will be at MCAST in Paola on Tuesday 7 and Wednesday 8\, and at Mosta on Thursday 9th of October between 8:30am and 2.00pm. \n\nVisit our stand to join our organisation and learn about our work on feminism\, worker’s rights\, the environment\, immigration\, LGBTIQ+ rights and more.\nWe want to hear your ideas on the issues you find at MCAST so that we can also be a platform for student campaigns.\n\nThere will also be some merchandise and stickers up for grabs so head over to our stand to learn more!
URL:https://mail.movimentgraffitti.org/event/studenti-graffitti-at-the-mcast-freshers-week-2025/
LOCATION:MCAST\, The Malta College of Arts\, Science & Technology\, Paola\, Malta
CATEGORIES:Discussion / Presentation,Studenti Graffitti
ATTACH;FMTTYPE=image/jpeg:https://mail.movimentgraffitti.org/wp-content/uploads/2025/10/mcast-freshers-week-2025-e1759766443472.jpg
END:VEVENT
BEGIN:VEVENT
DTSTART;TZID=Europe/Malta:20251024T190000
DTEND;TZID=Europe/Malta:20251024T213000
DTSTAMP:20260424T022121
CREATED:20251010T105355Z
LAST-MODIFIED:20251010T105403Z
UID:8220-1761332400-1761341400@mail.movimentgraffitti.org
SUMMARY:Queer Film Club: Love Lies Bleeding
DESCRIPTION:Our free queer film screenings return\, and we’re starting off the season with blood\, muscle and chaos\, by screening Rose Glass’ sophomore feature\, Love Lies Bleeding. \n24/10/2025\n67\, Strait Street\, Valletta\n7:00 p.m. \nIf you’ve got impaired mobility and the stairs are a barrier\, we’re happy to help you get in safely- just drop us a message on +356 99255559 a few days before the event to let us know!
URL:https://mail.movimentgraffitti.org/event/queer-film-club-love-lies-bleeding/
LOCATION:Moviment Graffitti Premises\, 67\, Strait Street\, Valletta\, Malta
CATEGORIES:Discussion / Presentation,LGBTIQ+ / Pride
ATTACH;FMTTYPE=image/jpeg:https://mail.movimentgraffitti.org/wp-content/uploads/2025/10/queer-film-club-love-lies-bleeding.jpg
END:VEVENT
BEGIN:VEVENT
DTSTART;TZID=Europe/Malta:20251027T173000
DTEND;TZID=Europe/Malta:20251027T200000
DTSTAMP:20260424T022121
CREATED:20251020T150202Z
LAST-MODIFIED:20251020T150413Z
UID:8237-1761586200-1761595200@mail.movimentgraffitti.org
SUMMARY:Ġustizzja Għal Artna: Flimkien\, Inwaqqfuhom! - PROTESTA
DESCRIPTION:Il-kampanja Ġustizzja għal Artna qed issejjaħ lin-nies biex jerġgħu jingħaqdu fi protesta t-Tnejn\, is-27 ta’ Ottubru. Il-protesta se tibda fil-5.30pm minn quddiem il-Qorti u tibqa’ miexja lejn il-Parlament. \nRipetutament stqarrejna li nippreferu npoġġu madwar mejda u niddiskutu r-riformi urġenti li pajjiżna għandu bżonn fil-qasam tal-ambjent u l-ippjanar. Madankollu\, minkejja l-għajta tal-poplu għal ġustizzja — inklużi dawk l-eluf li s-Sibt\, 4 ta’ Ottubru ħarġu jipprotestaw fit-toroq tal-Belt — il-Prim Ministru Robert Abela qed jibqa’ jirrifjuta li jisma’ lill-poplu. \nL-hekk imsejħa “riforma” tal-ippjanar hija mannara mdendla fuq għonq in-nies. Il-fatt li din il-protesta se taħbat mal-jum li fih jiġi ppreżentat il-Baġit mhuwiex kumbinazzjoni. Il-messaġġ tagħna huwa ċar: dan mhuwiex ‘business as usual’. \nIż-żewġ abbozzi tal-ippjanar u t-tliet avviżi legali jippreżentaw theddida imminenti għall-postijiet li huma l-aktar għal qalbna\, għall-komunitajiet tagħna\, għall-ġustizzja soċjali\, u għad-demokrazija. \nSe jżarmaw is-salvagwardji eżistenti kollha kontra l-iżvilupp bla rażan billi jneħħu s-saħħa effettiva tar-regolamenti tal-ippjanar u jagħtu kontroll assolut lill-Awtorità korrotta tal-Ippjanar. \nId-dritt tal-pubbliku li jappella deċiżjonijiet illegali b’mod effettiv se jiġi severament limitat\, u l-Qorti se titlef is-setgħa tagħha li tirrevoka permessi illegali. \nL-avviżi legali se jagħtu amnestija totali għal kull xorta ta’ illegalità li saret sas-sena l-oħra\, b’ebda limitu fuq it-tip\, id-daqs jew il-post li fih saret. \nNemmnu bis-sħiħ li n-nies għandhom is-saħħa li jwaqqfu dan l-attakk fuq il-kwalità tal-ħajja tagħhom. Għalhekk qed nerġgħu nsejħu lill-pubbliku biex insaħħu din il-ġlieda kontra l-bullies ta’ dan il-pajjiż — dawk li jemmnu li l-flus jagħtuhom id-dritt li jirfsu fuq iċ-ċittadini komuni. \nIt-Tnejn 27 ta’ Ottubru\, se nerġgħu nuruhom li aħna mhux se naċċettaw li ngħixu taħt il-ħakma tal-iżviluppaturi. \nFlimkien\, inwaqqfuhom! \nwww.gustizzjartna.org \n****** \nThe Ġustizzja għal Artna campaign is calling on the people to join a protest on Monday 27th October. The protest will start at 5:30pm from the Law Courts and move towards Parliament. \nWe have repeatedly stated that we would much rather sit around a table to discuss the urgent planning and environmental reforms our country needs. However\, despite the people’s cry for justice\, including the thousands who took to the streets on Saturday 4th October\, Prime Minister Robert Abela continues to refuse to listen. \nThis so-called planning reform is a Damocles’ sword hanging over the people’s heads. It is no coincidence that this protest will coincide with the presentation of the annual Budget. Our message is clear: this is not business as usual. \nThe two planning bills and three legal notices pose an imminent threat to our most cherished places\, our communities\, social justice\, and democracy. \nThey would dismantle all existing protections against unbridled construction by rendering planning regulations ineffective and placing full control in the hands of the corrupt Planning Authority. \nThey would also severely undermine the public’s right to effectively appeal illegal decisions\, and strip the Court of its power to revoke illegal permits. \nAdditionally\, the legal notices would grant a blanket amnesty for all sorts of illegalities committed up to last year\, with no limits on type\, size\, or location. \nWe strongly believe that the people have the power to stop this assault on their quality of life and are the last lines of defence against the greed of developers. Thus\, we call on the public to intensify this fight against the bullies of this country – those who believe that money gives them the right to trample over the common citizen. \nOn Monday 27th October\, we’ll show once again that we refuse to live under the reign of developers. \nTogether\, we’ll stop them! \nwww.gustizzjartna.org
URL:https://mail.movimentgraffitti.org/event/gustizzja-ghal-artna-flimkien-inwaqqfuhom-protesta/
LOCATION:Law Courts\, VGX6+9RQ\, Republic Street\, Valletta\, Malta
CATEGORIES:Defending Public Spaces & The Environment,Protest / March / Demonstration
ATTACH;FMTTYPE=image/jpeg:https://mail.movimentgraffitti.org/wp-content/uploads/2025/10/protest-27-oct.jpg
END:VEVENT
END:VCALENDAR