BEGIN:VCALENDAR
VERSION:2.0
PRODID:-//Moviment Graffitti - ECPv6.15.20//NONSGML v1.0//EN
CALSCALE:GREGORIAN
METHOD:PUBLISH
X-WR-CALNAME:Moviment Graffitti
X-ORIGINAL-URL:https://mail.movimentgraffitti.org
X-WR-CALDESC:Events for Moviment Graffitti
REFRESH-INTERVAL;VALUE=DURATION:PT1H
X-Robots-Tag:noindex
X-PUBLISHED-TTL:PT1H
BEGIN:VTIMEZONE
TZID:Europe/Malta
BEGIN:DAYLIGHT
TZOFFSETFROM:+0100
TZOFFSETTO:+0200
TZNAME:CEST
DTSTART:20240331T010000
END:DAYLIGHT
BEGIN:STANDARD
TZOFFSETFROM:+0200
TZOFFSETTO:+0100
TZNAME:CET
DTSTART:20241027T010000
END:STANDARD
BEGIN:DAYLIGHT
TZOFFSETFROM:+0100
TZOFFSETTO:+0200
TZNAME:CEST
DTSTART:20250330T010000
END:DAYLIGHT
BEGIN:STANDARD
TZOFFSETFROM:+0200
TZOFFSETTO:+0100
TZNAME:CET
DTSTART:20251026T010000
END:STANDARD
BEGIN:DAYLIGHT
TZOFFSETFROM:+0100
TZOFFSETTO:+0200
TZNAME:CEST
DTSTART:20260329T010000
END:DAYLIGHT
BEGIN:STANDARD
TZOFFSETFROM:+0200
TZOFFSETTO:+0100
TZNAME:CET
DTSTART:20261025T010000
END:STANDARD
END:VTIMEZONE
BEGIN:VEVENT
DTSTART;TZID=Europe/Malta:20250909T183000
DTEND;TZID=Europe/Malta:20250909T203000
DTSTAMP:20260424T033819
CREATED:20250824T143356Z
LAST-MODIFIED:20250824T143356Z
UID:7972-1757442600-1757449800@mail.movimentgraffitti.org
SUMMARY:Placards Against Pinkwashing
DESCRIPTION:Join us for a discussion on pinkwashing and a workshop on making placards!  \nOn Tuesday 9th September\, Moviment Graffitti is organising a queer placard making event. This activity is part of the events during Pride week and the placards can be used during the Pride March on Saturday. The activity will be held at our premises\, 67 Strait Street\, Valletta and will start at 6.30 p.m. \nThe theme of the event is pinkwashing which refers to the practice of using LGBTQ+ rights and symbols to hide or justify systems of oppression or injustice. \nThe activity will start with three short informal presentations about the three themes: The genocide in Palestine\, LGBTIQ+ Migrants\, and Business Corporations. There will be some time for questions\, clarifications and discussion. The second part will be dedicated to making the placards on the three themes. We will provide the materials for the placards. \nThe aim of this event is to challenge the use of LGBTQ+ struggles as a branding tool for states and businesses that continue to perpetuate exploitation and oppression. Through the messages on the placards we make\, we want to denounce pinkwashing\, and to express genuine solidarity with Palestinians\, migrants\, and all oppressed communities beyond rainbow capitalism. \nPlease join us for this fun and informative event and bring your friends along! \nBackground: Israel has long promoted itself as a queer-friendly state to obscure its ongoing genocide and occupation of Palestinians as well as the harassment and bullying of Palestinian members of the LGBTIQ+ community. Similarly\, multinational corporations use Pride symbolism to present themselves as queer friendly while continuing to profit from unethical practices\, the exploitation of workers and policies which do not benefit members of the LGBTIQ+ community. In Malta\, pinkwashing also intersects with the realities of migration: queer and trans migrants are often celebrated as symbols of diversity\, yet in practice\, many face detention\, racism\, and repatriation policies.
URL:https://mail.movimentgraffitti.org/event/placards-against-pinkwashing/
LOCATION:Moviment Graffitti Premises\, 67\, Strait Street\, Valletta\, Malta
CATEGORIES:Discussion / Presentation,LGBTIQ+ / Pride,Social Events
ATTACH;FMTTYPE=image/jpeg:https://mail.movimentgraffitti.org/wp-content/uploads/2025/08/pinkwashing-placards.jpg
END:VEVENT
BEGIN:VEVENT
DTSTART;TZID=Europe/Malta:20250912T140000
DTEND;TZID=Europe/Malta:20250912T163000
DTSTAMP:20260424T033819
CREATED:20250912T073456Z
LAST-MODIFIED:20250912T073456Z
UID:8049-1757685600-1757694600@mail.movimentgraffitti.org
SUMMARY:Safe Space Before Malta Pride 2025
DESCRIPTION:As in previous years\, Moviment Graffitti will be participating in the Pride March on Saturday\, 13th September. The March will start at around 5.00 pm. \nBefore the March\, Moviment Graffitti will once again be opening its premises to provide a safe space for anyone who would like to come and have a drink with us and prepare for the March. \nThose who would like to come and dress for the Pride\, do their makeup\, make placards (we have the materials)\, or meet others are welcome to come to our premises at 67 Strait Street\, Valletta. \nJust be yourself. No judgement. Just Pride! \nThe premises will be open between 2.00 pm and 4.30 pm. \nWe would love to meet you there! Come and bring others with you. \nPlease note that unfortunately our premises are located in an old Valletta building with steep steps. Therefore the space is not accessible for persons with serious mobility issues. We regret the inconvenience. \nNote: The guest list for this event is not visible.
URL:https://mail.movimentgraffitti.org/event/safe-space-before-malta-pride-2025/
LOCATION:Moviment Graffitti Premises\, 67\, Strait Street\, Valletta\, Malta
CATEGORIES:LGBTIQ+ / Pride,Protest / March / Demonstration,Social Events
ATTACH;FMTTYPE=image/jpeg:https://mail.movimentgraffitti.org/wp-content/uploads/2025/09/safe-space-pride-2025.jpg
END:VEVENT
BEGIN:VEVENT
DTSTART;TZID=Europe/Malta:20250916T183000
DTEND;TZID=Europe/Malta:20250916T210000
DTSTAMP:20260424T033819
CREATED:20250912T073709Z
LAST-MODIFIED:20250912T073709Z
UID:8052-1758047400-1758056400@mail.movimentgraffitti.org
SUMMARY:Placard-Making Session for the Abortion Rally 2025
DESCRIPTION:We’re excited to announce the Malta Abortion Rights Rally placard-making session! \nJoin us on Tuesday\, 16th September\, between 18:30 and 21:00\, to get creative and prepare banners\, signs\, and placards together. \nBring along any materials you’d like to use (we encourage the use of recycled items!)\, and don’t worry if you don’t have anything\, as the Coalition will provide some supplies. \nThis is a great chance to connect\, share ideas\, and make your voice visible for the Rally. Everyone is welcome!
URL:https://mail.movimentgraffitti.org/event/placard-making-session-for-the-abortion-rally-2025/
LOCATION:Moviment Graffitti Premises\, 67\, Strait Street\, Valletta\, Malta
CATEGORIES:Discussion / Presentation,Protest / March / Demonstration,Social Events
ATTACH;FMTTYPE=image/jpeg:https://mail.movimentgraffitti.org/wp-content/uploads/2025/09/placard-making-pro-choice-2025.jpg
END:VEVENT
BEGIN:VEVENT
DTSTART;TZID=Europe/Malta:20250919T180000
DTEND;TZID=Europe/Malta:20250919T200000
DTSTAMP:20260424T033819
CREATED:20250912T073924Z
LAST-MODIFIED:20250912T073924Z
UID:8055-1758304800-1758312000@mail.movimentgraffitti.org
SUMMARY:X'qed jigri f'Villa Rosa? Laqgħa ta' informazzjoni għar-residenti
DESCRIPTION:It-tibdil propost fil-Pjan Lokali għas-sit ta’ Villa Rosa se jkollu impat enormi fuq il-lokalitajiet ta’ Pembroke\, is-Swieqi\, u San Ġiljan. \nSkont il-pjan rivedut propost\, jistgħu jitilgħu binjiet li jaslu sa 39 sular\, flimkien ma’ żewġ torrijiet addizzjonali ta’ 22 sular li se jidfnu għalkollox il-Bajja ta’ San Ġorġ u jordmu lir-residenti tal-madwar. L-impronta tal-iżvilupp se tikber għal madwar 146\,500 metru kwadru – intensifikazzjoni estrema li se tħalli impatt serju fuq il-komunitajiet fil-qrib u l-infrastruttura pubblika. \nQed inħeġġu lir-residenti ta’ dawn il-lokalitajiet biex jattendu laqgħa pubblika fejn ser nispjegaw x’qed jiġri fil-kwistjoni ta’ Villa Rosa\, x’ħa jkunu l-impatti tat-tibdil fil-Pjan Lokali\, u x’nistgħu nagħmlu dwarhom. \nPost: BMX Warehouse\, PembrokeData: Il-Ġimgħa 19 ta’ Settembru\, 6.00PM \nNarawkom hemm! \n****** \nWhat’s happening at Villa Rosa? Information meeting for residents \nThe proposed changes to the Local Plan for the Villa Rosa site will have a huge impact on the localities of Pembroke\, Swieqi\, and St Julian’s. \nAccording to the revised plan\, buildings of up to 39 storeys could rise\, alongside two additional towers of 22 storeys\, which would completely bury St George’s Bay and suffocate nearby residents. The development footprint would expand to around 146\,500 square metres — an extreme intensification with a devastating impact on nearby communities and public infrastructure. \nWe are urging the residents of these localities to attend a public meeting where we will explain what is happening regarding Villa Rosa\, what the impacts of the changes to the Local Plan will be\, and what we can do about them. \nLocation: BMX Warehouse\, PembrokeDate: Friday\, 19th September\, 6:00 PM \nSee you there!
URL:https://mail.movimentgraffitti.org/event/xqed-jigri-fvilla-rosa-laqgha-ta-informazzjoni-ghar-residenti/
LOCATION:BMX Warehouse\, WFJC+MJ\, Pembroke\, Malta
CATEGORIES:Defending Public Spaces & The Environment,Discussion / Presentation
ATTACH;FMTTYPE=image/jpeg:https://mail.movimentgraffitti.org/wp-content/uploads/2025/09/villa-rosa-info-session-sep25.jpg
END:VEVENT
BEGIN:VEVENT
DTSTART;TZID=Europe/Malta:20250927T100000
DTEND;TZID=Europe/Malta:20250927T120000
DTSTAMP:20260424T033819
CREATED:20250912T074203Z
LAST-MODIFIED:20250912T074622Z
UID:8059-1758967200-1758974400@mail.movimentgraffitti.org
SUMMARY:Abortion Rights Rally Malta 2025: L-Abort Mhuwiex Reat
DESCRIPTION:Mara oħra ġiet kriminalizzata talli għamlet abort f’Malta. Dan mhux aċċettabbli. \nL-abort huwa kura tas-saħħa. L-abort huwa dritt uman. L-abort MHUWIEX reat. \nIr-rally ta’ din is-sena issejjaħ għall-ġustizzja – kemm għal mara f’dan il-każ\, u anke għal kull persuna oħra li ġiet imġiegħla tiskot\, tistħi\, jew tibża’ minħabba l-liġijiet ta’ Malta. L-ebda mara m’għandha qatt tgħaddi minn investigazzjoni tal-pulizija\, awla tal-qorti\, jew akkużi kriminali miġjuba kontriha talli ħadet deċiżjoni dwar ħajjitha stess. \nPost: Quddiem il-Qorti\, il-BeltData u Ħin: 27/09/2025 fl-10 am \nNingħaqdu għax: \n\nL-abort GĦANDU jiġi dekriminalizzat. X’qed nistennew?!\nIl-professjonisti tal-kura tas-saħħa u soċjali għandhom jipprovdu kura mingħajr biża’\, mhux jaġixxu bħala pulizija.\nNisa li għamlu abort jistħoqqilhom kompassjoni. M’intomx waħedkom.\n\n  \nAħna qegħdin ningħaqdu f’solidarjetà man-nisa li kellhom jgħaddu minn dawn il-każijiet. Malta fallietkom. \nĠibu l-kartelli tagħkom\, il-vuċijiet tagħkom\, u l-kuraġġ tagħkom. Ejjew nimlew it-toroq b’messaġġ wieħed ċar u tond: L-Abort Mhuwiex Reat. \nKulħadd huwa mistieden – din il-ġlieda hija għal kulħadd. \n****** \nYet another woman has been criminalised for an abortion in Malta. This is unacceptable. \nAbortion is healthcare. Abortion is a human right. Abortion is NOT a crime. \nThis year’s rally is a call for justice – for the woman in this case\, and for every person who has been forced into silence\, shame\, or fear because of Malta’s laws. No one should ever face a police investigation\, a courtroom\, or criminal charges for making decisions about their own life. \nLocation: In front of the courts\, VallettaDate & Time: 27/09/2025 at 10 am \nWe rally because: \n\nAbortion MUST be decriminalised. What are we waiting for?!\nHealthcare & social care professionals should provide care without fear\, not act as police.\nPeople who have had abortions deserve compassion. You are not alone.\n\n  \nWe stand in solidarity with the women in these cases. Malta has failed you. \nBring your placards\, your voices\, and your courage. Let’s fill the streets with one message loud and clear: Abortion is Not a Crime. \nEveryone is welcome – this fight is for all of us.
URL:https://mail.movimentgraffitti.org/event/abortion-rights-rally-malta-2025-l-abort-mhuwiex-reat/
LOCATION:Law Courts\, VGX6+9RQ\, Republic Street\, Valletta\, Malta
CATEGORIES:Feminism / Women's Rights,Protest / March / Demonstration
ATTACH;FMTTYPE=image/jpeg:https://mail.movimentgraffitti.org/wp-content/uploads/2025/09/pro-choice-rally-2025.jpg
END:VEVENT
BEGIN:VEVENT
DTSTART;TZID=Europe/Malta:20250927T143000
DTEND;TZID=Europe/Malta:20250927T183000
DTSTAMP:20260424T033819
CREATED:20250917T071149Z
LAST-MODIFIED:20250928T144800Z
UID:8091-1758983400-1758997800@mail.movimentgraffitti.org
SUMMARY:Kwirżitajiet fuq il-Blata!
DESCRIPTION:(This event is in Maltese) \nWara s-suċċess tal-ewwel attività li kellna f’Mejju li għadda dwar kwirżitajiet mill-passat\, din it-tieni attività se toħodna l-Ġnejna għall-Kwirżitajiet fuq il-Blata. \nGħal darb’oħra Dr Omar N’Shea se jirrakkontalna stejjer li ġraw matul is-snin u jaqsam magħna aneddoti ħelwin dwar il-bajja tal-Qarraba fil-kuntest tal-komunità kwir hekk kif għadna kif iċċelebrajna l-ġimgħa tal-Pride. \nNiltaqgħu il-bajja tal-Ġnejna nhar is-Sibt 27 ta’ Settembru fis-2.30 ta’ waranofsinhar fejn l-ewwel gabbana fil-parking area. \nMill-Ġnejna naqbdu dgħajsa li toħodna fuq il-Blata. Nirritornaw il-Ġnejna fis-6.30 pm. \nIl-prezz tad-dgħajsa huwa ta’ 6.50 ewro. L-attività hija bla ħlas. \nIngħaqdu magħna għal din l-attività u ġibu lil min tridu magħkom. Ġibu wkoll l-affarijiet tal-baħar magħkom u xi ikel u xorb jekk tridu. \nIr-rakkonti se jsiru bil-Malti.
URL:https://mail.movimentgraffitti.org/event/kwirzitajiet-fuq-il-blata/
LOCATION:Ġnejna Bay\, W8CV+5PW Triq il-Ġnejna\, Mġarr\, Malta
CATEGORIES:LGBTIQ+ / Pride,Social Events
ATTACH;FMTTYPE=image/jpeg:https://mail.movimentgraffitti.org/wp-content/uploads/2025/09/kwirzitajiet-gnejna.jpg
END:VEVENT
BEGIN:VEVENT
DTSTART;TZID=Europe/Malta:20250929T080000
DTEND;TZID=Europe/Malta:20251002T150000
DTSTAMP:20260424T033819
CREATED:20250928T145046Z
LAST-MODIFIED:20250928T145046Z
UID:8102-1759132800-1759417200@mail.movimentgraffitti.org
SUMMARY:Studenti Graffitti at the KSU Freshers' Week 2025
DESCRIPTION:Studenti Graffitti\, the student wing of Moviment Graffitti\, will be present at The KSU Freshers’ Week 2025 from Monday 29th Sept till Thursday 2nd of October between 9am and 3:30pm. \n\nVisit our stand to join our organisation and learn about our work on feminism\, worker’s rights\, the environment\, immigration\, LGBTIQ+ rights and more.\nWe want to hear your ideas on the issues you find at University so that we can also be a platform for student campaigns.\n\nThere will also be some merchandise and stickers up for grabs so head over to our stand to learn more!
URL:https://mail.movimentgraffitti.org/event/studenti-graffitti-at-the-ksu-freshers-week-2025/
LOCATION:University of Malta\, L-Università ta' Malta\, Msida\, Malta
CATEGORIES:Discussion / Presentation,Studenti Graffitti
ATTACH;FMTTYPE=image/jpeg:https://mail.movimentgraffitti.org/wp-content/uploads/2025/09/ksu-freshers-week-2025-e1759071036602.jpg
END:VEVENT
BEGIN:VEVENT
DTSTART;TZID=Europe/Malta:20250929T180000
DTEND;TZID=Europe/Malta:20250929T193000
DTSTAMP:20260424T033819
CREATED:20250924T132645Z
LAST-MODIFIED:20250930T062629Z
UID:8094-1759168800-1759174200@mail.movimentgraffitti.org
SUMMARY:Ġustizzja għal Artna: Irtirawhom Issa! - KONFERENZA STAMPA
DESCRIPTION:Nhar it-Tnejn\, 29 ta’ Settembru fis-6pm\, se niltaqgħu quddiem l-Awtorità tal-Ippjanar sabiex nispjegaw ir-raġunijiet għaliex qed insejħu għal protesta nazzjonali nhar is-Sibt 4 ta’ Ottubru\, u t-talbiet urġenti tagħna quddiem sitwazzjoni gravi ħafna. \nF’Lulju li għadda\, il-Gvern ippreżenta żewġ liġijiet li se jneħħu s-salvagwardji kollha li għandna fil-qasam tal-ippjanar. Wara ftit ġimgħat\, ġiet ukoll ippubblikata l-proposta ta’ tliet avviżi legali li se jagħtu amnestija lil kull tip ta’ illegalità madwar Malta u Għawdex\, mingħajr lanqas biss limitu fuq daqs\, skop jew post. \nMinkejja li l-poplu rnexxielu jwaqqaf lill-Gvern milli jgħaddi dawn il-liġijiet inkiss inkiss f’nofs is-sajf\, dawn għadhom hemm\, u nafu li l-Gvern se jipprova jsib l-ewwel opportunità biex jgħaddihom. \nGħalhekk\, qed inħeġġukom tattendu għall-Konferenza Stampa ta’ nhar it-Tnejn fejn se nuru kemm it-theddida għalina\, għal pajjiżna\, u għal uliedna hija kbira u teħtieġ ir-reżistenza kollettiva tal-poplu biex flimkien inwaqqfu dan il-kolp ta’ stat mill-iżviluppaturi. \nXerrdu l-kelma! \nĠustizzja għal Artna: Irtirawhom ISSA! \nwww.gustizzjartna.org \n****** \nOn Monday\, 29th September at 6pm\, we will gather in front of the Planning Authority to explain the reasons why we are calling the national protest on Saturday\, 4th October\, and to present our urgent demands in the face of a very serious situation. \nLast July\, the Government presented two laws that would remove all safeguards in the planning sector. A few weeks later\, a proposal for three legal notices was also published\, which would grant amnesty to all forms of illegalities across Malta and Gozo\, without any limits on size\, type\, or location. \nAlthough the people managed to stop the Government from passing these laws by stealth in the middle of summer\, they are still on the table\, and we know that the Government will try to seize the first opportunity to pass them. \nThis is why we are urging you to attend Monday’s press conference\, where we will show just how great the threat is – to us\, to our country\, and to our children – and how it demands the collective resistance of the people to stop this developers’ coup from being carried out. \nSpread the word. \nĠustizzja għal Artna: Kill the Bills!
URL:https://mail.movimentgraffitti.org/event/gustizzja-ghal-artna-konferenza-stampa/
LOCATION:Planning Authority\, St Francis Ravelin\, Floriana\, Malta
CATEGORIES:Defending Public Spaces & The Environment,Press Conference
ATTACH;FMTTYPE=image/jpeg:https://mail.movimentgraffitti.org/wp-content/uploads/2025/09/gustizzja-artna-konferenza-stampa-29sep.jpg
END:VEVENT
END:VCALENDAR