BEGIN:VCALENDAR
VERSION:2.0
PRODID:-//Moviment Graffitti - ECPv6.15.20//NONSGML v1.0//EN
CALSCALE:GREGORIAN
METHOD:PUBLISH
X-ORIGINAL-URL:https://mail.movimentgraffitti.org
X-WR-CALDESC:Events for Moviment Graffitti
REFRESH-INTERVAL;VALUE=DURATION:PT1H
X-Robots-Tag:noindex
X-PUBLISHED-TTL:PT1H
BEGIN:VTIMEZONE
TZID:Europe/Malta
BEGIN:DAYLIGHT
TZOFFSETFROM:+0100
TZOFFSETTO:+0200
TZNAME:CEST
DTSTART:20240331T010000
END:DAYLIGHT
BEGIN:STANDARD
TZOFFSETFROM:+0200
TZOFFSETTO:+0100
TZNAME:CET
DTSTART:20241027T010000
END:STANDARD
BEGIN:DAYLIGHT
TZOFFSETFROM:+0100
TZOFFSETTO:+0200
TZNAME:CEST
DTSTART:20250330T010000
END:DAYLIGHT
BEGIN:STANDARD
TZOFFSETFROM:+0200
TZOFFSETTO:+0100
TZNAME:CET
DTSTART:20251026T010000
END:STANDARD
BEGIN:DAYLIGHT
TZOFFSETFROM:+0100
TZOFFSETTO:+0200
TZNAME:CEST
DTSTART:20260329T010000
END:DAYLIGHT
BEGIN:STANDARD
TZOFFSETFROM:+0200
TZOFFSETTO:+0100
TZNAME:CET
DTSTART:20261025T010000
END:STANDARD
END:VTIMEZONE
BEGIN:VEVENT
DTSTART;TZID=Europe/Malta:20250713T140000
DTEND;TZID=Europe/Malta:20250713T190000
DTSTAMP:20260424T062212
CREATED:20250626T140746Z
LAST-MODIFIED:20250626T140807Z
UID:7805-1752415200-1752433200@mail.movimentgraffitti.org
SUMMARY:Art Connect - An art workshop about home
DESCRIPTION:Calling all kids from migrant families and\, of course\, their friends! \nAre you into art\, photography\, or writing? \nEver wished you could show your work off at an exhibition? \nWE’RE LOOKING FOR YOU! \nCome hang out and connect with like-minded people\, and spend a day doing what you love most! \nTHEME: WHAT DOES HOME / BELONGING / BEING MALTESE MEAN TO YOU? \nPLACE: Moviment Graffitti Premises\, 67 Strait Street\, Valletta\nDATE: Sunday 13th July\nTIME: 2-7 PM \nWe’ll have plenty of bits and bobs for you to draw\, write\, or make collages with. Feel free to bring your own tools if you like! If you’re into photography\, please bring your own camera or phone. \nWe can’t wait to meet you!
URL:https://mail.movimentgraffitti.org/event/art-connect-an-art-workshop-about-home/
LOCATION:Moviment Graffitti Premises\, 67\, Strait Street\, Valletta\, Malta
CATEGORIES:Migration / Migrants' Rights,Social Events
ATTACH;FMTTYPE=image/jpeg:https://mail.movimentgraffitti.org/wp-content/uploads/2025/06/art-connect.jpg
END:VEVENT
BEGIN:VEVENT
DTSTART;TZID=Europe/Malta:20250728T183000
DTEND;TZID=Europe/Malta:20250728T193000
DTSTAMP:20260424T062212
CREATED:20250728T081445Z
LAST-MODIFIED:20250728T081504Z
UID:7900-1753727400-1753731000@mail.movimentgraffitti.org
SUMMARY:Press Conference - Government Bills Dismantling All Planning Safeguards
DESCRIPTION:We are announcing our first action to stop the Bills that will dismantle all environmental and planning safeguards. \nOn Monday 28th July at 6pm – as the second reading of the drafts will be taking place in Parliament – we will gather as a united front of organisations and individuals for a Press Conference in front of Parliament. During the Press Conference\, we will explain to the public the gravity of the situation we are facing. \nWe know this is very short notice. \nWe know it’s the middle of summer. \nBut such a serious situation demands immediate action. \nJoin us and spread the word. \nMore information about the Bills can be found here.
URL:https://mail.movimentgraffitti.org/event/press-conference-government-bills-dismantling-all-planning-safeguards/
LOCATION:Parliament Square\, Valletta City Gate\, Valletta\, Malta
ATTACH;FMTTYPE=image/jpeg:https://mail.movimentgraffitti.org/wp-content/uploads/2025/07/press-conference-appeals-law-e1753690478921.jpg
END:VEVENT
BEGIN:VEVENT
DTSTART;TZID=Europe/Malta:20250729T183000
DTEND;TZID=Europe/Malta:20250729T203000
DTSTAMP:20260424T062212
CREATED:20250725T150455Z
LAST-MODIFIED:20250725T150455Z
UID:7856-1753813800-1753821000@mail.movimentgraffitti.org
SUMMARY:Act NOW Against Genocide in Gaza
DESCRIPTION:On Tuesday 29th July at 6:30pm\, we will gather at the Triton Fountain in Valletta and march to Castille Square to demand meaningful action by the Maltese Government against Israel’s mass starvation of Palestinians in Gaza. \nChildren\, women\, and men in Gaza are currently being starved to death. After 1 year and 10 months of genocidal mass murder of civilians – including the deliberate targeting of journalists\, healthcare professionals\, aid workers\, and aid seekers – Israel is now intensifying its genocide through mass starvation. \nImages of children dying from hunger\, and of the elderly collapsing to their deaths while waiting in vain for food\, should trigger the strongest reaction from any human being with even a shred of empathy! \nIt is therefore deeply hurtful and outrageous that Western governments continue either to proactively support the genocidal state of Israel or to take no meaningful action to stop the Israeli-imposed mass starvation of the Palestinian population in Gaza. \nRegrettably\, the Maltese Government is also failing abysmally to take the actions within its power to oppose this genocide. \nIn contrast with other European countries such as Ireland and Spain\, it has consistently failed to condemn Israel’s genocide on the international stage\, has reneged twice on its promise to recognise the State of Palestine\, and continues to allow ships flying the Maltese flag to transport weapons and military material to Israel. \nIn view of this inaction and complicity\, on Tuesday we will be calling for: \n\nA strong and unambiguous stand by the Maltese Government condemning Israel and calling for its sanctioning\, including the cancellation of the EU-Israel Association Agreement.\nThe prohibition of ships flying the Maltese flag from transporting weapons and military material to Israel\, along with a clear and enforced policy preventing ships carrying such material from entering Maltese waters or being serviced by vessels from Malta.\nThe immediate recognition by the Government of Malta of the State of Palestine.\n\nFREE PALESTINE  \nOrganisations:\nEmbassy of Palestine in MaltaĠustizzja għall-PalestinaMoviment GraffittiThe Lebanese AdvocatesThe Watermelon WarriorsYouth for Palestine
URL:https://mail.movimentgraffitti.org/event/act-now-against-genocide-in-gaza/
LOCATION:Parliament Square\, Valletta City Gate\, Valletta\, Malta
CATEGORIES:International Solidarity,Protest / March / Demonstration
ATTACH;FMTTYPE=image/jpeg:https://mail.movimentgraffitti.org/wp-content/uploads/2025/07/gaza-genocide-29jul.jpg
END:VEVENT
END:VCALENDAR