BEGIN:VCALENDAR
VERSION:2.0
PRODID:-//Moviment Graffitti - ECPv6.15.20//NONSGML v1.0//EN
CALSCALE:GREGORIAN
METHOD:PUBLISH
X-WR-CALNAME:Moviment Graffitti
X-ORIGINAL-URL:https://mail.movimentgraffitti.org
X-WR-CALDESC:Events for Moviment Graffitti
REFRESH-INTERVAL;VALUE=DURATION:PT1H
X-Robots-Tag:noindex
X-PUBLISHED-TTL:PT1H
BEGIN:VTIMEZONE
TZID:Europe/Malta
BEGIN:DAYLIGHT
TZOFFSETFROM:+0100
TZOFFSETTO:+0200
TZNAME:CEST
DTSTART:20240331T010000
END:DAYLIGHT
BEGIN:STANDARD
TZOFFSETFROM:+0200
TZOFFSETTO:+0100
TZNAME:CET
DTSTART:20241027T010000
END:STANDARD
BEGIN:DAYLIGHT
TZOFFSETFROM:+0100
TZOFFSETTO:+0200
TZNAME:CEST
DTSTART:20250330T010000
END:DAYLIGHT
BEGIN:STANDARD
TZOFFSETFROM:+0200
TZOFFSETTO:+0100
TZNAME:CET
DTSTART:20251026T010000
END:STANDARD
BEGIN:DAYLIGHT
TZOFFSETFROM:+0100
TZOFFSETTO:+0200
TZNAME:CEST
DTSTART:20260329T010000
END:DAYLIGHT
BEGIN:STANDARD
TZOFFSETFROM:+0200
TZOFFSETTO:+0100
TZNAME:CET
DTSTART:20261025T010000
END:STANDARD
END:VTIMEZONE
BEGIN:VEVENT
DTSTART;TZID=Europe/Malta:20250501T150000
DTEND;TZID=Europe/Malta:20250501T190000
DTSTAMP:20260424T085147
CREATED:20250414T082457Z
LAST-MODIFIED:20250414T082526Z
UID:7529-1746111600-1746126000@mail.movimentgraffitti.org
SUMMARY:Festa Ħaddiema
DESCRIPTION:Join us for Festa Ħaddiema (Workers’ Fest) on Thursday 1st May\, International Workers’ Day\, between 15:00 and 19:00 at the Council of Europe Garden in Gzira to remember the many workers’ struggles and achievements throughout history and to show solidarity with workers in Malta and around the world. \nThere will be socio-political activities and music performances by  \n\nKarmaġenn\nFunky Monkey\nSean Borg\nEdgar Allan Paul\n\nSolidarjetà will be facilitating a workshop about organising workers at the workplace. \nSammy Meilak\, a veteran dockyard worker and shop steward for many years and Dawn Sammut\, a mechanical engineer and activist\, will be sharing their experiences about work\, workers and workplaces. \nWe invite you to join us and to get some food and drinks to share and a cushion to sit on. Come and bring your friends to celebrate and to express your solidarity with workers.
URL:https://mail.movimentgraffitti.org/event/festa-haddiema/
LOCATION:Ġnien il-Kunsill tal-Ewropa\, WF2W+R56\, Ta' Xbiex\, Malta
CATEGORIES:Social Events,Workers' Rights & Living Income
ATTACH;FMTTYPE=image/jpeg:https://mail.movimentgraffitti.org/wp-content/uploads/2025/04/festa-haddiema.jpg
END:VEVENT
BEGIN:VEVENT
DTSTART;TZID=Europe/Malta:20250503T100000
DTEND;TZID=Europe/Malta:20250503T150000
DTSTAMP:20260424T085147
CREATED:20250428T090601Z
LAST-MODIFIED:20250428T091247Z
UID:7588-1746266400-1746284400@mail.movimentgraffitti.org
SUMMARY:Memories - Memorji
DESCRIPTION:MEMORIES: What Does Manoel Island Mean to You? Photos\, Stories\, History\, Community. \n Saturday\, 3rd May 10:00 AM Meet at Gżira Waterfront \nGot old photos or memories of Manoel Island? Bring your photos Share your stories Exchange ideas \nThen join us for a short walk on Manoel Island\, with some fascinating historical insights along the way! \nLet’s rediscover Manoel Island — together!Let’s make Manoel Island a Place for Us. \nBil-Malti: \n MEMORJI: Xi tfisser Manoel Island għalina? Ritratti\, Stejjer\, Storja\, Komunità. \n Is-Sibt\, 3 ta’ Mejju 10:00 AM Niltaqgħu: ix-Xatt tal-Gżira \nGħandek xi ritratti jew memorji ta’ Manoel Island? \n Ġib ir-ritratti miegħek Irrakkonta l-istejjer tiegħek Naqsmu l-ideat flimkien \nWara\, immorru għal mixja qasira fuq Manoel Island biex nisimgħu xi fatti interessanti dwar l-istorja tagħha! \nEjja nerġgħu niskopru lil Manoel Island flimkien! \n\nEjjew nagħmlu lil Manoel Island Post Għalina.
URL:https://mail.movimentgraffitti.org/event/memories-memorji/
LOCATION:Manoel Island\, WG32+8J2\, Gżira\, Malta
CATEGORIES:Defending Public Spaces & The Environment,Discussion / Presentation,Social Events
ATTACH;FMTTYPE=image/jpeg:https://mail.movimentgraffitti.org/wp-content/uploads/2025/04/manoel-island-memories.jpg
END:VEVENT
BEGIN:VEVENT
DTSTART;TZID=Europe/Malta:20250517T110000
DTEND;TZID=Europe/Malta:20250517T130000
DTSTAMP:20260424T085147
CREATED:20250506T141522Z
LAST-MODIFIED:20250506T141623Z
UID:7620-1747479600-1747486800@mail.movimentgraffitti.org
SUMMARY:IDAHOBIT - Kwirżitajiet Mill-Passat
DESCRIPTION:Nhar is-Sibt 17 ta’ Mejju\, il-Moviment Graffitti flimkien mal-MGRM se jorganizzaw mixja interessanti ġewwa l-Gżira flimkien ma Omar N’Shea li se joħodna lura fil-passat bir-rakkonti tiegħu u kwirżitajiet oħra dwar imkejjen ewlenin fil-Gżira marbutin mal-komunità LGBTIQ+. \nSe niltaqgħu fil-11.00 ta’ filgħodu fejn il-latrini ta’ maġenb il-Bus Stop Lounge u flimkien nimxu matul Ġnien il-Kunsil tal-Ewropa\, ngħaddu minn Triq Testaferrata u Triq l-iMsida\, nidħlu l-Orfeum\, u ninżlu x-Xatt. \nWara l-mixja se nibqgħu sejrin Manoel Island biex nieklu u nixorbu flimkien. Ġibu l-ikel u x-xorb magħkom. Qegħdin ngħaqqdu din l-attività mal-kampanja Manoel Island – Post Għalina għax l-ispazji pubbliċi qegħdin għalina biex ingawduhom u aħna hekk se nagħmlu. \nDin il-mixja se ssir biex infakkru l-Jum Internazzjonali kontra l-Omofobija\, l-Bifobija u t-Transfobija (IDAHOBIT)\, fi kliem ieħor huwa l-jum fejn niftakru f’kemm hawn persuni li jsofru mibgħeda\, diskriminazzjoni\, preġudizzji u inġustizzji minħabba li ma jikkonformawx mal-aspettattivi soċjali u kulturali tal-ġeneru u s-sesswalità. \nInħossu li għandna nagħtu importanza lil dan il-jum għax nemmnu li kull persuna għandha dritt tesprimi u tgħix il-ġeneru u s-sesswalità tagħha kif tixtieq hi mingħajr persekuzzjoni\, mibgħeda u diskriminazzjoni. \nNisperaw li narawkom biex flimkien insiru nafu ftit kwirżitajiet mill-passat! \nOmar N’Shea huwa akkademiku\, kittieb u riċerkatur. \nL-informazzjoni se tingħata bil-Malti.
URL:https://mail.movimentgraffitti.org/event/idahobit-kwirzitajiet-mill-passat/
LOCATION:Bus Stop Lounge\, WF3W+G62\, Il-Gżira\, Malta
CATEGORIES:LGBTIQ+ / Pride,Social Events
ATTACH;FMTTYPE=image/jpeg:https://mail.movimentgraffitti.org/wp-content/uploads/2025/05/idahobit-kwirzitajiet.jpg
END:VEVENT
BEGIN:VEVENT
DTSTART;TZID=Europe/Malta:20250517T150000
DTEND;TZID=Europe/Malta:20250517T170000
DTSTAMP:20260424T085147
CREATED:20250429T083704Z
LAST-MODIFIED:20250519T085047Z
UID:7595-1747494000-1747501200@mail.movimentgraffitti.org
SUMMARY:NAKBA 77 - March for a Free Palestine
DESCRIPTION:** POSTPONED TO SATURDAY 17TH MAY\, 15:00 DUE TO WEATHER ** \n On Thursday\, 15th May\, we will march along the Gżira waterfront to commemorate the 77th anniversary of the Nakba\, condemn the ongoing genocide in Gaza\, and raise our voices in solidarity for a free Palestine. \n The Nakba – meaning The Catastrophe – refers to the mass killing and expulsion of Palestinians in 1948 to make way for the establishment of the Israeli state. \n What followed – the theft of land and resources\, mass imprisonments\, apartheid\, occupation\, blockades\, and now genocide – represents the continuation of the project of colonisation and oppression by Israel of the Palestinian people. \n We call on Malta’s government\, institutions\, companies\, and citizens to  \n Officially recognise the State of Palestine Enforce an arms embargo Sanction vessels\, aircraft\, and individuals involved in the arms trade supporting the genocide Prevent Israeli war criminals from entering our peaceful islands \n We also call on Members of the European Parliament\, European institutions\, and European companies to  \n Suspend the EU-Israel Association Agreement until Israel complies with the rulings of the International Court of Justice (ICJ) Suspend Israel from participating in sports and cultural events\, including the Eurovision Song Contest\, following the precedent set with Russia after its invasion of Ukraine \n We will gather at the Council of Europe Garden in Gżira at 6:00pm. \n Bring Palestinian flags and keys — symbols of the Palestinian right and determination to return to their stolen homes and lands. \nFREE PALESTINE  \nĠustizzja għall-Palestina | Moviment Graffitti | The Watermelon Warriors | The Lebanese Advocates | Youth for Palestine | Embassy of Palestine in Malta
URL:https://mail.movimentgraffitti.org/event/nakba-77-march-for-a-free-palestine/
LOCATION:Ġnien il-Kunsill tal-Ewropa\, WF2W+R56\, Ta' Xbiex\, Malta
CATEGORIES:International Solidarity,Protest / March / Demonstration
ATTACH;FMTTYPE=image/jpeg:https://mail.movimentgraffitti.org/wp-content/uploads/2025/04/nakba-77-postponed.jpg
END:VEVENT
BEGIN:VEVENT
DTSTART;TZID=Europe/Malta:20250518T200000
DTEND;TZID=Europe/Malta:20250518T230000
DTSTAMP:20260424T085147
CREATED:20250519T085007Z
LAST-MODIFIED:20250519T085007Z
UID:7706-1747598400-1747609200@mail.movimentgraffitti.org
SUMMARY:Gig Għal Gżira - Manoel Island Post Għalina
DESCRIPTION:*TICKETS: https://fienta.com/manoel-island-sr* \nThe ‘Manoel Island Post Għalina’ Campaign seeks to bring the Manoel Island issue back to light at a time when the concession between the Maltese Parliament and MIDI is being renegotiated. We’re proposing a renegotiation that would turn Manoel Island into a national park instead of private apartments. This event is to raise funds for that campaign\, which\, of course\, has its costs. The money raised during this event will go directly back into the campaign\, and all musicians and event organisers involved are volunteers. For more information on the campaign itself\, visit https://www.manoelislandcampaign.com. \nEyes to Argus\, Karmaġenn (solo) and Marie Claire are well-known and loved by the local alternative music scene and have performed at Storeroom in the past. They’ve lovingly agreed to play as a contribution to the campaign. \nAdmission: €10Date: Sunday 18th MayTime: 8 PM
URL:https://mail.movimentgraffitti.org/event/gig-ghal-gzira-manoel-island-post-ghalina/
LOCATION:Storeroom\, VGX2+M5\, Ta' Xbiex\, Malta
CATEGORIES:Defending Public Spaces & The Environment,Social Events
ATTACH;FMTTYPE=image/jpeg:https://mail.movimentgraffitti.org/wp-content/uploads/2025/05/gig-ghal-gzira.jpg
END:VEVENT
BEGIN:VEVENT
DTSTART;TZID=Europe/Malta:20250522T183000
DTEND;TZID=Europe/Malta:20250522T203000
DTSTAMP:20260424T085147
CREATED:20250513T113831Z
LAST-MODIFIED:20250513T113831Z
UID:7633-1747938600-1747945800@mail.movimentgraffitti.org
SUMMARY:Community Discussion on the Anti-Gender Movement: Origins\, Tactics\, and Impact
DESCRIPTION:Join us for a community discussion on the anti-gender movement\, led by Maïté de Haan\, Belgian policy officer for the LGBTQI+ rights advocacy organization Çavaria. \nThe rise of the anti-gender movement has significant implications for LGBTQI+ rights\, women’s rights\, and sexual and reproductive rights. What exactly is this movement? Why does it exist? Who are the key actors\, and how do they work to influence society? \nIn this event we’ll examine their strategies\, motivations\, and the broader impacts of their activities. Together\, we’ll explore how we can work collectively to protect and advance gender equality and human rights in the face of these challenges. Maïté’s presentation will be followed by a discussion and a moment to share food\, drinks\, and conversations. \nWe’re meeting Thursday 22nd of May at 6:30 pm\, 67 Strait Street\, Valletta (Moviment Graffitti premises). \nMaïté (they/them) is a philosopher and policy officer in Belgium for Çavaria\, the LGBTQI+ rights advocacy organization. They work on a project titled “Gender Coalition.” This project is funded by the Institute for Equality between Women and Men in Belgium.
URL:https://mail.movimentgraffitti.org/event/community-discussion-on-the-anti-gender-movement-origins-tactics-and-impact/
LOCATION:Moviment Graffitti Premises\, 67\, Strait Street\, Valletta\, Malta
CATEGORIES:Discussion / Presentation,Feminism / Women's Rights,LGBTIQ+ / Pride
ATTACH;FMTTYPE=image/jpeg:https://mail.movimentgraffitti.org/wp-content/uploads/2025/05/anti-gender-discussion.jpg
END:VEVENT
BEGIN:VEVENT
DTSTART;TZID=Europe/Malta:20250527T183000
DTEND;TZID=Europe/Malta:20250527T203000
DTSTAMP:20260424T085147
CREATED:20250513T114020Z
LAST-MODIFIED:20250513T114020Z
UID:7637-1748370600-1748377800@mail.movimentgraffitti.org
SUMMARY:Her Health: Discussing Endometriosis and Sexism in the Maltese Health System
DESCRIPTION:Join us for an open discussion on the state of women’s health in Malta\, their struggles and the presence of sexist attitudes in the medical sectors. \nWe will meet on the 27th of May\, the eve of the International Day of Action for Women’s Health\, at 67\, Strait Street\, Valletta at 6:30pm. \nThe discussion will begin with informative presentations focusing on endometriosis\, delivered by Dr Angelika Biernacka Buttigieg and PhD researcher Martina Haber. Afterwards\, the public is invited to share personal experiences related to endometriosis or other women’s health issues. Attendees are also welcome to ask questions\, express impressions or concerns\, and share ideas for overcoming the limitations of the current medical system. \nEntrance is free. Please note that the event takes place on the first floor and access is via stairs. \nFollowing the discussion\, we will share some nibbles and drinks.
URL:https://mail.movimentgraffitti.org/event/her-health-discussing-endometriosis-and-sexism-in-the-maltese-health-system/
LOCATION:Moviment Graffitti Premises\, 67\, Strait Street\, Valletta\, Malta
CATEGORIES:Discussion / Presentation,Feminism / Women's Rights
ATTACH;FMTTYPE=image/jpeg:https://mail.movimentgraffitti.org/wp-content/uploads/2025/05/her-health-discussion.jpg
END:VEVENT
END:VCALENDAR