BEGIN:VCALENDAR
VERSION:2.0
PRODID:-//Moviment Graffitti - ECPv6.15.20//NONSGML v1.0//EN
CALSCALE:GREGORIAN
METHOD:PUBLISH
X-ORIGINAL-URL:https://mail.movimentgraffitti.org
X-WR-CALDESC:Events for Moviment Graffitti
REFRESH-INTERVAL;VALUE=DURATION:PT1H
X-Robots-Tag:noindex
X-PUBLISHED-TTL:PT1H
BEGIN:VTIMEZONE
TZID:Europe/Malta
BEGIN:DAYLIGHT
TZOFFSETFROM:+0100
TZOFFSETTO:+0200
TZNAME:CEST
DTSTART:20240331T010000
END:DAYLIGHT
BEGIN:STANDARD
TZOFFSETFROM:+0200
TZOFFSETTO:+0100
TZNAME:CET
DTSTART:20241027T010000
END:STANDARD
BEGIN:DAYLIGHT
TZOFFSETFROM:+0100
TZOFFSETTO:+0200
TZNAME:CEST
DTSTART:20250330T010000
END:DAYLIGHT
BEGIN:STANDARD
TZOFFSETFROM:+0200
TZOFFSETTO:+0100
TZNAME:CET
DTSTART:20251026T010000
END:STANDARD
BEGIN:DAYLIGHT
TZOFFSETFROM:+0100
TZOFFSETTO:+0200
TZNAME:CEST
DTSTART:20260329T010000
END:DAYLIGHT
BEGIN:STANDARD
TZOFFSETFROM:+0200
TZOFFSETTO:+0100
TZNAME:CET
DTSTART:20261025T010000
END:STANDARD
END:VTIMEZONE
BEGIN:VEVENT
DTSTART;TZID=Europe/Malta:20250205T183000
DTEND;TZID=Europe/Malta:20250205T193000
DTSTAMP:20260424T132117
CREATED:20250122T142747Z
LAST-MODIFIED:20250122T143321Z
UID:7260-1738780200-1738783800@mail.movimentgraffitti.org
SUMMARY:Film Screening - Io Capitano
DESCRIPTION:Join us for a screening of ‘Io Capitano’\, followed by drinks and a brief discussion! \nThe 2023 film portrays the journey of Seydou and Moussa\, two young boys from Dakar trying to reach Europe. \nThis movie will be shown a day before the Global Day of CommemorAction for the Dead\, Missing and Forcefully Disappeared at Sea and at the Borders. The Mediterranean Sea in particular remains one of the deadliest border spaces in the world. More than 2\,200 people died in the Sea in 2024\, resulting from many human rights violations by Maltese and other governments. \nAfter the screening\, we will have a brief discussion on the film and Baħar Ċimiterju\, followed by some drinks and nibbles. \nEntrance is free\, and you are welcome to bring your own snacks or purchase drinks from the bar! \nSee you there!
URL:https://mail.movimentgraffitti.org/event/film-screening-io-capitano/
LOCATION:Moviment Graffitti Premises\, 67\, Strait Street\, Valletta\, Malta
CATEGORIES:Migration / Migrants' Rights,Social Events
ATTACH;FMTTYPE=image/jpeg:https://mail.movimentgraffitti.org/wp-content/uploads/2025/01/io-capitano-film-screening.jpg
END:VEVENT
BEGIN:VEVENT
DTSTART;TZID=Europe/Malta:20250208T103000
DTEND;TZID=Europe/Malta:20250208T120000
DTSTAMP:20260424T132117
CREATED:20250212T084452Z
LAST-MODIFIED:20250212T084452Z
UID:7355-1739010600-1739016000@mail.movimentgraffitti.org
SUMMARY:Fort Chambray: The Truth we Cannot Demolish
DESCRIPTION:Is-saga tal-Forti Chambray\, li ilha sejra għal aktar minn 30 sena\, dejjem kienet ikkaratterizzata minn għadd ta’ kontroversji u deċiżjonijiet dubjużi. \nFit-12 ta’ Diċembru li għadda\, il-PA approvat it-tkissir tal-Barracks tal-Ingliżi fil-Forti Chambray u l-iżvilupp tal-Forti f’kumpless mostruż ta’ appartamenti\, aparthotel u stabbilimenti kummerċjali. \nIl-miżinformazzjoni madwar dan il-proġett hija waħda kbira. Il-poplu għandu dritt ikun jaf il-verità biex ikun kapaċi jifforma opinjoni infurmata. \nPereżempju\, huwa minnu li l-poplu se jkun jista’ jaċċessa l-Forti Chambray wara li dan jiġi żviluppat? Min se jkun qed iħallas għar-restawr tal-Forti Chambray\, il-Gvern jew l-iżviluppaturi? Il-pedamenti tal-Forti Chambray\, li huwa mibni fuq għolja tat-tafal\, huma sodi biżżejjed biex jifilħu dan l-iżvilupp? U l-Barracks tal-Ingliżi\, x’se jiġri minnhom? \nIngħaqdu magħna nhar is-Sibt 8 ta’ Frar fl-10.30am għal taħdita pubblika fejn se nkunu qed inwieġbu dawn il-mistoqsijiet u aktar. \n****** \nThe 30-year Fort Chambray saga has always been characterised by controversy and questionable decisions. \nOn 12 December 2024\, the PA approved the demolition of the British Barracks and the development of Fort Chambray into a monstrous complex of apartments\, an aparthotel and commercial establishments. \nThe misinformation that surrounds this project is robbing people of their right to know the truth. The public has the right to know the facts about the project to be able to form an informed opinion. \nFor instance\, will the public be able to access Fort Chambray once it is developed? Who will be financially responsible for the Fort’s restoration\, the Government or the developers? Are the Fort’s clay foundations stable enough for such a massive development? What will become of the British Barracks? \nJoin us on Saturday 8 February at 10.30am for a public talk where we will be answering these questions and more.
URL:https://mail.movimentgraffitti.org/event/fort-chambray-the-truth-we-cannot-demolish/
LOCATION:Moviment Graffitti Premises\, 67\, Strait Street\, Valletta\, Malta
CATEGORIES:Defending Public Spaces & The Environment,Discussion / Presentation
ATTACH;FMTTYPE=image/jpeg:https://mail.movimentgraffitti.org/wp-content/uploads/2025/02/fort-chambray-the-truth-we-cannot-demolish.jpg
END:VEVENT
BEGIN:VEVENT
DTSTART;TZID=Europe/Malta:20250220T183000
DTEND;TZID=Europe/Malta:20250220T203000
DTSTAMP:20260424T132117
CREATED:20250212T084654Z
LAST-MODIFIED:20250212T084654Z
UID:7359-1740076200-1740083400@mail.movimentgraffitti.org
SUMMARY:Needlework and Craft Hangout
DESCRIPTION:Get ready for a cozy evening filled with creativity at our Needlework and Craft Hangout! Whatever needlework or craft you prefer\, we invite you to join us for a relaxed and welcoming space! \nDate: Thursday\, 20th February 2025Time: 6:30 PMLocation: Moviment Graffitti Premises\, 67 Strait Street\, Valletta \nWhat to Bring  \nYour crafting materials! Be it hooks\, needles\, yarn\, or any other crafty material\, bring your own and to share too! We will have some limited yarn available. \nSnacks and drinks! We’ll provide some\, but feel free to bring along any extra goodies to share! \nThis is a safe space for all individuals\, and we celebrate every form of creativity here! Note: the venue is only accessible via stairs. \nWe look forward to seeing you there!
URL:https://mail.movimentgraffitti.org/event/needlework-and-craft-hangout/
LOCATION:Moviment Graffitti Premises\, 67\, Strait Street\, Valletta\, Malta
CATEGORIES:LGBTIQ+ / Pride,Social Events
ATTACH;FMTTYPE=image/jpeg:https://mail.movimentgraffitti.org/wp-content/uploads/2025/02/needlework-and-craft-hangout.jpg
END:VEVENT
BEGIN:VEVENT
DTSTART;TZID=Europe/Malta:20250227T170000
DTEND;TZID=Europe/Malta:20250227T190000
DTSTAMP:20260424T132117
CREATED:20250219T143327Z
LAST-MODIFIED:20250219T143327Z
UID:7415-1740675600-1740682800@mail.movimentgraffitti.org
SUMMARY:Craftivism - Make Placards with Us
DESCRIPTION:Come make placards with us as we gear up to the 2025 Women’s Day March – Kull Mara\, Kuljum\, Kullimkien. \nUnleash your creativity\, let out your anger and dream of a feminist liberation to make a powerful stand at the upcoming march. \nWe will have some cardboard and art supplies available\, but bring along any craft materials you may need! Our premises will be open from 5 – 7pm\, after which you can stay for a Queer Film Screening.
URL:https://mail.movimentgraffitti.org/event/craftivism-make-placards-with-us/
LOCATION:Moviment Graffitti Premises\, 67\, Strait Street\, Valletta\, Malta
CATEGORIES:Feminism / Women's Rights,Social Events
ATTACH;FMTTYPE=image/jpeg:https://mail.movimentgraffitti.org/wp-content/uploads/2025/02/craftivism.jpg
END:VEVENT
BEGIN:VEVENT
DTSTART;TZID=Europe/Malta:20250227T190000
DTEND;TZID=Europe/Malta:20250227T213000
DTSTAMP:20260424T132117
CREATED:20250212T084913Z
LAST-MODIFIED:20250212T084913Z
UID:7362-1740682800-1740691800@mail.movimentgraffitti.org
SUMMARY:Queer Film Club: Portrait of a Lady on Fire
DESCRIPTION:Leading up for International Women’s Day on the 8th of March\, our free queer film screening of this modern classic! \nMarianne\, a female painter\, is commissioned to paint a portrait of Heloise\, an aristocratic woman\, in a wedding dress. They soon fall in love with each other but cannot unite. \nCheck out the trailer here: https://youtu.be/R-fQPTwma9o?si=CqSd4ezEmKsst_XO \nEntrance is completely FREE.You are welcome to join us for a drink and a snack after the movie.
URL:https://mail.movimentgraffitti.org/event/queer-film-club-portrait-of-a-lady-on-fire/
LOCATION:Moviment Graffitti Premises\, 67\, Strait Street\, Valletta\, Malta
CATEGORIES:LGBTIQ+ / Pride,Social Events
ATTACH;FMTTYPE=image/jpeg:https://mail.movimentgraffitti.org/wp-content/uploads/2025/02/qfc-portrait.jpg
END:VEVENT
END:VCALENDAR