BEGIN:VCALENDAR
VERSION:2.0
PRODID:-//Moviment Graffitti - ECPv6.15.20//NONSGML v1.0//EN
CALSCALE:GREGORIAN
METHOD:PUBLISH
X-WR-CALNAME:Moviment Graffitti
X-ORIGINAL-URL:https://mail.movimentgraffitti.org
X-WR-CALDESC:Events for Moviment Graffitti
REFRESH-INTERVAL;VALUE=DURATION:PT1H
X-Robots-Tag:noindex
X-PUBLISHED-TTL:PT1H
BEGIN:VTIMEZONE
TZID:Europe/Malta
BEGIN:DAYLIGHT
TZOFFSETFROM:+0100
TZOFFSETTO:+0200
TZNAME:CEST
DTSTART:20230326T010000
END:DAYLIGHT
BEGIN:STANDARD
TZOFFSETFROM:+0200
TZOFFSETTO:+0100
TZNAME:CET
DTSTART:20231029T010000
END:STANDARD
BEGIN:DAYLIGHT
TZOFFSETFROM:+0100
TZOFFSETTO:+0200
TZNAME:CEST
DTSTART:20240331T010000
END:DAYLIGHT
BEGIN:STANDARD
TZOFFSETFROM:+0200
TZOFFSETTO:+0100
TZNAME:CET
DTSTART:20241027T010000
END:STANDARD
BEGIN:DAYLIGHT
TZOFFSETFROM:+0100
TZOFFSETTO:+0200
TZNAME:CEST
DTSTART:20250330T010000
END:DAYLIGHT
BEGIN:STANDARD
TZOFFSETFROM:+0200
TZOFFSETTO:+0100
TZNAME:CET
DTSTART:20251026T010000
END:STANDARD
END:VTIMEZONE
BEGIN:VEVENT
DTSTART;TZID=Europe/Malta:20241201T110000
DTEND;TZID=Europe/Malta:20241201T120000
DTSTAMP:20260424T163808
CREATED:20241125T151814Z
LAST-MODIFIED:20241125T151946Z
UID:7168-1733050800-1733054400@mail.movimentgraffitti.org
SUMMARY:Aħna Pożittivi - World AIDS Day Rally 2024
DESCRIPTION:On Sunday\, 1st December\, Moviment Graffitti will be joining other organisations to commemorate World AIDS Day. This is an international day of remembrance for all those lost to the AIDS epidemic. \n\n To mark this day\, a coalition of organisations\, Checkpoint Malta\, HIV Malta\, MGRM\, Moviment Graffitti\, LGBTI+ Gozo\, Allied Rainbow Communities – ARC and aditus\, will be organising We Are Positive: Time for Action – World AIDS Day Rally\, at Castille Square in Valletta at 11.00 a.m.\n The aim of the rally is to give visibility to HIV\, to fight the stigma that still surrounds HIV\, and to give a human face to HIV. The rally will also emphasise the importance of testing for HIV since that is the only way that HIV can be managed. Not knowing one’s status and not taking medication will lead to advanced HIV (AIDS).\nPeople living with HIV face a great deal of stigma to the extent that they often keep their status a secret. As a result\, they have very few sources of support. Additionally\, there is very little public awareness about this topic. Not many people may know that nowadays\, with regular medication\, the virus is controlled to the extent that it cannot be passed on to others during sex. Therefore people with HIV who have access to medication can live long and healthy lives. Therefore\, the coalition believes that HIV medication should be accessible to everyone regardless of nationality and residency status.\n The organisations will also remind the government that it has yet to fulfil its electoral promise of providing free preventive medication\, PrEP and PEP for those who are at risk of contracting HIV and spreading it to others. Malta has one of the highest HIV diagnoses in Europe and there are hundreds of people living with HIV in Malta.\n\nCome and join us in the fight against HIV and AIDS.
URL:https://mail.movimentgraffitti.org/event/ahna-pozittivi-2024/
LOCATION:Castille Square\, VGW6+88F\, Valletta\, Malta
CATEGORIES:LGBTIQ+ / Pride,Protest / March / Demonstration
ATTACH;FMTTYPE=image/jpeg:https://mail.movimentgraffitti.org/wp-content/uploads/2024/11/ahna-pozittivi-2024.jpg
END:VEVENT
BEGIN:VEVENT
DTSTART;TZID=Europe/Malta:20241206T203000
DTEND;TZID=Europe/Malta:20241207T010000
DTSTAMP:20260424T163808
CREATED:20241115T123405Z
LAST-MODIFIED:20241115T123405Z
UID:7142-1733517000-1733533200@mail.movimentgraffitti.org
SUMMARY:GRAFFESTA!
DESCRIPTION:IX-XELLUGIN GĦALQU TLETIN (U GĦALHEKK\, SE JAGĦMLU FESTIN!) \nYou’re invited to GRAFFESTA! \nJoin Moviment Graffitti as we mark 30 years of activism and celebrate with some of our favourite local acts. \nOur stellar lineup includes KARMAGENN\, BEANGROWERS and BRODU for one night only\, at The Garage. \nDoors open at 8:30 and tickets can be bought online from https://shop.trackagescheme.com/event/graffesta/ \nVenue is for ages 17 and above. All profits from ticket sales will go to support Moviment Graffitti towards another 30 years. \nWe’ll see you there\, and wear your dancing shoes!
URL:https://mail.movimentgraffitti.org/event/graffesta/
LOCATION:The Garage\, VCFX+JC5\, Żebbuġ\, Malta
CATEGORIES:Social Events
ATTACH;FMTTYPE=image/jpeg:https://mail.movimentgraffitti.org/wp-content/uploads/2024/11/graffesta.jpg
END:VEVENT
END:VCALENDAR