BEGIN:VCALENDAR
VERSION:2.0
PRODID:-//Moviment Graffitti - ECPv6.15.20//NONSGML v1.0//EN
CALSCALE:GREGORIAN
METHOD:PUBLISH
X-ORIGINAL-URL:https://mail.movimentgraffitti.org
X-WR-CALDESC:Events for Moviment Graffitti
REFRESH-INTERVAL;VALUE=DURATION:PT1H
X-Robots-Tag:noindex
X-PUBLISHED-TTL:PT1H
BEGIN:VTIMEZONE
TZID:Europe/Malta
BEGIN:DAYLIGHT
TZOFFSETFROM:+0100
TZOFFSETTO:+0200
TZNAME:CEST
DTSTART:20230326T010000
END:DAYLIGHT
BEGIN:STANDARD
TZOFFSETFROM:+0200
TZOFFSETTO:+0100
TZNAME:CET
DTSTART:20231029T010000
END:STANDARD
BEGIN:DAYLIGHT
TZOFFSETFROM:+0100
TZOFFSETTO:+0200
TZNAME:CEST
DTSTART:20240331T010000
END:DAYLIGHT
BEGIN:STANDARD
TZOFFSETFROM:+0200
TZOFFSETTO:+0100
TZNAME:CET
DTSTART:20241027T010000
END:STANDARD
BEGIN:DAYLIGHT
TZOFFSETFROM:+0100
TZOFFSETTO:+0200
TZNAME:CEST
DTSTART:20250330T010000
END:DAYLIGHT
BEGIN:STANDARD
TZOFFSETFROM:+0200
TZOFFSETTO:+0100
TZNAME:CET
DTSTART:20251026T010000
END:STANDARD
END:VTIMEZONE
BEGIN:VEVENT
DTSTART;TZID=Europe/Malta:20241107T190000
DTEND;TZID=Europe/Malta:20241124T220000
DTSTAMP:20260424T174451
CREATED:20241021T115455Z
LAST-MODIFIED:20241021T115553Z
UID:7030-1731006000-1732485600@mail.movimentgraffitti.org
SUMMARY:FEJN KONTU?! - 30 Sena ta' Attiviżmu
DESCRIPTION:It’s been 30 years since Moviment Graffitti was founded by a group of students hungry for change\, over the decades developing into the activist group we now know and love (or hate). We’re commemorating this milestone with an exhibition showcasing our work and history\, through media and photographs from our archives\, as well as mixed media works and performances from a number of artists supporting our cause\, created in the spirit of leftist activism. \nWe are inviting you to ‘FEJN KONTU?!’ – a 2-week long exhibition focused on Moviment Graffitti’s 30 years of history. The exhibition will launch on the 7th November at Società Dante Alighieri\, 134 Old Bakery Street\, Valletta. \nFeaturing artworks and performances by:\nJulia Alegre Mouslim\, Sam Alekksandra\, Artivist Dance Collective\, Lana Berty Spiteri\, Graffitti Crochet Club\, Antonella Bugeja\, Charlene Galea\, Claria Cutajar\, Massimo Denaro\, PONKS x Alberto Favaro\, Bianca Killinger\, Jelka Kretzschmar\, Nik Keter\, Riyad Khouri\, Duška Malešević\, Elio Mazzara\, Hakki Ulas Tomac\, Amy Theuma\, Francesca Zammit. \nExhibition Dates: 7th – 24th November 2024 \nLocation: Società Dante Alighieri\, 134 Old Bakery Street\, Valletta \nTHURSDAY 7 NOVEMBER at 7pm: Join us for the opening event with speeches from the curatorial team and a special performance by the Kor ReSisters. \nThroughout these two weeks\, we’ll share more updates on events and performances\, highlighting the creative voices and ongoing activism that have shaped Moviment Graffitti’s journey. \nWe look forward to seeing you there! \n****** \nGħaddew 30 sena minn meta l-Moviment Graffitti ġie mwaqqaf minn grupp ta’ studenti għatxana għall-bidla. Matul is-snin\, il-Moviment Graffitti żviluppa fil-grupp attivist li nafu llum u li tant inħobbu (jew nobogħdu). Se nkunu qegħdin infakkru t-30 sena mit-twaqqif tal-grupp permezz ta’ esebizzjoni dwar l-istorja u x-xogħol tagħna matul is-snin\, billi nuru ritratti u media mill-arkivji tagħna\, kif ukoll xogħlijiet u prestazzjonijiet minn numru ta’ artisti\, li lkoll kemm huma ġew imnebbħa mill-ispirtu tal-attiviżmu xellugi. \nQegħdin nistednukom għal ‘FEJN KONTU?!’ – esebizzjoni ta’ ġimagħtejn dwar it-30 sena anniversarju tagħna. L-esebizzjoni tiftaħ fis-7 ta’ Novembru ġewwa s-Società Dante Alighieri\, 134 Triq l-Ifran\, il-Belt Valletta. \nFost l-artisti li se jkunu qed jieħdu sehem bix-xogħlijiet u l-prestazzjonijiet tagħhom insibu lil:\nJulia Alegre Mouslim\, Sam Alekksandra\, Artivist Dance Collective\, Lana Berty Spiteri\, Graffitti Crochet Club\, Antonella Bugeja\, Charlene Galea\, Claria Cutajar\, Massimo Denaro\, PONKS x Alberto Favaro\, Bianca Killinger\, Jelka Kretzschmar\, Nik Keter\, Riyad Khouri\, Duška Malešević\, Elio Mazzara\, Hakki Ulas Tomac\, Amy Theuma\, Francesca Zammit. \nL-esebizzjoni se tkun miftuħa mis-7 sal-24 ta’ Novembru. \nSe tkun qed tittella’ fis-Società Dante Alighieri\, 134 Triq l-Ifran\, il-Belt Valletta. \nIL-ĦAMIS 7 ta NOVEMBRU fis-7pm: Ingħaqdu magħna għall-ftuħ uffiċjali tal-esebizzjoni\, li jinkludi diskorsi mit-tim kuratorjali u prestazzjoni qasira mill-Kor ReSisters. \nTul dawn il-ġimagħtejn\, se nkunu qed naqsmu magħkom aktar aġġornamenti dwar l-avvenimenti u l-prestazzjonijiet\, li se jkunu qed jixħtu dawl fuq l-ilħna kreattivi u l-attiviżmu kostanti li ffurmaw il-vjaġġ tal-Moviment Graffitti. \nNinsabu ħerqana biex narawkom hemm!
URL:https://mail.movimentgraffitti.org/event/fejn-kontu-30-sena-ta-attivizmu/
LOCATION:Società Dante Alighieri – Comitato di Malta\, 134 Triq l-Ifran\, Valletta\, Malta
CATEGORIES:Discussion / Presentation
ATTACH;FMTTYPE=image/jpeg:https://mail.movimentgraffitti.org/wp-content/uploads/2024/10/fejn-kontu-exhibition-cover.jpg
END:VEVENT
BEGIN:VEVENT
DTSTART;TZID=Europe/Malta:20241116T140000
DTEND;TZID=Europe/Malta:20241116T160000
DTSTAMP:20260424T174451
CREATED:20241115T123154Z
LAST-MODIFIED:20241115T123154Z
UID:7134-1731765600-1731772800@mail.movimentgraffitti.org
SUMMARY:Solidarity Vigil outside the U.S. Embassy in Malta
DESCRIPTION:Solidarity vigil outside the Embassy of the United States of America to Malta. We encourage you to wear black. \nWe the undersigned groups and individuals\, concerned about the growing military escalation in the Mediterranean region\, stand here today to deliver our message to the government and people of the United States of America. \nThe catastrophic situation in Gaza\, in Lebanon and the Middle East Region today was not inevitable. The failure to prevent this catastrophe is a horrifying failure of global and western diplomacy\, and will go down on history as one of humanity’s most shameful chapters since the second world war. Further deterioration may still be avoided. \nRecalling the letter sent on 13 October 2024 by the United States Government\, exhorting the Government of Israel to take concrete measures to alleviate the humanitarian crisis in Gaza over the following 30 days\, or face a reduction in the military support being funded by the United States taxpayer; \nRecalling the succession of warnings by the UN rapporteur\, by international bodies and by the United States Government of the possibility that war crimes were being committed by Israel in Gaza; \nWe note with the deepest concern that the humanitarian situation has continued to deteriorate further\, most critically in northern Gaza. \nWe further note that the deadline of 12 November\, set by the Government of the United States\, has come and gone\, however the concerns that were raised repeatedly by the United States Government have not yet been translated into meaningful action. \nWe urge you to take concrete steps to stop facilitating\, enabling\, and further aggravating the ongoing humanitarian catastrophe through the supply of weapons and military hardware to the region.
URL:https://mail.movimentgraffitti.org/event/solidarity-vigil-outside-the-u-s-embassy-in-malta/
LOCATION:United States of America Embassy\, VCRG+7P9\, Attard\, Malta
CATEGORIES:International Solidarity,Protest / March / Demonstration
ATTACH;FMTTYPE=image/jpeg:https://mail.movimentgraffitti.org/wp-content/uploads/2024/11/us-embassy-demonstration-palestine-2024-e1731673899948.jpg
END:VEVENT
BEGIN:VEVENT
DTSTART;TZID=Europe/Malta:20241117T180000
DTEND;TZID=Europe/Malta:20241117T190000
DTSTAMP:20260424T174451
CREATED:20241115T122751Z
LAST-MODIFIED:20241115T123738Z
UID:7130-1731866400-1731870000@mail.movimentgraffitti.org
SUMMARY:FEJN KONTU?! - Performance "Għeruq Imħabblin"
DESCRIPTION:“Għeruq Imħabblin”\, a site-specific performance created and choreographed by Chakib Zidi\, founder of @artivist_dance_theater_coll specifically for the “Fejn Kontu” exhibition. \nThe piece delves into the narratives of queer\, women and refugee communities\, using dance and music as a medium to express the complexities of love\, resilience\, and identity in the face of displacement and marginalization. \nThe performance is rooted in themes of cultural belonging and human rights\, aiming to give voice to those often silenced or overlooked. The collective\, founded by Zidi\, is known for its commitment to using art as a form of activism\, shedding light on social justice issues. This work not only celebrates diversity but also calls for solidarity and understanding. \nChoreographed and directed by: Chakib Zidi in collaboration with:\n– Dancers: Sarah Sammut\, Sarah Vella\, Nicole Zammit\, Lucy Keenan\n– Performers/Musicians: Sebastián Ortiz\, Ana Milena Lozada Avella\n– Music: SONGAIA\, Ana Milena Lozada Avella\, Sebastián Ortiz\, René Junior Juan Gaia. \nLocation: Società Dante Alighieri\, 134 Old Bakery Street\, Valletta. \n****** \n“Għeruq Imħabblin”\, prestazzjoni maħsuba għal spazju partikolari\, ġiet maħluqa b’koreografija ta’ Chakib Zidi\, il-fundatur tal-Artivist Dance Theatre Collective\, speċifikament għall-wirja “FEJN KONTU?! – 30 Sena ta’ Attiviżmu”. \nDan ix-xogħol jidħol fin-narrattivi tal-komunitajiet queer\, u l-komunitajiet tan-nisa u r-refuġjati\, billi juża ż-żfin u l-mużika bħala mezzi li jesprimu l-kumplessitajiet tal-imħabba\, ir-reżiljenza u l-identità fid-dawl tal-ispostament u l-emarġinazzjoni. \nIl-prestazzjoni ssib l-għeruq tagħha fit-temi tal-appartenenza kulturali u d-drittijiet tal-bniedem\, bil-għan li tagħti vuċi lil dawk li spiss jiġu msikkta jew injorati. Il-kollettiv\, imwaqqaf minn Zidi\, huwa magħruf għall-impenn tiegħu biex juża l-arti bħala forma ta’ attiviżmu\, u dan jitfa’ dawl fuq kwistjonijiet ta’ ġustizzja soċjali. Dan ix-xogħol mhux biss jiċċelebra d-diversità iżda jitlob ukoll li wieħed jifhem u juri solidarjetà. \nKoreografija u direzzjoni ta’: Chakib Zidi\, b’kollaborazzjoni ma’:\n– Żeffiena: Sarah Sammut\, Sarah Vella\, Nicole Zammit\, Lucy Keenan\n– Artisti/Mużiċisti: Sebastián Ortiz\, Ana Milena Lozada Avella\n– Mużika: SONGAIA\, Ana Milena Lozada Avella\, Sebastián Ortiz\, René Junior\, Juan Gaia. \nNhar il-Ħadd 17 ta’ Novembru fis-6pm\, ġewwa Società Dante Alighieri\, 134 Triq l-Ifran\, Valletta.
URL:https://mail.movimentgraffitti.org/event/fejn-kontu-performance-gheruq-imhabblin/
LOCATION:Società Dante Alighieri – Comitato di Malta\, 134 Triq l-Ifran\, Valletta\, Malta
CATEGORIES:LGBTIQ+ / Pride,Migration / Migrants' Rights,Social Events
ATTACH;FMTTYPE=image/jpeg:https://mail.movimentgraffitti.org/wp-content/uploads/2024/11/fejn-kontu-performance-adtc-e1731673660888.jpg
END:VEVENT
BEGIN:VEVENT
DTSTART;TZID=Europe/Malta:20241120T183000
DTEND;TZID=Europe/Malta:20241120T213000
DTSTAMP:20260424T174451
CREATED:20241104T181737Z
LAST-MODIFIED:20241104T181737Z
UID:7092-1732127400-1732138200@mail.movimentgraffitti.org
SUMMARY:Screening of 'Herself'
DESCRIPTION:Join us for a screening of ‘Herself’ on 20th November at 18:30\, in the lead up to the International Day for the Elimination of Violence Against Women. \nThe 2020 film\, directed by Phyllida Lloyd\, follows Sandra\, a single mother who leaves and moves away from her abusive partner. She struggles to move on independently with her two young daughters\, but is determined to find her own way. The film’s title may suggest that Sandra ends up building her future alone\, however this impactful story explores how she succeeds with the help of others. \nAfter the screening\, we will have a brief discussion about the film and relating to violence against women in the local context\, followed by some drinks and nibbles. \nEntrance is free\, and you are welcome to bring snacks or purchase drinks from the bar! \n\nSee you there!
URL:https://mail.movimentgraffitti.org/event/screening-of-herself/
LOCATION:Moviment Graffitti Premises\, 67\, Strait Street\, Valletta\, Malta
CATEGORIES:Discussion / Presentation,Feminism / Women's Rights
ATTACH;FMTTYPE=image/jpeg:https://mail.movimentgraffitti.org/wp-content/uploads/2024/11/herself.jpg
END:VEVENT
BEGIN:VEVENT
DTSTART;TZID=Europe/Malta:20241121T183000
DTEND;TZID=Europe/Malta:20241121T200000
DTSTAMP:20260424T174451
CREATED:20241109T113520Z
LAST-MODIFIED:20241109T113820Z
UID:7113-1732213800-1732219200@mail.movimentgraffitti.org
SUMMARY:FEJN KONTU?! - Banda Workshop
DESCRIPTION:Moviment Graffitti’s Banda are indubitably an iconic part of our history – drumming up beats of resistance in the numerous protests and rallies over the years. As part of Moviment Graffitti’s 30th anniversary celebrations\, our Banda members will be hosting a workshop on the 21st of November at 18:30. \nIt will be held in the exhibition space\, at Società Dante Alighieri at 134\, Old Bakery Street (a few doors down from Drunken Dumpling). \nThe workshop will go through the basics of protest drumming\, including the different sounds and types of drums\, communication signals while drumming\, and of course drumming a short rhythm. \nNo previous skills are required and anyone is welcome to join. The workshop is free\, and donations to Moviment Graffitti are welcome.
URL:https://mail.movimentgraffitti.org/event/fejn-kontu-banda-workshop/
LOCATION:Società Dante Alighieri – Comitato di Malta\, 134 Triq l-Ifran\, Valletta\, Malta
CATEGORIES:Discussion / Presentation,Protest / March / Demonstration
ATTACH;FMTTYPE=image/jpeg:https://mail.movimentgraffitti.org/wp-content/uploads/2024/11/banda-workshop-nov21-cover.jpg
END:VEVENT
BEGIN:VEVENT
DTSTART;TZID=Europe/Malta:20241122T073000
DTEND;TZID=Europe/Malta:20241122T083000
DTSTAMP:20260424T174451
CREATED:20241119T092143Z
LAST-MODIFIED:20241119T092143Z
UID:7150-1732260600-1732264200@mail.movimentgraffitti.org
SUMMARY:Echoes of Silence: A tribute to Bernice Cilia on the second anniversary of her passing
DESCRIPTION:Last year\, we walked together in silent tribute to remember and honour the life of Bernice\, whose life was tragically taken by femicide. Your presence during ‘Echoes of Silence’ symbolised our shared commitment to fighting domestic and gender-based violence\, and we were deeply moved by your solidarity. \nThis year\, we invite you again to join us in another march of remembrance and awareness. Together\, we will continue to stand in solidarity\, honouring Bernice’s memory and demanding a world free from violence against women. \nIf you knew Bernice\, were touched by her story\, or have faced the pain of domestic or gender-based violence\, we invite you to join us to stand with us in remembrance\, strength\, and hope for a world free from violence. \nPlease share this invitation with others who may wish to join and support this important cause.
URL:https://mail.movimentgraffitti.org/event/echoes-of-silence-a-tribute-to-bernice-cilia-on-the-second-anniversary-of-her-passing/
LOCATION:MCAST\, The Malta College of Arts\, Science & Technology\, Paola\, Malta
CATEGORIES:Feminism / Women's Rights,Protest / March / Demonstration
ATTACH;FMTTYPE=image/jpeg:https://mail.movimentgraffitti.org/wp-content/uploads/2024/11/bernice-cilia-2nd-anniversary-e1732008064142.jpg
END:VEVENT
BEGIN:VEVENT
DTSTART;TZID=Europe/Malta:20241124T153000
DTEND;TZID=Europe/Malta:20241124T170000
DTSTAMP:20260424T174451
CREATED:20241106T155007Z
LAST-MODIFIED:20241115T123711Z
UID:7099-1732462200-1732467600@mail.movimentgraffitti.org
SUMMARY:Her Plight\, Our Fight - Demonstration
DESCRIPTION:25th November is the International Day for the Elimination of Violence Against Women. Moviment Graffitti\, along with MGRM and YPB\, are organizing a demonstration in front of the Law Courts on Sunday 24th at 3:30pm as resistance to this violence that women face every day\, and to empower women to take a stand against our culture of violence. \nWe are protesting the pervasive culture of violence that is normalised\, in Malta and worldwide\, – the visible and the violence behind closed doors\, the violence concealed behind jokes and the femicides we hear about far too late. For all the women who have been made fun of\, catcalled\, harassed\, and killed. \nBe part of the fight against gender-based violence\, which affects mostly women and girls\, but also non-binary and trans people. You are encouraged to bring your placards and energy against this patriarchal violence.
URL:https://mail.movimentgraffitti.org/event/her-plight-our-fight-demonstration/
LOCATION:Law Courts\, VGX6+9RQ\, Republic Street\, Valletta\, Malta
CATEGORIES:Feminism / Women's Rights,Protest / March / Demonstration
ATTACH;FMTTYPE=image/jpeg:https://mail.movimentgraffitti.org/wp-content/uploads/2024/11/her-plight-our-fight.jpg
END:VEVENT
END:VCALENDAR