BEGIN:VCALENDAR
VERSION:2.0
PRODID:-//Moviment Graffitti - ECPv6.15.20//NONSGML v1.0//EN
CALSCALE:GREGORIAN
METHOD:PUBLISH
X-ORIGINAL-URL:https://mail.movimentgraffitti.org
X-WR-CALDESC:Events for Moviment Graffitti
REFRESH-INTERVAL;VALUE=DURATION:PT1H
X-Robots-Tag:noindex
X-PUBLISHED-TTL:PT1H
BEGIN:VTIMEZONE
TZID:Europe/Malta
BEGIN:DAYLIGHT
TZOFFSETFROM:+0100
TZOFFSETTO:+0200
TZNAME:CEST
DTSTART:20230326T010000
END:DAYLIGHT
BEGIN:STANDARD
TZOFFSETFROM:+0200
TZOFFSETTO:+0100
TZNAME:CET
DTSTART:20231029T010000
END:STANDARD
BEGIN:DAYLIGHT
TZOFFSETFROM:+0100
TZOFFSETTO:+0200
TZNAME:CEST
DTSTART:20240331T010000
END:DAYLIGHT
BEGIN:STANDARD
TZOFFSETFROM:+0200
TZOFFSETTO:+0100
TZNAME:CET
DTSTART:20241027T010000
END:STANDARD
BEGIN:DAYLIGHT
TZOFFSETFROM:+0100
TZOFFSETTO:+0200
TZNAME:CEST
DTSTART:20250330T010000
END:DAYLIGHT
BEGIN:STANDARD
TZOFFSETFROM:+0200
TZOFFSETTO:+0100
TZNAME:CET
DTSTART:20251026T010000
END:STANDARD
END:VTIMEZONE
BEGIN:VEVENT
DTSTART;TZID=Europe/Malta:20240930T090000
DTEND;TZID=Europe/Malta:20241003T153000
DTSTAMP:20260424T191355
CREATED:20240929T113434Z
LAST-MODIFIED:20240929T113434Z
UID:6901-1727686800-1727969400@mail.movimentgraffitti.org
SUMMARY:Meet us at the KSU Freshers' Week
DESCRIPTION:Studenti Graffitti\, the student wing of Moviment Graffitti\, will be present at The KSU Freshers’ Week 2024 from Monday 30th Sept till Thursday 3th of October between 9 a.m. and 3:30 p.m. \nVisit our stand to join our organisation and learn about our work on feminism\, worker’s rights\, the environment\, immigration\, LGBTIQ+ rights and more. \nWe want to hear your ideas on the issues you find at University so that we can also be a platform for student campaigns. There will also be some merchandise and stickers up for grabs so head over to our stand to learn more! \nSee you there!
URL:https://mail.movimentgraffitti.org/event/meet-us-at-the-ksu-freshers-week/
LOCATION:University of Malta\, L-Università ta' Malta\, Msida\, Malta
CATEGORIES:Studenti Graffitti
ATTACH;FMTTYPE=image/jpeg:https://mail.movimentgraffitti.org/wp-content/uploads/2024/09/ksu-freshers-week-2024.jpg
END:VEVENT
BEGIN:VEVENT
DTSTART;TZID=Europe/Malta:20241006T150000
DTEND;TZID=Europe/Malta:20241006T170000
DTSTAMP:20260424T191355
CREATED:20240926T151420Z
LAST-MODIFIED:20240926T151459Z
UID:6887-1728226800-1728234000@mail.movimentgraffitti.org
SUMMARY:One Year of Genocide
DESCRIPTION:It has been one year of genocide in Gaza and 76 years of relentless oppression by Israel against the Palestinian people. \nThe complicity of many Western countries in Israeli atrocities has allowed this unbearable situation to deteriorate further. Israel has now intensified its brutal aggression against the Lebanese people\, who have long endured the brunt of Israel’s terror and colonial ambitions. \nOn Sunday\, 6th October\, we will gather in Parliament Square\, Valletta\, to express our outrage at this unspeakable injustice. We aim to continue participating in the global movement of solidarity with the Palestinian people and all those targeted by Israeli violence and oppression. \nOver the past year\, more than 42\,000 Palestinians have been massacred in Gaza\, mostly children and women\, while the rest of the population faces starvation and disease. In the occupied West Bank\, Israeli settler attacks on Palestinians have greatly intensified\, and Israeli occupation forces have escalated their deadly assaults on villages\, refugee camps\, journalists\, and activists. \nFrom the outset\, the state of Israel has had a clear project to expel Palestinians from their land in order to colonise it. For Palestinians\, this has meant 76 years of occupation\, apartheid\, and regular massacres. \nHowever\, it has also meant 76 years of Palestinian resistance and a global struggle for the liberation of Palestine. We will continue to stand with the Palestinian people in their pursuit of justice and freedom. \nJoin us on Sunday\, 6th October\, at 3 pm. \nFREE PALESTINE   \n[Illustration by Dina Fawakhiri from the Free Palestine Project – https://freepalestineproject.com] \n****** \nGħaddiet sena ta’ ġenoċidju f’Gaża u għaddew 76 sena ta’ oppressjoni ħarxa mill-Iżrael fuq il-poplu Palestinjan. \nIl-kompliċità ta’ ħafna pajjiżi tal-Punent fl-atorċitajiet Iżraeljani ħallew din is-sitwazzjoni tal-waħx tmur mill-ħażin għall-agħar. L-Iżrael issa intensifika l-aggressjoni brutali tiegħu kontra l-poplu Libaniż\, li ilu għal żmien twil iġarrab it-terrur tal-ambizzjonijiet kolonjali Iżraeljani. \nNhar il-Ħadd 6 ta’ Ottubru ser niltaqgħu quddiem il-Parlament\, fil-Belt Valletta\, sabiex nesprimu r-rabja tagħna lejn din l-inġustizzja bla qies. L-għan tagħna huwa li nkomplu nkunu parti mill-moviment dinji ta’ solidarjetà mal-Palestina u ma’ dawk kollha fil-mira tal-vjolenza u l-oppressjoni Iżraeljana. \nMatul din l-aħħar sena\, 42\,000 Palestinjan safa’ immassakrat f’Gaża\, l-iktar tfal u nisa\, filwaqt li l-bqija tal-popolazzjoni qiegħda tmut bil-ġuħ u bil-mard. Fix-Xatt tal-Punent okkupat\, l-attakki tal-insedjamenti Iżraeljani żdiedu bil-kbir\, u l-forzi tal-okkupazzjoni Iżraeljana eskalaw l-aggressjonijiet qattiela tagħhom fuq irħula\, kampijiet tar-refuġjati\, ġurnalisti u attivisti. \nMill-bidu nett\, l-Iżrael kellu proġett ċar li jkeċċi l-Palestinjani minn dik l-art sabiex jeħodha hu. Għal Palestinjani\, dan fisser 76 sena ta’ okkupazzjoni\, apartheid u massakri. \nIżda dan fisser ukoll 76 sena ta’ reżistenza mill-poplu Palestinjan\, kif ukoll sforzi globali favur Palestina ħielsa. Aħna ser inkomplu ningħaqdu f’solidarjetà mal-poplu Palestinjan u nagħtuh l-appoġġ tagħna fit-tfittxija tiegħu tal-ġustizzja u l-ħelsien. \nIngħaqdu magħna nhar il-Ħadd\, 6 ta’ Ottubru\, fit-3pm. \nPALESTINA ĦIELSA   \n[Stampa ta’ Dina Fawakhiri mill-Free Palestine Project – https://freepalestineproject.com]
URL:https://mail.movimentgraffitti.org/event/one-year-of-genocide/
LOCATION:Parliament Square\, Valletta City Gate\, Valletta\, Malta
CATEGORIES:International Solidarity,Protest / March / Demonstration
ATTACH;FMTTYPE=image/jpeg:https://mail.movimentgraffitti.org/wp-content/uploads/2024/09/one-year-of-genocide-palestine.jpg
END:VEVENT
BEGIN:VEVENT
DTSTART;TZID=Europe/Malta:20241007T083000
DTEND;TZID=Europe/Malta:20241010T123000
DTSTAMP:20260424T191355
CREATED:20241017T084004Z
LAST-MODIFIED:20241017T084004Z
UID:7020-1728289800-1728563400@mail.movimentgraffitti.org
SUMMARY:Meet us at MCAST Freshers' Week
DESCRIPTION:Studenti Graffitti\, the student wing of Moviment Graffitti\, will be present at The MCAST Freshers’ Week 2024 from Monday 7th till Thursday 10th of October between 8:30 a.m. and 12:30 p.m. \nVisit our stand to join our organisation and learn about our work on feminism\, worker’s rights\, the environment\, immigration\, LGBTIQ+ rights and more. \nWe want to hear your ideas on the issues you find on campus so that we can also be a platform for student campaigns. There will also be some merchandise and stickers up for grabs so head over to our stand to learn more! \n\nSee you there!
URL:https://mail.movimentgraffitti.org/event/meet-us-at-mcast-freshers-week/
LOCATION:MCAST\, The Malta College of Arts\, Science & Technology\, Paola\, Malta
CATEGORIES:Studenti Graffitti
ATTACH;FMTTYPE=image/jpeg:https://mail.movimentgraffitti.org/wp-content/uploads/2024/10/mcast-freshers-2024.jpg
END:VEVENT
BEGIN:VEVENT
DTSTART;TZID=Europe/Malta:20241019T100000
DTEND;TZID=Europe/Malta:20241019T180000
DTSTAMP:20260424T191355
CREATED:20240923T162304Z
LAST-MODIFIED:20240923T165401Z
UID:6872-1729332000-1729360800@mail.movimentgraffitti.org
SUMMARY:Nipprotesta? Nipprotesta! Day Workshop
DESCRIPTION:TICKETS AVAILABLE HERE: https://www.showshappening.com/magnazmien/nipprotesta-nipprotesta-workshop \nPicket lines\, posters\, and collective action–– protests and protesting are a necessity for social change. Protests were a frequent activity in the recent past\, but nowadays\, protesting has taken a different form. In this workshop collaboration between Magna Żmien and Moviment Graffitti\, we are presenting a day-long workshop which explores Malta’s protesting past whilst actively applying the contents of our archives to create material to make your voice heard. \nSince 1994\, Moviment Graffitti has been one of the leading non-governmental organisations fighting against injustices particularly related to the environment\, having organised 100s of protests and peaceful actions and since then\, they have amassed an archive documenting their activities as an organisation. Magna Żmien\, whilst also being an NGO\, focuses on preserving Maltese memory by digitalising analogue material related to Maltese life in the 20th century. \nThis workshop will include interventions from activists\, archivists and activists-archivists. \nWith interventions from activists\, archivists and activists-archivists\, this workshop is intended for: \n1. Anyone who wants to express themselves effectively when protesting;\n2. Whoever is curious about the creative aspects of archiving\n3. People who are curious to learn about the history of protesting in Malta;\n4. Anyone who wants to look into the contents of the two archives. \nPlease note that this workshop has a limited capacity. Reservations will be made on a first-come\, first served basis. \nFor persons who hold a European Disability Card\, 65+\, full-time students or low income earners\, a discounted rate is available. Kindly email info@magnazmien.com for more information. \nThis workshop will be in English. \n****** \nBILJETTI DISPONIBBLI MINN HAWN: https://www.showshappening.com/magnazmien/nipprotesta-nipprotesta-workshop \nKartelluni\, tabelli\, u azzjoni kollettiva –– il-protesti huma neċessità għall-bidla soċjali. Il-protesti kienu attivitajiet frekwenti fil-passat riċenti\, iżda llum il-ġurnata ħadu forma differenti. F’din il-workshop li hija kollaborazzjoni bejn Magna Żmien u Moviment Graffitti\, qed nippreżentaw workshop ta’ ġurnata li tesplora l-passat tal-protesti f’Malta\, filwaqt li napplikaw il-kontenuti mill-arkivji rispettivi tagħna b’mod biex noħolqu materjal għall-protesti. \nMill-1994\, il-Moviment Graffitti kienet waħda mill-għaqdiet mhux governattivi ewlenin li jiġġieldu kontra l-inġustizzji\, partikolarment dawk relatati mal-ambjent. Huma organizzaw mijiet ta’ protesti u azzjonijiet paċifiċi\, u minn dak iż-żmien ‘l hawn\, fasslu arkivju li jiddokumenta l-attivitajiet tagħhom bħala organizzazzjoni. Magna Żmien\, li wkoll hija entità mhux govvernattiva\, tiffoka fuq il-preservazzjoni tal-memorja Maltija billi tiddiġitalizza il-materjal analogu relatat mal-ħajja Maltija fis-seklu 20. \nDin il-workshop se tinkludi interventi minn attivisti\, arkivisti u attivisti-arkivisti. \nDin il-workshop hija mmirata lejn:\n1.Kull min jixtieq jesprimi ruħu b’mod effettiv waqt il-protesti;\n2.Min hu kurjuż dwar l-aspett kreattiv tal-arkivjar;\n3.Nies li jhuma kurjużi biex jitgħallmu dwar l-istorja tal-protesti f’Malta;\n4. Kull min jixtieq jesplora l-kontenut taż-żewġ arkivji. \nGħall-programm sħiħ tal-workshop\, ibagħtu messaġġ jew email lil info@magnazmien.com \nDin il-workshop għandha kapaċità limitata. Ir-riservazzjonijiet isiru fuq bażi first-come\, first-served. \nGħal persuni li għandhom European Disability Card\, għandhom 65+ sena\, studenti full-time jew individwi li għandhom dħul baxx\, hemm rata mnaqqsa disponibbli. Jekk jogħġbok ibgħat email lil info@magnazmien.com għal aktar informazzjoni. \nDin il-workshop ser tkun bl-Ingliż.
URL:https://mail.movimentgraffitti.org/event/nipprotesta-nipprotesta-day-workshop/
LOCATION:Valletta Design Cluster\, 25 Bull Street\, Valletta\, VLT 1570\, Malta
CATEGORIES:Discussion / Presentation
ATTACH;FMTTYPE=image/jpeg:https://mail.movimentgraffitti.org/wp-content/uploads/2024/09/nipprotesta-nipprotesta-workshop.jpg
END:VEVENT
BEGIN:VEVENT
DTSTART;TZID=Europe/Malta:20241026T103000
DTEND;TZID=Europe/Malta:20241026T113000
DTSTAMP:20260424T191355
CREATED:20241011T134113Z
LAST-MODIFIED:20241011T134113Z
UID:7003-1729938600-1729942200@mail.movimentgraffitti.org
SUMMARY:Il-Poplu Ħaqqu Rispett - LE għall-Ħerba f'Villa Rosa!
DESCRIPTION:PEOPLE OVER DEVELOPERS – STOP THE VILLA ROSA MONSTROSITY! \nThings are going from bad to worse at an alarming rate. That is why we are inviting you to join us on Saturday 26th October at 10.30am at St George’s Bay\, St Julian’s\, for a Press Conference against the monster development that will tower over Villa Rosa. \nSpread the word! \nChanging the Local Plans to accommodate Anton Camilleri “Tal-Franċiż”\, at the expense of the Maltese people\, especially residents\, is totally unacceptable. \nFor this Press Conference we will be inviting speakers from the Local Councils of Pembroke\, St Julian’s and Swieqi. \nThe struggle continues. \n****** \n\nIL-POPLU ĦAQQU RISPETT — LE GĦALL-ĦERBA F’VILLA ROSA! \nL-affarijiet sejrin mill-ħażin għall-agħar b’rata allarmanti. Għalhekk\, qegħdin nistednukom sabiex is-Sibt 26 t’Ottubru fl-10.30am niltaqgħu l-Bajja ta’ San Ġorġ\, San Ġiljan\, għal Konferenza Stampa kontra l-ħerba tal-waħx li jridu jagħmlu f’Villa Rosa. \nXerrdu l-kelma! \nHuwa kompletament inaċċettabli li l-Pjan Lokali jinbidel sabiex ipaxxu lil Anton Camilleri “Tal-Franċiż” filwaqt li jfottu lill-kumplament tal-poplu Malti\, speċjalment lill-eluf ta’ residenti tal-madwar. \nGħal din il-Konferenza Stampa ser inkunu qegħdin nistiednu kelliema mill-Kunsilli Lokali ta’ Pembroke\, San Ġiljan u s-Swieqi. \nIl-ġlieda tkompli.
URL:https://mail.movimentgraffitti.org/event/il-poplu-haqqu-rispett-le-ghall-herba-fvilla-rosa/
LOCATION:St. George’s Bay\, WFGP+GW2\, San Ġiljan\, Malta
CATEGORIES:Defending Public Spaces & The Environment,Press Conference
ATTACH;FMTTYPE=image/jpeg:https://mail.movimentgraffitti.org/wp-content/uploads/2024/10/villa-rosa-press-conference.jpg
END:VEVENT
END:VCALENDAR