BEGIN:VCALENDAR
VERSION:2.0
PRODID:-//Moviment Graffitti - ECPv6.15.20//NONSGML v1.0//EN
CALSCALE:GREGORIAN
METHOD:PUBLISH
X-WR-CALNAME:Moviment Graffitti
X-ORIGINAL-URL:https://mail.movimentgraffitti.org
X-WR-CALDESC:Events for Moviment Graffitti
REFRESH-INTERVAL;VALUE=DURATION:PT1H
X-Robots-Tag:noindex
X-PUBLISHED-TTL:PT1H
BEGIN:VTIMEZONE
TZID:Europe/Malta
BEGIN:DAYLIGHT
TZOFFSETFROM:+0100
TZOFFSETTO:+0200
TZNAME:CEST
DTSTART:20230326T010000
END:DAYLIGHT
BEGIN:STANDARD
TZOFFSETFROM:+0200
TZOFFSETTO:+0100
TZNAME:CET
DTSTART:20231029T010000
END:STANDARD
BEGIN:DAYLIGHT
TZOFFSETFROM:+0100
TZOFFSETTO:+0200
TZNAME:CEST
DTSTART:20240331T010000
END:DAYLIGHT
BEGIN:STANDARD
TZOFFSETFROM:+0200
TZOFFSETTO:+0100
TZNAME:CET
DTSTART:20241027T010000
END:STANDARD
BEGIN:DAYLIGHT
TZOFFSETFROM:+0100
TZOFFSETTO:+0200
TZNAME:CEST
DTSTART:20250330T010000
END:DAYLIGHT
BEGIN:STANDARD
TZOFFSETFROM:+0200
TZOFFSETTO:+0100
TZNAME:CET
DTSTART:20251026T010000
END:STANDARD
END:VTIMEZONE
BEGIN:VEVENT
DTSTART;TZID=Europe/Malta:20240910T180000
DTEND;TZID=Europe/Malta:20240910T190000
DTSTAMP:20260424T202932
CREATED:20240908T125544Z
LAST-MODIFIED:20240908T130744Z
UID:6794-1725991200-1725994800@mail.movimentgraffitti.org
SUMMARY:Release the Five – Their Place Is With Us In the Community
DESCRIPTION:Five men are currently detained at the Safi Detention Centre following government raids on Malta’s well-established Ethiopian community. \nFor the better part of two decades these men have built their lives here\, working legally\, paying social security and taxes\, and contributing to our economy. They developed a network of friends\, family\, and colleagues and are a valuable part of our social fabric. \nThey currently face the prospect of being forcibly deported to a country they have long forgotten\, where they face the risk of persecution and cruel treatment. \nJoin us on Tuesday at 18:00 in front of the Safi Detention Centre to stand in solidarity with our brothers inside and call on the authorities to immediately: \n\nHalt the raids that target long-standing members of our community and spread fear amongst the most vulnerable.\nRelease these five men from detention.\nCreate a pathway to a regularized status for people who have made a long-term positive contribution to our society.\n\nWe cannot abide and stand by as the authorities raid homes and disappear our friends and our colleagues. Their place is with us.
URL:https://mail.movimentgraffitti.org/event/release-the-five-their-place-is-with-us-in-the-community/
LOCATION:Safi Detention Centre\, Triq Carmelo Caruana\, Safi\, Malta
CATEGORIES:Migration / Migrants' Rights,Press Conference
ATTACH;FMTTYPE=image/jpeg:https://mail.movimentgraffitti.org/wp-content/uploads/2024/09/posthom-maghna-fil-komunita-1-e1725800132843.jpg
END:VEVENT
BEGIN:VEVENT
DTSTART;TZID=Europe/Malta:20240911T200000
DTEND;TZID=Europe/Malta:20240912T010000
DTSTAMP:20260424T202932
CREATED:20240904T122734Z
LAST-MODIFIED:20240904T122833Z
UID:6786-1726084800-1726102800@mail.movimentgraffitti.org
SUMMARY:WomenSpace 2024
DESCRIPTION:Join us for this year’s edition of WomenSpace\, a music & arts festival organised annually by MGRM since 2004 as part of the Malta Pride week celebrations. \nIt is a safe space for female\, trans-feminine and non-binary persons to celebrate the bonds that bring us together and raise awareness on various issues through music and other performing arts. The programme will including various performing artists as well as stands by NGOs and small businesses offering local handmade products\, art and literature. \nTickets now available\, so follow us and keep an eye out for updates on the lineup! \nTickets: https://biljett.mt/events/womenspace-2024 \nLINE-UP:Niti DhingraCrush VelvetTkaxkiraDJ JulesNell
URL:https://mail.movimentgraffitti.org/event/womenspace-2024/
LOCATION:Tigullio\, Spinola Bay\, Triq Mikiel Anġ Borġ\, San Ġiljan\, Malta
CATEGORIES:Feminism / Women's Rights,Social Events
ATTACH;FMTTYPE=image/jpeg:https://mail.movimentgraffitti.org/wp-content/uploads/2024/09/womenspace-2024.jpg
END:VEVENT
BEGIN:VEVENT
DTSTART;TZID=Europe/Malta:20240912T160000
DTEND;TZID=Europe/Malta:20240912T220000
DTSTAMP:20260424T202932
CREATED:20240827T151237Z
LAST-MODIFIED:20240827T151411Z
UID:6753-1726156800-1726178400@mail.movimentgraffitti.org
SUMMARY:FemiFest: Queer Edition 2.0
DESCRIPTION:Women\, non-binary and trans persons are invited to join us for another FemiFest: Queer Edition as part of our Pride Week events! \nProgramme of events:4 – 5 pm: Swimming\, lounging & beach games5 – 6:30 pm: Pride-themed bracelet-making workshop7 pm: Community discussion on pinkwashing and queer women8 pm: Music\, dancing and socialising! \nYou’re welcome to join for the whole FemiFest or drop in for your preferred activities! Alternatively\, you can simply join for the community beach day without participating in any activities. \nWe will provide all the materials for the workshop; you can just show up and enjoy the community space! \nThis is a safe space activity: women\, non-binary and trans people are welcome. We have a right to ask people to leave if they are making others feel unsafe.
URL:https://mail.movimentgraffitti.org/event/femifest-queer-edition-2-0/
LOCATION:Tigné Point Rocky Beach\, WG47+727\, Tas-Sliema\, Malta
CATEGORIES:Feminism / Women's Rights,LGBTIQ+ / Pride,Social Events
ATTACH;FMTTYPE=image/jpeg:https://mail.movimentgraffitti.org/wp-content/uploads/2024/08/femifest-queer-2.jpg
END:VEVENT
BEGIN:VEVENT
DTSTART;TZID=Europe/Malta:20240913T200000
DTEND;TZID=Europe/Malta:20240913T230000
DTSTAMP:20260424T202932
CREATED:20240829T132951Z
LAST-MODIFIED:20240829T132951Z
UID:6766-1726257600-1726268400@mail.movimentgraffitti.org
SUMMARY:Quiz Night - Queer Quips
DESCRIPTION:Join us for a quiz night of spooky fun and queer music on Friday the 13th! \nAs part of our Pride Week activities\, get ready to dance the night away to the hottest queer beats\, enjoy creepy cocktails\, and show off your most creepy\, kampy and queer costumes. We will be awarding prizes for the most original answers to a set of queer themed\, open-ended questions as well as for the best costumes\, so get creative and show us your most fabulous and fantastical outfits! \nWhether you want to be a spooky vampire\, a glittery unicorn\, or anything in between\, we want to see you shine. So grab your friends and get ready for a night of queer magic at Queer Quips. \nLet’s make this Friday the 13th one to remember! See you there.
URL:https://mail.movimentgraffitti.org/event/quiz-night-queer-quips/
LOCATION:The Hoppy Hare Pub\, 37\, Triq il-Kostituzzjoni\, Mosta\, Malta
CATEGORIES:LGBTIQ+ / Pride,Social Events
ATTACH;FMTTYPE=image/jpeg:https://mail.movimentgraffitti.org/wp-content/uploads/2024/08/quiz-night-queer-quips.jpg
END:VEVENT
BEGIN:VEVENT
DTSTART;TZID=Europe/Malta:20240914T143000
DTEND;TZID=Europe/Malta:20240914T163000
DTSTAMP:20260424T202932
CREATED:20240902T082945Z
LAST-MODIFIED:20240902T082945Z
UID:6779-1726324200-1726331400@mail.movimentgraffitti.org
SUMMARY:Safe Space Before Pride March - Malta 2024
DESCRIPTION:Before the Pride March\, Moviment Graffitti will once again be opening its premises to provide a safe space for anyone who would like to come and have a drink with us\, listen to some music and prepare for the March. \nThose who would like to come and dress for the Pride\, make placards (we have the materials)\, put on makeup (you can get your stuff or use our own) or meet others are welcome to come to our premises at 67 Strait Street\, Valletta from 14:30 onwards. \n****** \nGħal darb’oħra\, il-Moviment Graffitti\, din is-sena se jkun qed joffri l-ispazju tiegħu biex jipprovdi ambjent sikur lil kull min jixtieq jiġi jixrob xiħaġa magħna\, jisma’ ftit mużika u jipprepara għall-Marċ. \nJekk tixtiequ tiġu tilbsu għall-Pride\, tagħmlu xi kartelluni (għandna l-materjal)\, tagħmlu l-makeup (tistgħu iġġibu tagħkom jew tużaw tagħna)\, jew tiltaqgħu ma’ oħrajn\, merħba bikom ġewwa 67\, Triq id-Dejqa\, il-Belt mis-14:30 ‘il quddiem.
URL:https://mail.movimentgraffitti.org/event/safe-space-before-pride-march-malta-2024/
LOCATION:Moviment Graffitti Premises\, 67\, Strait Street\, Valletta\, Malta
CATEGORIES:LGBTIQ+ / Pride,Social Events
ATTACH;FMTTYPE=image/jpeg:https://mail.movimentgraffitti.org/wp-content/uploads/2024/09/safe-space-pride-march-2024.jpg
END:VEVENT
BEGIN:VEVENT
DTSTART;TZID=Europe/Malta:20240915T170000
DTEND;TZID=Europe/Malta:20240915T183000
DTSTAMP:20260424T202932
CREATED:20240919T150956Z
LAST-MODIFIED:20240919T151018Z
UID:6858-1726419600-1726425000@mail.movimentgraffitti.org
SUMMARY:Protesta: Il-Bajja ta' Kulħadd
DESCRIPTION:We’ve had enough of finding our public beaches being taken over by deckchairs and private establishments. \nIt’s time to show our anger. \nWhat you do not fight for today you will lose tomorrow. \nJoin us this Sunday! \n****** \nXbajna naraw il-bajjiet tagħna sajf wara sajf jiġu kkapparrati minn deckchairs u stabbilimenti privati. \nWasal iż-żmien li nuru l-għadab tagħna. \nLi ma tiġġelidx għalih illum se titilfu għada. \nKunu numerużi nhar il-Ħadd!
URL:https://mail.movimentgraffitti.org/event/protesta-il-bajja-ta-kulhadd/
LOCATION:Buġibba Perched Beach\, XC38+HV7\, St Paul's Bay\, Malta
CATEGORIES:Anti-Capitalism / A Just Economy,Defending Public Spaces & The Environment,Protest / March / Demonstration
ATTACH;FMTTYPE=image/jpeg:https://mail.movimentgraffitti.org/wp-content/uploads/2024/09/il-bajja-ta-kulhadd-e1726758590405.jpg
END:VEVENT
BEGIN:VEVENT
DTSTART;TZID=Europe/Malta:20240922T121500
DTEND;TZID=Europe/Malta:20240922T133000
DTSTAMP:20260424T202932
CREATED:20240908T092512Z
LAST-MODIFIED:20240919T151104Z
UID:6791-1727007300-1727011800@mail.movimentgraffitti.org
SUMMARY:Il-Bankini taċ-Ċittadini: Protest March in Valletta
DESCRIPTION:The issue of tables and chairs that are choking our pavements\, squares and streets needs no introduction. Despite the various promises made by the Government that action will be taken against the excessive encroachment of public spaces by business and to restore public access\, effective action and serious enforcement are still nowhere to be seen. \n5 months after we launched the “Il-Bankini taċ-Ċittadini” campaign together with various residents’ groups\, on Sunday 22nd September we shall be meeting again in Merchants Street to take to the streets of Valletta for a Protest March. We will be passing through some streets in Valletta — that look more like an obstacle course with each passing day — to highlight how safe and public access is practically non-existent. \nThe rampant take-up of public land by business is adding to the deterioration of our quality of life. The various demands put forward by residents’ groups from some of the most affected localities\, who are calling for the current law to be revised and made more robust\, for effective enforcement\, and for transparency in the way encroachment permits are issued\, have largely been ignored by the authorities. \nWe therefore encourage you to join us on Sunday 22nd September to make our voices heard against the abusive takeover of public spaces. \nSee you in Merchants Street at 12.15pm near the MUŻA museum. \nDon’t forget to visit our website “Il-Bankini taċ-Ċittadini” to see the demands put forward by us and the various residents’ groups: https://www.ilbankinitaccittadini.org/ \nResidents’ groups:\nSliema Residents AssociationResidenti BeltinMarsaskala Residents NetworkAzzjoni Tuna Artna LuraMellieħa ResidentsSan Pawl il-Baħar ResidentsMarsaxlokk Heritage Group \n****** \n\nIl-problema tal-imwejjed u s-siġġijiet li qed joħonqu l-bankini\, il-pjazez u t-toroq tagħna qiegħda fuq fomm kulħadd. Minkejja diversi wegħdiet mill-Gvern li se tittieħed azzjoni biex l-ispazji pubbliċi li nħatfu mill-kummerċ jingħataw lura lin-nies\, s’issa għadna ma rajna l-ebda forma ta’ azzjoni effettiva jew infurzar serju. \n5 xhur wara li flimkien ma’ għadd ta’ gruppi ta’ residenti nedejna l-kampanja “Il-Bankini taċ-Ċittadini”\, il-Ħadd 22 ta’ Settembru se nerġgħu niltaqgħu fi Triq il-Merkanti fil-Belt Valletta\, biex minn hemm nagħmlu marċ ta’ protesta tul it-toroq tal-Belt. Se nkunu qed ngħaddu minn uħud mill-aktar toroq affettwati fejn l-aċċess sigur u bla xkiel għan-nies huwa prattikament ineżistenti. \nIl-ħtif tal-ispazji pubbliċi tagħna mill-kummerċ issa qabeż kull limitu aċċettabbli. Id-diversi talbiet tal-għaqdiet tar-residenti li ġejjin mill-aktar lokalitajiet affettwati għal reviżjoni u tisħiħ tal-liġi attwali\, għal infurzar serju\, u għal trasparenza fil-mod kif jingħataw il-permessi għal okkupazzjoni ta’ art pubblika baqgħu qatt ma ġew indirizzati mill-awtoritajiet. \nGħalhekk\, inħeġġukom biex il-Ħadd 22 ta’ Settembru tingħaqdu magħna sabiex insemmgħu leħinna mat-toroq tal-Belt kontra t-teħid bla rażan tal-ispazji pubbliċi tagħna. \nNarawkom fi Triq il-Merkanti fil-12.15pm ħdejn il-mużew MUŻA. \nInfakkrukom iżżuru s-sit tagħna “Il-Bankini taċ-Ċittadini” fejn tistgħu taraw it-talbiet li ressaqna flimkien mal-għaqdiet tar-residenti: https://www.ilbankinitaccittadini.org/ \nGħaqdiet tar-residenti:\nGħaqda Residenti SlimiżiResidenti BeltinMarsaskala Residents NetworkAzzjoni Tuna Artna LuraResidenti MelliħinResidenti San Pawl il-BaħarMarsaxlokk Heritage Group
URL:https://mail.movimentgraffitti.org/event/il-bankini-tac-cittadini-protest-march-in-valletta/
LOCATION:Merchants’ Street\, MUŻA\, Merchants' Street\, Valletta\, Malta
CATEGORIES:Defending Public Spaces & The Environment,Protest / March / Demonstration
ATTACH;FMTTYPE=image/jpeg:https://mail.movimentgraffitti.org/wp-content/uploads/2024/09/bankini-protest-march-valletta.jpg
END:VEVENT
BEGIN:VEVENT
DTSTART;TZID=Europe/Malta:20240928T170000
DTEND;TZID=Europe/Malta:20240928T183000
DTSTAMP:20260424T202932
CREATED:20240827T151738Z
LAST-MODIFIED:20240827T151738Z
UID:6754-1727542800-1727548200@mail.movimentgraffitti.org
SUMMARY:Malta Abortion Rights Rally 2024
DESCRIPTION:Join us for the 2024 Abortion Rights Rally on Saturday\, September 28th. \nThe event will begin with a march from Castille Square in Valletta\, at 5pm. After marching through Valletta\, we will gather at La Vallette Square. \nThis year\, in celebration of the fifth anniversary of our inaugural rally in 2019\, we are honoured to welcome two renowned international activists. Joining us will be Ailbhe Smyth\, the esteemed academic who spearheaded the campaign for abortion rights in Ireland\, and Rebecca Gomperts\, a pioneering doctor from the Netherlands and founder of Women on Waves and Women on Web. We are also excited to host a group of activists from Czechia\, known as Ciocia Czesia. As in previous years\, the event will feature inspiring speakers\, music\, and a selection of merchandise\, including t-shirts and tote bags. \nThis year’s theme is ‘Action not Words’. \nPoliticians\, including the Prime Minister\, have been mentioning the need for a discussion on abortion. So far\, these have not translated into any action. Meanwhile\, the hundreds of women in Malta who have abortions every year continue to live in fear\, under a law that condemns them. It is time to move to concrete action that shows that the state truly believes in women’s rights. \nAs the Voice for Choice coalition\, we understand that the cultural and religious values that shape our society make the discussion on abortion a sensitive one. We believe that through open dialogue\, based on respect and empathy\, we can reach solutions that respect the integrity of women in Malta. \nWe are open to participating in this important conversation. It is time for our voices to be heard and to create a future together where women in Malta are no longer judged but trusted and respected in their decisions. \nWe invite you to join us! \n****** \nIngħaqdu magħna għall-Abortion Rights Rally 2024\, li se sseħħ is-Sibt 28 ta’ Settembru. \nL-attività se tibda b’mixja li se titlaq mill-pjazza ta’ Kastilja\, il-Belt Valletta fil-5pm. Wara li nimxu ġol-Belt\, fl-aħħar se ninġabru fi Pjazza La Vallette. \nDin is-sena\, għall-ħames anniversarju mill-ewwel rally li seħħet fl-2019\, se jkollna magħna żewġ attivisti internazzjonali prominenti: Ailbhe Smyth\, akkademika li mexxiet il-kampanja għad-drittijiet ta’ l-abort fl-Irlanda u Rebecca Gomperts\, tabiba mill-Olanda li waqqfet l-organizzazzjoni Women on Waves u Women on Web. Se jkun hemm ukoll grupp ta’ attivisti minn Ċekja bl-isem Ciocia Czesia. Bħas-snin ta’ qabel\, ser ikollna sensiela ta’ kelliema\, mużika u anke merċ. \nIt-tema ta’ din is-sena hija ‘Azzjoni mhux paroli’. \nIl-politiċi saħansitra l-Prim Ministru\, ilhom isemmu l-ħtieġa ta’ diskussjoni dwar l-abort. S’issa dawn ma sarrfu fl-ebda azzjoni. Sadattant il-mijiet ta’ nisa f’Malta li jagħmlu abort kull sena jibqgħu jgħixu fil-biża’\, taħt liġi li tikkundannahom. Wasal iż-żmien li nimxu għal azzjoni konkreta li turi li l-istat tassew jemmen fid-drittijiet tan-nisa. \nBħala koalizzjoni Voice for Choice\, nemmnu li permezz ta’ djalogu miftuħ\, ibbażat fuq ir-rispett u l-empatija\, nistgħu naslu għal soluzzjonijiet li jirrispettaw l-integrita’ tan-nisa f’Malta. \nAħna lesti biex nagħtu sehemna f’din il-konversazzjoni importanti. Wasal iż-żmien li flimkien insawru futur fejn in-nisa f’Malta ma jibqgħux jiġu ġġudikati\, imma fdati u rispettati fid-deċiżjonijiet tagħhom. \nNistednukom tingħaqdu magħna! \n#AbortionRightsRally2024#ActionNotWords#VoiceForChoiceMalta#WomensRightsMalta
URL:https://mail.movimentgraffitti.org/event/malta-abortion-rights-rally-2024/
LOCATION:Castille Square\, VGW6+88F\, Valletta\, Malta
CATEGORIES:Feminism / Women's Rights,Protest / March / Demonstration
ATTACH;FMTTYPE=image/jpeg:https://mail.movimentgraffitti.org/wp-content/uploads/2024/08/pro-choice-rally-2024.jpg
END:VEVENT
BEGIN:VEVENT
DTSTART;TZID=Europe/Malta:20240929T143000
DTEND;TZID=Europe/Malta:20240929T160000
DTSTAMP:20260424T202932
CREATED:20240929T113747Z
LAST-MODIFIED:20240929T113747Z
UID:6904-1727620200-1727625600@mail.movimentgraffitti.org
SUMMARY:Hands off Lebanon - End Genocide in Gaza
DESCRIPTION:Meeting at 14:30 at Triton Fountain in Valletta to protest the Israeli aggression against Lebanon and Gaza. All peaceful protesters of all nationalities are welcome.
URL:https://mail.movimentgraffitti.org/event/hands-off-lebanon-end-genocide-in-gaza/
LOCATION:Triton Fountain\, Vjal Nelson\, Valletta\, Malta
CATEGORIES:International Solidarity,Protest / March / Demonstration
ATTACH;FMTTYPE=image/jpeg:https://mail.movimentgraffitti.org/wp-content/uploads/2024/09/hands-off-lebanon-e1727609842525.jpg
END:VEVENT
BEGIN:VEVENT
DTSTART;TZID=Europe/Malta:20240930T090000
DTEND;TZID=Europe/Malta:20241003T153000
DTSTAMP:20260424T202932
CREATED:20240929T113434Z
LAST-MODIFIED:20240929T113434Z
UID:6901-1727686800-1727969400@mail.movimentgraffitti.org
SUMMARY:Meet us at the KSU Freshers' Week
DESCRIPTION:Studenti Graffitti\, the student wing of Moviment Graffitti\, will be present at The KSU Freshers’ Week 2024 from Monday 30th Sept till Thursday 3th of October between 9 a.m. and 3:30 p.m. \nVisit our stand to join our organisation and learn about our work on feminism\, worker’s rights\, the environment\, immigration\, LGBTIQ+ rights and more. \nWe want to hear your ideas on the issues you find at University so that we can also be a platform for student campaigns. There will also be some merchandise and stickers up for grabs so head over to our stand to learn more! \nSee you there!
URL:https://mail.movimentgraffitti.org/event/meet-us-at-the-ksu-freshers-week/
LOCATION:University of Malta\, L-Università ta' Malta\, Msida\, Malta
CATEGORIES:Studenti Graffitti
ATTACH;FMTTYPE=image/jpeg:https://mail.movimentgraffitti.org/wp-content/uploads/2024/09/ksu-freshers-week-2024.jpg
END:VEVENT
END:VCALENDAR