BEGIN:VCALENDAR
VERSION:2.0
PRODID:-//Moviment Graffitti - ECPv6.15.20//NONSGML v1.0//EN
CALSCALE:GREGORIAN
METHOD:PUBLISH
X-WR-CALNAME:Moviment Graffitti
X-ORIGINAL-URL:https://mail.movimentgraffitti.org
X-WR-CALDESC:Events for Moviment Graffitti
REFRESH-INTERVAL;VALUE=DURATION:PT1H
X-Robots-Tag:noindex
X-PUBLISHED-TTL:PT1H
BEGIN:VTIMEZONE
TZID:Europe/Malta
BEGIN:DAYLIGHT
TZOFFSETFROM:+0100
TZOFFSETTO:+0200
TZNAME:CEST
DTSTART:20230326T010000
END:DAYLIGHT
BEGIN:STANDARD
TZOFFSETFROM:+0200
TZOFFSETTO:+0100
TZNAME:CET
DTSTART:20231029T010000
END:STANDARD
BEGIN:DAYLIGHT
TZOFFSETFROM:+0100
TZOFFSETTO:+0200
TZNAME:CEST
DTSTART:20240331T010000
END:DAYLIGHT
BEGIN:STANDARD
TZOFFSETFROM:+0200
TZOFFSETTO:+0100
TZNAME:CET
DTSTART:20241027T010000
END:STANDARD
BEGIN:DAYLIGHT
TZOFFSETFROM:+0100
TZOFFSETTO:+0200
TZNAME:CEST
DTSTART:20250330T010000
END:DAYLIGHT
BEGIN:STANDARD
TZOFFSETFROM:+0200
TZOFFSETTO:+0100
TZNAME:CET
DTSTART:20251026T010000
END:STANDARD
END:VTIMEZONE
BEGIN:VEVENT
DTSTART;TZID=Europe/Malta:20240814T100000
DTEND;TZID=Europe/Malta:20240814T110000
DTSTAMP:20260424T214551
CREATED:20240821T105324Z
LAST-MODIFIED:20240821T105324Z
UID:6746-1723629600-1723633200@mail.movimentgraffitti.org
SUMMARY:Freedom Flotilla Coalition in Malta - Press Conference
DESCRIPTION:After more than one year and three months sailing through European ports\, the boat “Handala” docked in Malta yesterday as it sails towards Gaza. Today we are joining the Gaza Freedom Flotilla Coalition in a heartfelt call for an end to the genocide\, an end to the siege and occupation\, and justice for the Palestinian people.
URL:https://mail.movimentgraffitti.org/event/freedom-flotilla-coalition-in-malta-press-conference/
LOCATION:Bezzina Shipyards\, VGJ3+2J\, Marsa\, Malta
CATEGORIES:International Solidarity,Press Conference
ATTACH;FMTTYPE=image/jpeg:https://mail.movimentgraffitti.org/wp-content/uploads/2024/08/handala.jpeg
END:VEVENT
BEGIN:VEVENT
DTSTART;TZID=Europe/Malta:20240831T100000
DTEND;TZID=Europe/Malta:20240831T110000
DTSTAMP:20260424T214551
CREATED:20240827T150932Z
LAST-MODIFIED:20240827T150932Z
UID:6752-1725098400-1725102000@mail.movimentgraffitti.org
SUMMARY:Konferenza Stampa: Irridu Diċenza Bażika fl-Ippjanar Issa
DESCRIPTION:Following the recent obscenity which saw the Planning Authority defying Court rulings and sanctioning illegal developments in Sannat\, a number of NGOs are calling a Press Conference in front of Castille to demand urgent and decisive action to restore the rule of law in our country. \nOn Saturday\, 31st August\, we shall be meeting in front of Castille to urge the Prime Minister to take immediate action to put a decisive end to the injustices and absurdities that have become synonymous with our planning system. The Planning Authority has essentially set itself and the developers above the law and the Court\, making a mockery of justice and undermining the rule of law in the process. The implications of all this are extremely serious\, as the very foundations of our democracy have been shaken and citizens are suffering gross injustice. \nIn this Press Conference\, we shall also once again be calling for an immediate reform of the absurd appeals law. After more than one year since the Prime Minister had vowed to reform this flawed law\, the reform has yet to be seen. The current appeals law allows irregular developments to continue unabated while an appeal is underway. This means that once a development is declared illegal following the appeal decision\, the development would have already been completed\, rendering the appeal process totally futile. \nWe encourage you to join us on Saturday\, 31st August at 10am in front of Castille to make our voices heard for basic decency and justice in planning. \n****** \nFid-dawl tal-pastażata riċenti fejn l-Awtorità tal-Ippjanar marret kontra sentenza tal-Qorti tal-Appell u ssanzjonat żvilupp illegali fis-Sannat\, numru ta’ għaqdiet qed isejħu għal Konferenza Stampa quddiem Kastilja sabiex jiġu indirizzati b’urġenza l-implikazzjonijiet serji ta’ dan kollu. \nNhar is-Sibt\, 31 ta’ Awwissu\, se niltaqgħu quddiem Kastilja biex nitolbu lill-Prim Ministru Robert Abela jieħu azzjoni immedjata sabiex dawn l-inġustizzji u l-assurditajiet fis-sistema tal-ippjanar f’pajjiżna jieqfu. L-azzjonijiet tal-Awtorità tal-Ippjanar qed jimminaw is-saltna tad-dritt f’pajjiżna u qed ipoġġu lill-iżviluppaturi ’l fuq mil-liġi u mill-Qrati. Din hija sitwazzjoni perikoluża ħafna li qed ixxejjen il-bażi tad-demokrazija f’pajjiżna u twassal għal inġustizzji kbar lejn il-poplu. \nF’din il-Konferenza Stampa\, se nkunu qegħdin ukoll nerġgħu nitolbu għal riforma immedjata fil-liġi assurda tal-appelli\, li wara ’l fuq minn sena li l-Prim Ministru Robert Abela kien ħabbar li se tidħol fis-seħħ\, din għadha ma seħħitx. Il-liġi assurda tal-appelli qed tippermetti li żviluppi li jkunu ċarament illegali jilħqu jinbnew waqt li jkun qed jinstema’ appell dwarhom. Dan ifisser li meta jinqata’ l-appell u tingħata s-sentenza li l-iżvilupp huwa irregolari\, l-iżvilupp ikun laħaq inbena. Il-proċess tal-appell għalhekk qed jiġi ridott għal wieħed futili. \nInħeġġukom tingħaqdu magħna nhar is-Sibt\, 31 ta’ Awwissu fl-10am quddiem Kastilja sabiex flimkien insemmgħu leħinna favur diċenza bażika u ġustizzja fl-ippjanar. \n****** \nOrganisations/Organizzazzjonijiet: \n\nAzzjoni Tuna Artna Lura\nBirdLife Malta\nDin l-Art Ħelwa\nFlimkien għal Ambjent Aħjar\nFriends of the Earth Malta\nGħawdix\nMoviment Graffitti\nNature Trust Malta\nRamblers Association Malta\nThe Archaeological Society Malta\nWirt Għawdex
URL:https://mail.movimentgraffitti.org/event/konferenza-stampa-irridu-dicenza-bazika-fl-ippjanar-issa/
LOCATION:Castille Square\, VGW6+88F\, Valletta\, Malta
CATEGORIES:Defending Public Spaces & The Environment,Press Conference
ATTACH;FMTTYPE=image/jpeg:https://mail.movimentgraffitti.org/wp-content/uploads/2024/08/dicenza-bazika-ippjanar-press-conference.jpg
END:VEVENT
END:VCALENDAR