BEGIN:VCALENDAR
VERSION:2.0
PRODID:-//Moviment Graffitti - ECPv6.15.20//NONSGML v1.0//EN
CALSCALE:GREGORIAN
METHOD:PUBLISH
X-WR-CALNAME:Moviment Graffitti
X-ORIGINAL-URL:https://mail.movimentgraffitti.org
X-WR-CALDESC:Events for Moviment Graffitti
REFRESH-INTERVAL;VALUE=DURATION:PT1H
X-Robots-Tag:noindex
X-PUBLISHED-TTL:PT1H
BEGIN:VTIMEZONE
TZID:Europe/Malta
BEGIN:DAYLIGHT
TZOFFSETFROM:+0100
TZOFFSETTO:+0200
TZNAME:CEST
DTSTART:20230326T010000
END:DAYLIGHT
BEGIN:STANDARD
TZOFFSETFROM:+0200
TZOFFSETTO:+0100
TZNAME:CET
DTSTART:20231029T010000
END:STANDARD
BEGIN:DAYLIGHT
TZOFFSETFROM:+0100
TZOFFSETTO:+0200
TZNAME:CEST
DTSTART:20240331T010000
END:DAYLIGHT
BEGIN:STANDARD
TZOFFSETFROM:+0200
TZOFFSETTO:+0100
TZNAME:CET
DTSTART:20241027T010000
END:STANDARD
BEGIN:DAYLIGHT
TZOFFSETFROM:+0100
TZOFFSETTO:+0200
TZNAME:CEST
DTSTART:20250330T010000
END:DAYLIGHT
BEGIN:STANDARD
TZOFFSETFROM:+0200
TZOFFSETTO:+0100
TZNAME:CET
DTSTART:20251026T010000
END:STANDARD
END:VTIMEZONE
BEGIN:VEVENT
DTSTART;TZID=Europe/Malta:20240308T173000
DTEND;TZID=Europe/Malta:20240308T193000
DTSTAMP:20260425T045414
CREATED:20240208T175226Z
LAST-MODIFIED:20240208T175226Z
UID:6324-1709919000-1709926200@mail.movimentgraffitti.org
SUMMARY:Jum il-Mara - Flimkien għal-Liberazzjoni Kollettiva
DESCRIPTION:Nistiednu lill-pubbliku biex jingħaqad magħna l-Ġimgħa 8 ta’ Marzu għall-marċ il-Belt Valletta fl-okkażjoni tal-Jum Internazzjonali tal-Mara 2024. \nIl-Jum Internazzjonali tal-Mara jgħaqqad flimkien lin-nisa kollha li ġġieldu kontra l-inġustizzji u għall-bidla kemm fil-passat riċenti u kemm fl-istorja. Dan il-jum iservi biex niftakru fil-ġlidiet u r-rebħiet tagħhom\, filwaqt li nagħrfu dak li għad baqa’ xi jsir biex inkunu nistgħu ngħixu f’soċjetà fejn kulħadd jikkollabora flimkien biex negħlbu l-isterjotipi\, il-vjolenza abbażi tal-ġeneru\, il-femiċidju\, il-kultura tal-istupru\, it-tqassim inġust tat-trobbija tat-tfal u tax-xogħol tad-dar\, il-privileġġ maskili f’ħafna oqsma tal-ħajja ta’ kuljum\, is-sessiżmu u l-lingwaġġ sessist\, id-differenzi fil-qligħ\, nuqqas ta’ servizzi u drittijiet riproduttivi\, u l-lista ma tispiċċa qatt. \nNisa\, persuni non-binary u persuni trans madwar id-dinja għadhom iħossu passjoni qawwija għal dan il-jum simboliku\, kif ukoll dawk li jappoġġjaw il-ġlieda għal soċjetà ħielsa minn dominanza patrijarkali. Għalhekk din is-sena għażilna t-tema Flimkien għal Liberazzjoni Kollettiva biex insostnu l-ħtieġa li ningħaqdu flimkien għall-bidla. Irridu bidla li teħles lin-nisa mill-oppressjoni u mill-inġustizzja. Bidliet u titjibiet żgħar huma importanti imma l-għan tagħna huwa li ssir bidla ħafna iktar radikali u globali fir-relazzjonijiet u fl-istituzzjonijiet. \nSe nkunu qegħdin nimmarċjaw irrabbjati u frustrati\, niftakru f’dawk ħutna n-nisa li tlifna f’dawn l-aħħar snin u fil-familji tagħhom li għadhom qegħdin jistennew li ssir ġustizzja. Nemmnu li importanti li nsemmu lil Sion\, lil Bernice\, lil Paulina u din l-aħħar mara li ġiet maqtula minn min suppost kien iħobbha\, Sandra Ramirez. \nIngħaqdu magħna nhar il-Ġimgħa 8 ta’ Marzu fil-5.30 pm fejn il-Funtana tat-Tritoni\, il-Furjana fejn se jibda l-marċ ta’ protesta. \nEjjew u ġibu magħkom nisa oħrajn\, ħbieb non-binary u oħrajn li jappoġġjawna. Ejjew bil-kartelluni f’idejkom b’messaġġi ta’ rabja\, tgħajtu għall-ġustizzja\, u toħolmu f’liberazzjoni femminista. \n****** \nWe invite the public to join us on Friday 8th March for a march in Valletta on the occasion of International Women’s Day 2024. \nInternational Women’s Day brings together all the women who have fought in recent and remote history against injustices and for change. This day is about remembering their struggles and achievements\, while being aware of what there is still to be done for us to be able live in a society where all people can collaborate together to overcome gender stereotypes\, gender-based violence\, femicide\, rape culture\, unfair sharing of parenting and housework\, male privilege in many spheres of daily life\, sexism and sexist language\, wage gaps\, inadequate reproductive services and rights\, and the list is endless. \nWomen\, non-binary and trans people all around the world still feel deeply passionate about this symbolic day\, as well as all allies in the struggle for a society free from patriarchal domination. Hence this year we have chosen the title United for Collective Liberation to underline the need to join forces for change. We are also looking for a change that will liberate women from oppression and injustice. Small amendments and improvements towards justice are essential but our aim is to see a much more radical\, global change in relationships and institutions. \nWe will be marching with anger and frustration\, remembering all the sisters we have lost in the past years and their families that are still waiting for justice. We believe it is important to name Sion\, Bernice\, Paulina and the last woman who was killed by the hands of someone who was supposed to love her\, Sandra Ramirez. \nJoin us on Friday\, 8th March at 5.30 pm near the Triton Fountain in Floriana where we will start our protest march. \nCome and bring other women\, non-binary friends and allies. Come with placards voicing your anger\, demanding justice\, dreaming of a feminist liberation.
URL:https://mail.movimentgraffitti.org/event/jum-il-mara-flimkien-ghal-liberazzjoni-kollettiva/
LOCATION:Triton Fountain\, Vjal Nelson\, Valletta\, Malta
CATEGORIES:Feminism / Women's Rights,Protest / March / Demonstration
ATTACH;FMTTYPE=image/jpeg:https://mail.movimentgraffitti.org/wp-content/uploads/2024/02/womens-day-march-2024.jpg
END:VEVENT
BEGIN:VEVENT
DTSTART;TZID=Europe/Malta:20240309T103000
DTEND;TZID=Europe/Malta:20240309T113000
DTSTAMP:20260425T045414
CREATED:20240307T092433Z
LAST-MODIFIED:20240307T092536Z
UID:6395-1709980200-1709983800@mail.movimentgraffitti.org
SUMMARY:NO! to 13-storey tower in Xemxija - Press Conference
DESCRIPTION:Il-Moviment Graffitti qed jappoġġja lir-residenti fil-ġlieda tagħhom kontra żvilupp massiv ieħor li qiegħed jiġi propost fix-Xemxija. Torri ta’ 13-il sular (PA/00865/24) qed jiġi propost biex jinbena fuq art tax-xagħri u qrib ħafna cart ruts protetti. Dan il-proġett mostruż ħa jipperikola wkoll il-banjijiet Rumani li jinsabu taħt iż-żona\, fejn qed tiġi proposta triq ġdida biex takkomoda l-ammont kbir ta’ appartamenti li ser joħloq dan il-proġett. \nIr-residenti tax-Xemxija diġà qegħdin jaffaċċjaw il-bini ta’ ’l fuq minn 700 appartament fuq is-sit ta’ fejn qabel kien hemm il-Mistra Village\, ftit metri biss ’il bogħod minn dan it-torri propost ta’ 13-il sular. Jekk dan it-torri jiġi approvat\, se jkunu qed jinbnew iktar minn 1000 appartament fl-istess ħin u tul l-istess triq f’din il-lokalità żgħira \nB’hekk\, nappellaw lill-Awtorità tal-Ippjanar biex tirrifjuta din l-applikazzjoni. Żvilupp mostruż ieħor se jkompli jiġġenera iktar storbju\, trabijiet\, traffiku u joħloq aktar stress lir-residenti. \nNappellaw ukoll lis-Sovrintendenza tal-Patrimonju Kulturali biex tieħu pożizzjoni ċara kontra din il-proposta li se tirriżulta fil-qerda tal-kuntest tal-cart ruts fiż-żona\, peress li l-iżvilupp propost jinsab proprju fis-sit fejn jinsabu l-cart ruts\, kif ukoll għax ix-xogħol ta’ skavar intensiv ser ikun qiegħed jipperikola l-wirt storiku tal-banjijiet Rumani. \nFinalment\, qegħdin inħeġġu wkoll lill-Gvern biex jipproteġi l-art li fuqha qiegħed jiġi propost dan it-torri u jiżgura l-aċċess ħieles għaliha\, sabiex jiġu preservati l-wirt kulturali u naturali taż-żona għall-ġenerazzjonijiet li ġejjin\, u jiġi preservat ukoll l-ispazju miftuħ li diġà hemm. \nGħalhekk\, qed nagħmlu appell lir-residenti tax-Xemxija u lill-pubbliku sabiex jingħaqdu magħna f’din il-konferenza stampa (ara l-post: https://shorturl.at/AKT58) fejn ser insemmgħu leħinna u nagħmluha ċara li din il-proposta għandha tiġi rrifjutata kompletament fl-interess tar-residenti u wirt artna. \n****** \nNO! to 13-storey tower in Xemxija \nMoviment Graffitti is supporting residents as they oppose yet another mega development in the small town of Xemxija. A 13-storey tower (PA/00865/24) is proposed on protected garigue and very close to established cart ruts\, with this monster development also endangering the Roman Baths that are found right below the area in question\, where a new road is proposed in order to deal with the massive influx of apartments. \nXemxija residents are already facing the construction of another 700-plus apartments on the site of the former Mistra Village\, metres away from the proposed 13-storey tower. If the new tower proposal were to go through\, over 1000 apartments would be built at the same time on the same road in this very small town. \nTherefore\, we urge the Planning Authority to refuse this application as it stands. Another monster development would continue to add copious amounts of noise\, dust\, traffic\, and stress to the residents of the area. \nWe also urge the Superintendent of Cultural Heritage to take a stand against this application which\, if approved\, will ruin the context of the cart ruts of the area\, as well as posing a danger to the Roman Baths just under this proposed development. The extensive works proposed will put this valuable site at major risk. \nFinally\, we also urge the Government to protect the land for the common benefit of residents and ensure public access\, preserving the cultural and natural heritage for generations to come\, and preserving the open space there already is. \nWe ask the residents of Xemxija and the general public to join us at this Press Conference (see location: https://shorturl.at/AKT58) to voice our many concerns and to make it clear that this proposal should be refused outright to safeguard the interests of the residents and our cultural heritage.
URL:https://mail.movimentgraffitti.org/event/no-to-13-storey-tower-in-xemxija-press-conference/
LOCATION:Triq Piscopo Macedonia\, Triq Piscopo Macedonia\, Xemxija\, Malta
CATEGORIES:Defending Public Spaces & The Environment,Press Conference
ATTACH;FMTTYPE=image/jpeg:https://mail.movimentgraffitti.org/wp-content/uploads/2024/03/no-to-13-storey-tower-in-xemxija-press-conference.jpg
END:VEVENT
BEGIN:VEVENT
DTSTART;TZID=Europe/Malta:20240309T150000
DTEND;TZID=Europe/Malta:20240309T170000
DTSTAMP:20260425T045414
CREATED:20240307T092806Z
LAST-MODIFIED:20240307T092846Z
UID:6397-1709996400-1710003600@mail.movimentgraffitti.org
SUMMARY:We Stand Together\, We Won't Forget
DESCRIPTION:Join us for another protest on the 9th of March from 15:00-17:00 in front of the Maltese Parliament. \nWe need to STAND TOGETHER against the genocide happening to our beloved Palestine. We need to STAND TOGETHER against the killing of innocent lives. We need to STAND TOGETHER against the lack of measures taken by the international bodies. \nLet’s march together and make our voice heard.
URL:https://mail.movimentgraffitti.org/event/we-stand-together-we-wont-forget/
LOCATION:Parliament Square\, Valletta City Gate\, Valletta\, Malta
CATEGORIES:International Solidarity,Protest / March / Demonstration
ATTACH;FMTTYPE=image/jpeg:https://mail.movimentgraffitti.org/wp-content/uploads/2024/03/we-stand-together-palestine.jpg
END:VEVENT
BEGIN:VEVENT
DTSTART;TZID=Europe/Malta:20240315T183000
DTEND;TZID=Europe/Malta:20240315T230000
DTSTAMP:20260425T045414
CREATED:20240220T113910Z
LAST-MODIFIED:20240220T113910Z
UID:6363-1710527400-1710543600@mail.movimentgraffitti.org
SUMMARY:Beauty\, Capitalism\, and Women's Liberation - Safe Space Discussion and Karaoke
DESCRIPTION:As we wind down from Women’s Day\, join us for another community discussion\, this time on the theme of Beauty\, Capitalism\, and how all this ties into Women’s Liberation. \nHow does capitalism influence our beauty standards\, and do these differ between places and people? We want to explore how beauty and capitalism affects us and how we all collectively contribute to this theme. \nThe discussion will start at 6:30pm\, and afterwards we will have a Karaoke session at 9pm. Drinks and nibbles will also be available throughout. \nThis is a safe space activity: women\, non-binary and trans people are welcome. We have a right to ask people to leave if they are making others feel unsafe.
URL:https://mail.movimentgraffitti.org/event/beauty-capitalism-and-womens-liberation-safe-space-discussion-and-karaoke/
LOCATION:Moviment Graffitti Premises\, 67\, Strait Street\, Valletta\, Malta
CATEGORIES:Discussion / Presentation,Feminism / Women's Rights,Social Events
ATTACH;FMTTYPE=image/jpeg:https://mail.movimentgraffitti.org/wp-content/uploads/2024/02/beauty-capitalism-womens-liberation.jpg
END:VEVENT
BEGIN:VEVENT
DTSTART;TZID=Europe/Malta:20240324T150000
DTEND;TZID=Europe/Malta:20240324T190000
DTSTAMP:20260425T045414
CREATED:20240325T104725Z
LAST-MODIFIED:20240325T104725Z
UID:6454-1711292400-1711306800@mail.movimentgraffitti.org
SUMMARY:Manoel Island Picnic
DESCRIPTION:Let’s meet up this Sunday\, 24th March! \nThe threat of losing Manoel Island is very real. Let’s all meet up to show the authorities that Manoel Island must remain for the people. We are inviting the public for a picnic this Sunday (24th March) on Manoel Island at 3pm. Bring your kids along\, and your own food and drinks. \nEveryone is invited to join. Let’s meet and enjoy open space\, and send a strong message that Manoel Island must remain accessible to all. \n****** \nNiltaqgħu l-Ħadd\, 24 ta’ Marzu! \nManoel Island tinsab taħt theddida. Ejjew ningħaqdu kollha flimkien biex nuru li aħna rridu li Manoel Island tibqa’ tal-poplu. Qed nistiednu lill-pubbliku biex nhar Ħadd il-Palm (24 ta’ Marzu) niltaqgħu lkoll Manoel Island għal picnic fit-3pm. Ġibu lit-tfal magħkom\, u l-ikel u x-xorb tagħkom. \n\nDin se tkun attività soċjali biex niltaqgħu flimkien u ngawdu lil Manoel Island sabiex ngħaddu messaġġ b’saħħtu li Manoel Island għandha tibqa’ titħalla titgawda minn kulħadd. Ejjew bi ħġarkom!
URL:https://mail.movimentgraffitti.org/event/manoel-island-picnic/
LOCATION:Manoel Island\, WG32+8J2\, Gżira\, Malta
CATEGORIES:Anti-Capitalism / A Just Economy,Defending Public Spaces & The Environment,Social Events
ATTACH;FMTTYPE=image/jpeg:https://mail.movimentgraffitti.org/wp-content/uploads/2024/03/2024-03-24-Manoel-Island-Picnic-Cover.jpg
END:VEVENT
END:VCALENDAR