BEGIN:VCALENDAR
VERSION:2.0
PRODID:-//Moviment Graffitti - ECPv6.15.20//NONSGML v1.0//EN
CALSCALE:GREGORIAN
METHOD:PUBLISH
X-WR-CALNAME:Moviment Graffitti
X-ORIGINAL-URL:https://mail.movimentgraffitti.org
X-WR-CALDESC:Events for Moviment Graffitti
REFRESH-INTERVAL;VALUE=DURATION:PT1H
X-Robots-Tag:noindex
X-PUBLISHED-TTL:PT1H
BEGIN:VTIMEZONE
TZID:Europe/Malta
BEGIN:DAYLIGHT
TZOFFSETFROM:+0100
TZOFFSETTO:+0200
TZNAME:CEST
DTSTART:20220327T010000
END:DAYLIGHT
BEGIN:STANDARD
TZOFFSETFROM:+0200
TZOFFSETTO:+0100
TZNAME:CET
DTSTART:20221030T010000
END:STANDARD
BEGIN:DAYLIGHT
TZOFFSETFROM:+0100
TZOFFSETTO:+0200
TZNAME:CEST
DTSTART:20230326T010000
END:DAYLIGHT
BEGIN:STANDARD
TZOFFSETFROM:+0200
TZOFFSETTO:+0100
TZNAME:CET
DTSTART:20231029T010000
END:STANDARD
BEGIN:DAYLIGHT
TZOFFSETFROM:+0100
TZOFFSETTO:+0200
TZNAME:CEST
DTSTART:20240331T010000
END:DAYLIGHT
BEGIN:STANDARD
TZOFFSETFROM:+0200
TZOFFSETTO:+0100
TZNAME:CET
DTSTART:20241027T010000
END:STANDARD
END:VTIMEZONE
BEGIN:VEVENT
DTSTART;TZID=Europe/Malta:20230720T183000
DTEND;TZID=Europe/Malta:20230720T213000
DTSTAMP:20260425T163818
CREATED:20230720T142851Z
LAST-MODIFIED:20231010T152838Z
UID:5665-1689877800-1689888600@mail.movimentgraffitti.org
SUMMARY:Film Screening - Hidden Figures
DESCRIPTION: Join us for a film screening of the 2016 film ‘Hidden Figures’ as we remember the past and current struggles of women\, especially women of colour. \n Hidden Figures is based on the true story of 3 female African-American mathematicians who\, despite playing a pivotal role in the launch of an astronaut into orbit\, face undermining gender and racial discrimination at work. \n Entrance is free\, and you are welcome to bring your own snacks\, or purchase drinks from the bar. Afterwards\, you are invited to join us for drinks and nibbles! \nYou can watch the trailer here: https://youtu.be/5wfrDhgUMGI \n The film will have English subtitles and an intermission. \nSee you there
URL:https://mail.movimentgraffitti.org/event/film-screening-hidden-figures/
LOCATION:Moviment Graffitti Premises\, 67\, Strait Street\, Valletta\, Malta
CATEGORIES:Discussion / Presentation,Feminism / Women's Rights
ATTACH;FMTTYPE=image/jpeg:https://mail.movimentgraffitti.org/wp-content/uploads/2023/10/film-screening-hidden-figures.jpg
END:VEVENT
END:VCALENDAR