BEGIN:VCALENDAR
VERSION:2.0
PRODID:-//Moviment Graffitti - ECPv6.15.20//NONSGML v1.0//EN
CALSCALE:GREGORIAN
METHOD:PUBLISH
X-ORIGINAL-URL:https://mail.movimentgraffitti.org
X-WR-CALDESC:Events for Moviment Graffitti
REFRESH-INTERVAL;VALUE=DURATION:PT1H
X-Robots-Tag:noindex
X-PUBLISHED-TTL:PT1H
BEGIN:VTIMEZONE
TZID:Europe/Malta
BEGIN:DAYLIGHT
TZOFFSETFROM:+0100
TZOFFSETTO:+0200
TZNAME:CEST
DTSTART:20220327T010000
END:DAYLIGHT
BEGIN:STANDARD
TZOFFSETFROM:+0200
TZOFFSETTO:+0100
TZNAME:CET
DTSTART:20221030T010000
END:STANDARD
BEGIN:DAYLIGHT
TZOFFSETFROM:+0100
TZOFFSETTO:+0200
TZNAME:CEST
DTSTART:20230326T010000
END:DAYLIGHT
BEGIN:STANDARD
TZOFFSETFROM:+0200
TZOFFSETTO:+0100
TZNAME:CET
DTSTART:20231029T010000
END:STANDARD
BEGIN:DAYLIGHT
TZOFFSETFROM:+0100
TZOFFSETTO:+0200
TZNAME:CEST
DTSTART:20240331T010000
END:DAYLIGHT
BEGIN:STANDARD
TZOFFSETFROM:+0200
TZOFFSETTO:+0100
TZNAME:CET
DTSTART:20241027T010000
END:STANDARD
END:VTIMEZONE
BEGIN:VEVENT
DTSTART;TZID=Europe/Malta:20230501T180000
DTEND;TZID=Europe/Malta:20230501T213000
DTSTAMP:20260425T193959
CREATED:20230501T140859Z
LAST-MODIFIED:20231010T152927Z
UID:5635-1682964000-1682976600@mail.movimentgraffitti.org
SUMMARY:Workers' Day Film Screening - The Good Boss
DESCRIPTION: On the 1st May\, we are holding an event at our premises in Valletta to celebrate Workers’ Day and remember the past and current struggles of workers in an exploitative system. \n We will be screening the Fernando León de Aranoa film ‘The Good Boss’ (El Buen Patrón – 2021) about a charismatic and manipulative factory owner in a Spanish town meddling in the lives of his employees in an attempt to win an award for business excellence. The satirical comedy explores the power imbalance against workers in the context of patronising and oppressive relations within the capitalist workplace. \n You can watch the trailer here: https://www.youtube.com/watch?v=aikj9c96ArI. \nLanguage: Spanish with English subtitles. \n Following the movie\, you are invited to join us for drinks\, nibbles and music to celebrate Workers’ Day. \nFree entrance.
URL:https://mail.movimentgraffitti.org/event/workers-day-film-screening-the-good-boss/
LOCATION:Moviment Graffitti Premises\, 67\, Strait Street\, Valletta\, Malta
CATEGORIES:Discussion / Presentation,Workers' Rights & Living Income
ATTACH;FMTTYPE=image/jpeg:https://mail.movimentgraffitti.org/wp-content/uploads/2023/10/workers-day-film-screening-the-good-boss.jpg
END:VEVENT
BEGIN:VEVENT
DTSTART;TZID=Europe/Malta:20230513T103000
DTEND;TZID=Europe/Malta:20230513T113000
DTSTAMP:20260425T193959
CREATED:20230513T141124Z
LAST-MODIFIED:20231010T152923Z
UID:5638-1683973800-1683977400@mail.movimentgraffitti.org
SUMMARY:Empty the Tanks!
DESCRIPTION: Join us outside the Mediterraneo Marine Park on Saturday 13th May at 10:30 am\, in a demonstration on the occasion of global Empty The Tanks Day. \n Animal Liberation and Moviment Graffitti will be again demanding the revocation of Mediterraneo Marine Park’s zoo licence\, echoing the worldwide call to empty the tanks. 3 dolphins died in 2021 alone\, bringing the grim total to 11 dead dolphins\, amongst several other dead animals in the park. \nSee you there
URL:https://mail.movimentgraffitti.org/event/empty-the-tanks/
LOCATION:Mediterraneo Marine Park\, WFQ5+M2\, Tul il-Kosta\, Naxxar\, Malta
CATEGORIES:Animal Rights,Press Conference,Protest / March / Demonstration
ATTACH;FMTTYPE=image/jpeg:https://mail.movimentgraffitti.org/wp-content/uploads/2023/10/empty-the-tanks-2023.jpg
END:VEVENT
BEGIN:VEVENT
DTSTART;TZID=Europe/Malta:20230517T183000
DTEND;TZID=Europe/Malta:20230517T210000
DTSTAMP:20260425T193959
CREATED:20230517T141257Z
LAST-MODIFIED:20231010T152915Z
UID:5641-1684348200-1684357200@mail.movimentgraffitti.org
SUMMARY:IDAHOBIT - Quizzes and Games
DESCRIPTION: Wednesday the 17th of May is the international day against homophobia\, transphobia and biphobia – IDAHOBIT. This is the day when we celebrate gender and sexual diversity. It is also the day when we remember that although in an increasing number of countries\, the LGBTIQ+ community is enjoying more rights\, millions in different parts of the world\, still experience discrimination\, stigma\, violence and abuse\, imprisonment\, and even death. \n On this day we are meeting at Maori\, Triq il-Lanċa\, Valletta to raise awareness about these issues as well as to have some fun. There will be quizzes\, games\, music and dance in a safe space from 6.30 pm onwards.
URL:https://mail.movimentgraffitti.org/event/idahobit-quizzes-and-games/
LOCATION:Maori Bar\, Boat Street\, Valletta\, Malta
CATEGORIES:LGBTIQ+ / Pride,Social Events
ATTACH;FMTTYPE=image/jpeg:https://mail.movimentgraffitti.org/wp-content/uploads/2023/10/idahobit-2023.jpg
END:VEVENT
BEGIN:VEVENT
DTSTART;TZID=Europe/Malta:20230520T103000
DTEND;TZID=Europe/Malta:20230520T113000
DTSTAMP:20260425T193959
CREATED:20230520T141456Z
LAST-MODIFIED:20231010T152910Z
UID:5644-1684578600-1684582200@mail.movimentgraffitti.org
SUMMARY:Konferenza Stampa - Il-Bidla li Rridu fl-Ambjent u l-Ippjanar
DESCRIPTION: Ġimgħa qabel il-protesta nazzjonali Xebbajtuna! tas-27 ta’ Mejju\, rappreżentanti ta’ komunitajiet u għaqdiet ser jindirizzaw Konferenza Stampa quddiem l-Awtorità tal-Ippjanar sabiex jispjegaw il-bidla urġenti li hawn bżonn fil-politiki tal-ippjanar\, fl-awtoritajiet responsabbli mill-ambjent u l-ippjanar u fil-mudell ekonomiku ta’ pajjiżna. \nInħeġġukom tingħaqdu magħna f’din il-Konferenza Stampa. \nNarawkom \nwww.xebbajtuna.org \n****** \n A week before the national protest Xebbajtuna! of 27 May\, representatives of communities and organisations will address a Press Conference outside the Planning Authority to explain the urgent changes needed in planning policies\, in the authorities responsible for environment and planning and in our country’s economic model. \nWe encourage you to join us in this Press Conference. \nSee you there \nwww.xebbajtuna.org
URL:https://mail.movimentgraffitti.org/event/konferenza-stampa-il-bidla-li-rridu-fl-ambjent-u-l-ippjanar/
LOCATION:Planning Authority\, St Francis Ravelin\, Floriana\, Malta
CATEGORIES:Defending Public Spaces & The Environment,Press Conference
ATTACH;FMTTYPE=image/jpeg:https://mail.movimentgraffitti.org/wp-content/uploads/2023/10/konferenza-stampa-il-bidla-li-rridu-fl-ambjent-u-l-ippjanar.jpg
END:VEVENT
BEGIN:VEVENT
DTSTART;TZID=Europe/Malta:20230525T180000
DTEND;TZID=Europe/Malta:20230525T200000
DTSTAMP:20260425T193959
CREATED:20230525T141641Z
LAST-MODIFIED:20231010T152904Z
UID:5647-1685037600-1685044800@mail.movimentgraffitti.org
SUMMARY:Xebbajtuna! Make Placards with Us
DESCRIPTION: Join us this Thursday 25th for placard-making in preparation for Saturday’s National Protest ‘Xebbajtuna! Bidla fl-Ambjent u l-Ippjanar ISSA!’ \n It’s time to unleash your creativity and make a powerful statement as we gear up to take part in the collective roar for change at the upcoming national protest. \n Our premises at 67\, Strait Street\, Valletta will be open from 6 pm on Thursday 25th! Art supplies and cardboard will be available but feel free to bring anything else you may need! \nwww.xebbajtuna.org \n****** \n Ingħaqdu magħna l-Ħamis 25 ta’ Mejju biex nagħmlu l-kartelluni għall-Protesta Nazzjonali tas-Sibt ‘Xebbajtuna! Bidla fl-Ambjent u l-Ippjanar ISSA’ \n Wasal iż-żmien li nużaw il-kreattivita tagħna sabiex insemmgħu leħen sod u nħejju ruħna għall-għajta kollettiva għall-bidla. \n Se nkunu miftuħin il-Ħamis\, 25 ta’ Mejju wara s-6pm fl-indirizz 67\, Strait Street\, Valletta! Ejjew agħmlu l-kartelluni personalizzati tagħkom. Se jiġu provduti b’xejn xi għodod tal-arti u kartun imma tistgħu ġġibu magħkom dak kollu li għandkom bżonn! \nwww.xebbajtuna.org \n#xebbajtuna27may
URL:https://mail.movimentgraffitti.org/event/xebbajtuna-make-placards-with-us/
LOCATION:Moviment Graffitti Premises\, 67\, Strait Street\, Valletta\, Malta
CATEGORIES:Defending Public Spaces & The Environment
ATTACH;FMTTYPE=image/jpeg:https://mail.movimentgraffitti.org/wp-content/uploads/2023/10/xebbajtuna-placard-making.jpg
END:VEVENT
BEGIN:VEVENT
DTSTART;TZID=Europe/Malta:20230527T103000
DTEND;TZID=Europe/Malta:20230527T120000
DTSTAMP:20260425T193959
CREATED:20230527T142102Z
LAST-MODIFIED:20231010T152858Z
UID:5652-1685183400-1685188800@mail.movimentgraffitti.org
SUMMARY:Xebbajtuna! Bidla fl-Ambjent u l-Ippjanar ISSA! - Protesta Nazzjonali
DESCRIPTION: Għaqdiet ambjentali qegħdin isejħu lill-pubbliku sabiex jipparteċipa fi protesta nazzjonali l-Belt Valletta nhar is-Sibt 27 ta’ Mejju. Il-protesta ser tibda fl-10.30 am minn ħdejn il-Funtana tat-Tritoni. \n Il-gruppi kollha\, formali u informali\, madwar Malta u Għawdex\, jistgħu jappoġġjaw din il-protesta billi jikkuntattjawna fuq info@xebbajtuna.org jew jimlew il-formola fuq dan is-sit www.xebbajtuna.org. Dawn il-gruppi jistgħu jinkludu għaqdiet mhux governattivi kif ukoll gruppi ta’ residenti\, studenti\, ħaddiema u bdiewa; kull grupp mingħajr affiljazzjoni partiġġjana b’għanijiet konformi mat-talbiet tal-protesta huwa mistieden jipparteċipa. \n Ninsabu f’sitwazzjoni ta’ emerġenza. Il-kwalità tal-ħajja u l-ambjent naturali fil-gżejjer tagħna qegħdin jiddeterjoraw b’rata mgħaġġla minħabba ferneżija ta’ bini bl-addoċċ u kullimkien. Dan kollu ma jiġix mix-xejn. Wara dan l-isfreġju ambjentali tinsab xibka magħmula minn politiċi u żviluppaturi li ħolqu sistema li sservi l-qligħ tal-ftit minflok il-ġid komuni. \n Din is-sitwazzjoni nistgħu nbiddulha biss bl-għaqda fost dawk kollha li jimpurtahom mill-ġid komuni. L-għajta tagħna ser tkun: Xebbajtuna! Bidla fl-ambjent u l-ippjanar ISSA! \n Ara t-talbiet tagħna: www.xebbajtuna.org \n———– \n Environmental organisations are calling on the public to participate in a national protest in Valletta on Saturday 27 May. The protest will start at 10.30 am from the Triton Fountain. \n All groups around Malta and Gozo\, both formal and informal\, can endorse this protest by contacting us on info@xebbajtuna.org or filling in the online form on this website www.xebbajtuna.org. Groups can include non-governmental organisations as well as residents\, students\, workers and farmers: all non-partisan groups whose aims are in line with the demands of the protest are invited to join. \n We are living a state of emergency. The quality of life and the natural environment of our islands are deteriorating rapidly due to a frenzy of reckless building everywhere. We are in this mess for one clear reason. Behind this wave of environmental destruction lies a web of politicians and developers who have created a system that serves the profit of the few instead of the common good. \n This dire situation can only change with unity among all those groups who have the common good at heart. Our battle cry will be: Enough is enough – we demand environmental and planning reform NOW! \n Read our demands: www.xebbajtuna.org
URL:https://mail.movimentgraffitti.org/event/xebbajtuna-bidla-fl-ambjent-u-l-ippjanar-issa-protesta-nazzjonali/
LOCATION:Triton Fountain\, Vjal Nelson\, Valletta\, Malta
CATEGORIES:Defending Public Spaces & The Environment,Protest / March / Demonstration
ATTACH;FMTTYPE=image/jpeg:https://mail.movimentgraffitti.org/wp-content/uploads/2023/10/xebbajtuna-protest-cover.jpg
END:VEVENT
END:VCALENDAR