BEGIN:VCALENDAR
VERSION:2.0
PRODID:-//Moviment Graffitti - ECPv6.15.20//NONSGML v1.0//EN
CALSCALE:GREGORIAN
METHOD:PUBLISH
X-ORIGINAL-URL:https://mail.movimentgraffitti.org
X-WR-CALDESC:Events for Moviment Graffitti
REFRESH-INTERVAL;VALUE=DURATION:PT1H
X-Robots-Tag:noindex
X-PUBLISHED-TTL:PT1H
BEGIN:VTIMEZONE
TZID:Europe/Malta
BEGIN:DAYLIGHT
TZOFFSETFROM:+0100
TZOFFSETTO:+0200
TZNAME:CEST
DTSTART:20220327T010000
END:DAYLIGHT
BEGIN:STANDARD
TZOFFSETFROM:+0200
TZOFFSETTO:+0100
TZNAME:CET
DTSTART:20221030T010000
END:STANDARD
BEGIN:DAYLIGHT
TZOFFSETFROM:+0100
TZOFFSETTO:+0200
TZNAME:CEST
DTSTART:20230326T010000
END:DAYLIGHT
BEGIN:STANDARD
TZOFFSETFROM:+0200
TZOFFSETTO:+0100
TZNAME:CET
DTSTART:20231029T010000
END:STANDARD
BEGIN:DAYLIGHT
TZOFFSETFROM:+0100
TZOFFSETTO:+0200
TZNAME:CEST
DTSTART:20240331T010000
END:DAYLIGHT
BEGIN:STANDARD
TZOFFSETFROM:+0200
TZOFFSETTO:+0100
TZNAME:CET
DTSTART:20241027T010000
END:STANDARD
END:VTIMEZONE
BEGIN:VEVENT
DTSTART;TZID=Europe/Malta:20230330T183000
DTEND;TZID=Europe/Malta:20230407T210000
DTSTAMP:20260425T212148
CREATED:20230330T135345Z
LAST-MODIFIED:20231010T152949Z
UID:5622-1680201000-1680901200@mail.movimentgraffitti.org
SUMMARY:Exhibition 'Like Flour' - Testimonies from Detention during the Pandemic
DESCRIPTION: ‘Like Flour’ is a project spearheaded by photojournalist Joanna Demarco. The project navigates the experiences of people who were detained in Malta’s migrant detention centres during the pandemic\, questioning and shining a light on the ways in which the inhumane treatment of one of Malta’s most vulnerable communities became worse throughout that period. \n Through testimonies\, objects\, photographs and mobile images taken by the detained asylum-seekers themselves\, the work provides a rare peephole into a world that is shrouded in secrecy. Journalists and NGOs continue to have little to no access to the detention centres to bear witness to the neglect\, making these stories a rare opportunity for the outside world to hear what the asylum-seekers went through first hand. \n The project\, which is being exhibited at Moviment Graffitti’s headquarters between Thursday 30th March and Friday 7th April\, was carried out in collaboration with aditus foundation and journalist Julian Delia. The project was supported by the National Geographic COVID-19 Emergency Fund. \n The objective of the display is to act as a platform for discussion on the topic of detention. This will be facilitated through panel discussions between stakeholders in the field of migration and detention in Malta. \n Thursday 30th March: ‘What’s going on in there?’ – Policy\, conditions and (lack of) access \n Wednesday 5th April: ‘Why am I treated like a criminal?’ – Trauma and the wellbeing of asylum-seekers in relation to detention and the asylum system in general. \nMore information on the panelists will be announced in the coming days. \n \n\nThursday 30th March 6.30pm – 9.30pm (panel discussion 8pm)\nFriday 31st March 6pm – 9pm\nSaturday 1st April 10am – 8pm\nSunday 2nd April 10am – 8pm\nMonday 3rd April 6pm – 9pm\nTuesday 4th April 6pm – 9pm\nWednesday 5th April 6pm – 9.30pm (panel discussion 8pm)\nThursday 6th April -closed-\nFriday 7th April 6pm – 9pm
URL:https://mail.movimentgraffitti.org/event/exhibition-like-flour-testimonies-from-detention-during-the-pandemic/
LOCATION:Moviment Graffitti Premises\, 67\, Strait Street\, Valletta\, Malta
CATEGORIES:Discussion / Presentation,Migration / Migrants' Rights
ATTACH;FMTTYPE=image/jpeg:https://mail.movimentgraffitti.org/wp-content/uploads/2023/10/like-flour-exhibition.jpg
END:VEVENT
BEGIN:VEVENT
DTSTART;TZID=Europe/Malta:20230422T103000
DTEND;TZID=Europe/Malta:20230422T113000
DTSTAMP:20260425T212148
CREATED:20230422T140319Z
LAST-MODIFIED:20231010T152944Z
UID:5625-1682159400-1682163000@mail.movimentgraffitti.org
SUMMARY:Vilel f'Kemmuna - X'ma Jridux Juruk il-Hili Group
DESCRIPTION:Vilel f’Kemmuna: x’ma jridux juruk il-Hili Group \n Nistednukom għal laqgħa ta’ informazzjoni dwar il-proposta ta’ Hili Group għal vilel u lukanda f’Kemmuna\, nhar is-Sibt 22 t’April fl-10.30am\, barra Dar il-Mediterran għall-Konferenzi (MCC) fil-Belt Valletta. \n F’dawn l-aħħar ġimgħat\, Hili Group intensifikaw il-kampanja ta’ relazzjonijiet pubbliċi sabiex jippruvaw itaffu r-rabja tal-poplu lejn il-proġett tagħhom f’Kemmuna. Dan għamluh b’diversi artikli u riklami fil-media li jinkludu informazzjoni u stampi qarrieqa. Għal tmiem din il-ġimgħa\, huma qegħdin saħansitra jorganizzaw wirja u preżentazzjonijiet ġewwa l-MCC sabiex jippromwovu l-binjiet li jridu jtellgħu f’Kemmuna. \n Minkejja li aħna m’għandniex għad-dispożizzjoni tagħna il-miljuni ta’ ewro li għandhom Hili Group\, nemmnu bis-sħiħ li l-pubbliku għandu dritt għal informazzjoni korretta li turi l-istampa kollha tal-pjanijiet ta’ dan l-iżviluppatur u l-impatt diżastruż tagħhom fuq l-ambjent ta’ Kemmuna u fuq it-tgawdija tal-poplu ta’ din ir-riserva naturali. \n Għalhekk inħeġġukom tattendu għal din il-laqgħa fejn ser nispjegaw\, permezz ta’ informazzjoni u grafika\, l-aspetti differenti marbuta mal-proġett ta’ Hili Group. \n Il-pjanijiet ta’ Hili Group bħalissa qegħdin jistennew l-approvazzjoni mill-Awtorità tal-Ippjanar. Eluf ta’ persuni ssottomettew l-oġġezzjoni għal dawn il-pjanijiet u l-għaqdiet ambjentali wissew li l-ġlieda kontra din l-oxxenità ambjentali ser tiħrax jekk Hili Group ma jirtirawhomx. \nNarawkom is-Sibt \n****** \nVillas in Comino: What Hili Group would not like you to see \n We invite you to an information meeting regarding the proposal of Hili Group for villas and a hotel in Comino\, this Saturday 22nd April at 10.30am\, outside the Mediterranean Conference Centre (MCC) in Valletta. \n Over the past few weeks\, Hili Group intensified their public relations campaign in an attempt to placate the anger of the public at their project in Comino. They did this through a number of articles and advertisements on the media which include deceptive information and pictures. During the weekend\, they are even organising an exhibition and a presentation at the MCC in order to promote the project that they want to build in Comino. \n Although we do not have the millions of euros of Hili Group at our disposal\, we strongly believe that the public has a right to accurate information that gives the whole picture of the plans of this developer and their disastrous impact on Comino’s environment and on the public’s enjoyment of this natural reserve. \n Therefore\, we encourage you to attend this meeting where we will explain\, through information and graphics\, the different aspects linked to the project of Hili Group. \n The plans of Hili Group are currently awaiting the approval of the Planning Authority. Thousands of people submitted objections against these plans and environmental organisations have warned that the fight against this environmental obscenity will escalate if Hili Group will not have them withdrawn. \nSee you on Saturday
URL:https://mail.movimentgraffitti.org/event/vilel-fkemmuna-xma-jridux-juruk-il-hili-group/
LOCATION:Mediterranean Conference Centre\, Dar il-Mediterran\, St Elmo Place\, Valletta\, Malta
CATEGORIES:Anti-Capitalism / A Just Economy,Defending Public Spaces & The Environment,Protest / March / Demonstration
ATTACH;FMTTYPE=image/jpeg:https://mail.movimentgraffitti.org/wp-content/uploads/2023/10/vilel-f-kemmuna-x-ma-jridux-juruk-hili.jpg
END:VEVENT
BEGIN:VEVENT
DTSTART;TZID=Europe/Malta:20230426T183000
DTEND;TZID=Europe/Malta:20230426T210000
DTSTAMP:20260425T212148
CREATED:20230426T140555Z
LAST-MODIFIED:20231010T152938Z
UID:5629-1682533800-1682542800@mail.movimentgraffitti.org
SUMMARY:Lesbian Visibility Evening - Community Discussion and Short Documentary Screening
DESCRIPTION: For Lesbian Visibility Day\, MGRM and Moviment Graffitti are teaming up for a screening of the 30 minute long documentary ‘Marielle & Monica’ and a community discussion. \n The documentary follows Monica Benicio’s involvement in the campaign opposing Brazil’s former far-right president Jair Bolsanaro\, 7 months after the assassination of her partner and fellow human rights activist Marielle Franco. \n Following the documentary\, we will be holding an open discussion on lesbian visibility\, over-sexualisation and other themes. \n Snacks will be provided\, and refreshments will be available. \n Doors open at 6:30pm \n 67 Strait Street\, Valletta
URL:https://mail.movimentgraffitti.org/event/lesbian-visibility-evening-community-discussion-and-short-documentary-screening/
LOCATION:Moviment Graffitti Premises\, 67\, Strait Street\, Valletta\, Malta
CATEGORIES:Discussion / Presentation,LGBTIQ+ / Pride
ATTACH;FMTTYPE=image/jpeg:https://mail.movimentgraffitti.org/wp-content/uploads/2023/10/lesbian-visibility-evening.jpg
END:VEVENT
BEGIN:VEVENT
DTSTART;TZID=Europe/Malta:20230430T200000
DTEND;TZID=Europe/Malta:20230501T000000
DTSTAMP:20260425T212148
CREATED:20230430T140741Z
LAST-MODIFIED:20231010T152933Z
UID:5632-1682884800-1682899200@mail.movimentgraffitti.org
SUMMARY:Studenti Graffitti Goes Tipsy Tombla
DESCRIPTION: Join us for a night of laughs\, drinks and bingo at The Anvil Pub! \n Every line gets a free shot\, every house gets a free drink and a twist revealed on the day will give you the chance to win a tote bag filled with goodies. You won’t want to miss it! \n Sign up for free via this form: bit.ly/mgtombla \nSee you there \n——- \n Ingħaqdu magħna għal lejl ta daħk\, xorb u tombla l-Anvil Pub! \n Ma’ kull linja tirbaħ grokk\, ma’ kull house tirbaħ drink\, u b’sorpriża li se niżvelaw dakinhar se tkun biċ-ċans li tirbaħ tote bag mimli rigali. Mhux ta’ min jitlifha! \n Irreġistra b’xejn minn din il-formola: bit.ly/mgtombla \nNarawkom hemm
URL:https://mail.movimentgraffitti.org/event/studenti-graffitti-goes-tipsy-tombla-2023/
LOCATION:The Anvil Pub\, Triq L. Apap\, St Julians\, Malta
CATEGORIES:Social Events,Studenti Graffitti
ATTACH;FMTTYPE=image/jpeg:https://mail.movimentgraffitti.org/wp-content/uploads/2023/10/studenti-graffitti-goes-tipsy-tombla-2023.jpg
END:VEVENT
END:VCALENDAR