BEGIN:VCALENDAR
VERSION:2.0
PRODID:-//Moviment Graffitti - ECPv6.15.20//NONSGML v1.0//EN
CALSCALE:GREGORIAN
METHOD:PUBLISH
X-WR-CALNAME:Moviment Graffitti
X-ORIGINAL-URL:https://mail.movimentgraffitti.org
X-WR-CALDESC:Events for Moviment Graffitti
REFRESH-INTERVAL;VALUE=DURATION:PT1H
X-Robots-Tag:noindex
X-PUBLISHED-TTL:PT1H
BEGIN:VTIMEZONE
TZID:Europe/Malta
BEGIN:DAYLIGHT
TZOFFSETFROM:+0100
TZOFFSETTO:+0200
TZNAME:CEST
DTSTART:20170326T010000
END:DAYLIGHT
BEGIN:STANDARD
TZOFFSETFROM:+0200
TZOFFSETTO:+0100
TZNAME:CET
DTSTART:20171029T010000
END:STANDARD
BEGIN:DAYLIGHT
TZOFFSETFROM:+0100
TZOFFSETTO:+0200
TZNAME:CEST
DTSTART:20180325T010000
END:DAYLIGHT
BEGIN:STANDARD
TZOFFSETFROM:+0200
TZOFFSETTO:+0100
TZNAME:CET
DTSTART:20181028T010000
END:STANDARD
BEGIN:DAYLIGHT
TZOFFSETFROM:+0100
TZOFFSETTO:+0200
TZNAME:CEST
DTSTART:20190331T010000
END:DAYLIGHT
BEGIN:STANDARD
TZOFFSETFROM:+0200
TZOFFSETTO:+0100
TZNAME:CET
DTSTART:20191027T010000
END:STANDARD
END:VTIMEZONE
BEGIN:VEVENT
DTSTART;TZID=Europe/Malta:20180110T200000
DTEND;TZID=Europe/Malta:20180110T230000
DTSTAMP:20260425T174611
CREATED:20180110T085759Z
LAST-MODIFIED:20231010T155022Z
UID:3945-1515614400-1515625200@mail.movimentgraffitti.org
SUMMARY:Screening - The Wanted 18
DESCRIPTION:Opening their residency at the Film Klub\, Moviment Graffitti kindly introduce us to one of the strangest chapters in the history of the Israeli-Palestinian conflict. \nIt’s 1987\, and the first Palestinian popular movement in the West Bank is rising. Residents want local alternatives to Israeli goods\, including milk\, which they’ve been buying from an Israeli company. And so begins the strange story of the 18 cows. \nAcclaimed Palestinian artist Amer Shomali\, who illustrated The Wanted 18 and co-directed it with veteran Canadian director Paul Cowan\, watched the Intifada unfold as a teenager\, from the Syrian refugee camp where he grew up. His family was from Beit Sahour\, a town he knew only from family stories and news reports on TV. And then he read a comic book about the cows\, depicting them as sassy bovines who see absurdity all around them.
URL:https://mail.movimentgraffitti.org/event/screening-the-wanted-18/
LOCATION:The Royal British Legion Bar Malta\, 111 Melita Street\, Valletta\, Malta
CATEGORIES:Discussion / Presentation
ATTACH;FMTTYPE=image/jpeg:https://mail.movimentgraffitti.org/wp-content/uploads/2023/09/k6omKdVCu11-wh7kr3.tmp_.jpg
END:VEVENT
END:VCALENDAR