BEGIN:VCALENDAR
VERSION:2.0
PRODID:-//Moviment Graffitti - ECPv6.15.20//NONSGML v1.0//EN
CALSCALE:GREGORIAN
METHOD:PUBLISH
X-WR-CALNAME:Moviment Graffitti
X-ORIGINAL-URL:https://mail.movimentgraffitti.org
X-WR-CALDESC:Events for Moviment Graffitti
REFRESH-INTERVAL;VALUE=DURATION:PT1H
X-Robots-Tag:noindex
X-PUBLISHED-TTL:PT1H
BEGIN:VTIMEZONE
TZID:Europe/Malta
BEGIN:DAYLIGHT
TZOFFSETFROM:+0100
TZOFFSETTO:+0200
TZNAME:CEST
DTSTART:20250330T010000
END:DAYLIGHT
BEGIN:STANDARD
TZOFFSETFROM:+0200
TZOFFSETTO:+0100
TZNAME:CET
DTSTART:20251026T010000
END:STANDARD
BEGIN:DAYLIGHT
TZOFFSETFROM:+0100
TZOFFSETTO:+0200
TZNAME:CEST
DTSTART:20260329T010000
END:DAYLIGHT
BEGIN:STANDARD
TZOFFSETFROM:+0200
TZOFFSETTO:+0100
TZNAME:CET
DTSTART:20261025T010000
END:STANDARD
BEGIN:DAYLIGHT
TZOFFSETFROM:+0100
TZOFFSETTO:+0200
TZNAME:CEST
DTSTART:20270328T010000
END:DAYLIGHT
BEGIN:STANDARD
TZOFFSETFROM:+0200
TZOFFSETTO:+0100
TZNAME:CET
DTSTART:20271031T010000
END:STANDARD
END:VTIMEZONE
BEGIN:VEVENT
DTSTART;TZID=Europe/Malta:20260426T170000
DTEND;TZID=Europe/Malta:20260426T200000
DTSTAMP:20260426T015030
CREATED:20260417T111843Z
LAST-MODIFIED:20260417T111907Z
UID:8517-1777222800-1777233600@mail.movimentgraffitti.org
SUMMARY:Keychain Workshop for Lesbian Visibility Day
DESCRIPTION:*** REGISTRATIONS CLOSED *** \nLesbians\, sapphics\, and allies are invited to join us on Sunday the 26th of April for our carabiner accessory making workshop to celebrate lesbian visibility day! Whether you’re an experienced crafter or completely new\, we invite you to join us for a fun night of crafting and community! \nThe event will start off with a talk about the carabiner’s origin in queer fashion history\, then the workshop facilitated by Tiana\, who will give a demonstration on how to create girl scouts inspired rope keychains which can be used as accessories or keychains for your carabiners. \nWe will provide the materials needed for making the accessories. \nTo mark your attendance and make sure that you are provided with the materials needed please fill in this form: https://docs.google.com/…/1FAIpQLSeMrfu0ZGJ…/viewform… \nThere will be snacks and drinks provided at the event but feel free to bring your own. The event is free of charge but donations are appreciated. \nAccessibility is restricted for people with mobility issues – however\, get in touch with us\, and we will help you up the stairs.
URL:https://mail.movimentgraffitti.org/event/keychain-workshop-lesbian-visibility-day/
LOCATION:Moviment Graffitti Premises\, 67\, Strait Street\, Valletta\, Malta
CATEGORIES:LGBTIQ+ / Pride,Social Events
ATTACH;FMTTYPE=image/jpeg:https://mail.movimentgraffitti.org/wp-content/uploads/2026/04/keychain-workshop-lesbians.jpg
END:VEVENT
END:VCALENDAR