BEGIN:VCALENDAR
VERSION:2.0
PRODID:-//Moviment Graffitti - ECPv6.15.20//NONSGML v1.0//EN
CALSCALE:GREGORIAN
METHOD:PUBLISH
X-WR-CALNAME:Moviment Graffitti
X-ORIGINAL-URL:https://mail.movimentgraffitti.org
X-WR-CALDESC:Events for Moviment Graffitti
REFRESH-INTERVAL;VALUE=DURATION:PT1H
X-Robots-Tag:noindex
X-PUBLISHED-TTL:PT1H
BEGIN:VTIMEZONE
TZID:Europe/Malta
BEGIN:DAYLIGHT
TZOFFSETFROM:+0100
TZOFFSETTO:+0200
TZNAME:CEST
DTSTART:20250330T010000
END:DAYLIGHT
BEGIN:STANDARD
TZOFFSETFROM:+0200
TZOFFSETTO:+0100
TZNAME:CET
DTSTART:20251026T010000
END:STANDARD
BEGIN:DAYLIGHT
TZOFFSETFROM:+0100
TZOFFSETTO:+0200
TZNAME:CEST
DTSTART:20260329T010000
END:DAYLIGHT
BEGIN:STANDARD
TZOFFSETFROM:+0200
TZOFFSETTO:+0100
TZNAME:CET
DTSTART:20261025T010000
END:STANDARD
BEGIN:DAYLIGHT
TZOFFSETFROM:+0100
TZOFFSETTO:+0200
TZNAME:CEST
DTSTART:20270328T010000
END:DAYLIGHT
BEGIN:STANDARD
TZOFFSETFROM:+0200
TZOFFSETTO:+0100
TZNAME:CET
DTSTART:20271031T010000
END:STANDARD
END:VTIMEZONE
BEGIN:VEVENT
DTSTART;TZID=Europe/Malta:20260424T190000
DTEND;TZID=Europe/Malta:20260424T210000
DTSTAMP:20260424T022123
CREATED:20260417T111736Z
LAST-MODIFIED:20260417T111736Z
UID:8515-1777057200-1777064400@mail.movimentgraffitti.org
SUMMARY:Italian Resistance Songs - Workshop
DESCRIPTION:Join the Kor Re-Sisters for a couple of hours on Friday 24th April at 7pm to learn and practise some Italian Resistance songs together. We will meet at 67 Strait Street\, Valletta. \nNo previous singing experience is required. We aim to create an encouraging\, informal\, and social space of collective singing and shared struggle. \nWe will learn well-known songs such as Bella Ciao and Fischia il Vento\, as well as other Italian Resistance\, partisan\, and antifascist songs. \nWe will also sing the songs again together on Saturday 25th April (Italian Liberation Day) at around 6pm: https://www.facebook.com/events/3006777673045731 \nLyrics will be provided. \nPlease note that the location has stairs.
URL:https://mail.movimentgraffitti.org/event/italian-resistance-songs-workshop/
LOCATION:Moviment Graffitti Premises\, 67\, Strait Street\, Valletta\, Malta
CATEGORIES:International Solidarity,Social Events
ATTACH;FMTTYPE=image/jpeg:https://mail.movimentgraffitti.org/wp-content/uploads/2026/04/italian-resistance-songs-workshop.jpg
END:VEVENT
END:VCALENDAR